| Back to Multiple platform build/check report for BioC 3.16: simplified long |
|
This page was generated on 2023-04-12 11:05:49 -0400 (Wed, 12 Apr 2023).
| Hostname | OS | Arch (*) | R version | Installed pkgs |
|---|---|---|---|---|
| nebbiolo2 | Linux (Ubuntu 20.04.5 LTS) | x86_64 | 4.2.3 (2023-03-15) -- "Shortstop Beagle" | 4502 |
| palomino4 | Windows Server 2022 Datacenter | x64 | 4.2.3 (2023-03-15 ucrt) -- "Shortstop Beagle" | 4282 |
| lconway | macOS 12.5.1 Monterey | x86_64 | 4.2.3 (2023-03-15) -- "Shortstop Beagle" | 4310 |
| Click on any hostname to see more info about the system (e.g. compilers) (*) as reported by 'uname -p', except on Windows and Mac OS X | ||||
|
To the developers/maintainers of the rsbml package: - Please allow up to 24 hours (and sometimes 48 hours) for your latest push to git@git.bioconductor.org:packages/rsbml.git to reflect on this report. See How and When does the builder pull? When will my changes propagate? for more information. - Make sure to use the following settings in order to reproduce any error or warning you see on this page. |
| Package 1733/2183 | Hostname | OS / Arch | INSTALL | BUILD | CHECK | BUILD BIN | ||||||||
| rsbml 2.56.0 (landing page) Michael Lawrence
| nebbiolo2 | Linux (Ubuntu 20.04.5 LTS) / x86_64 | OK | OK | WARNINGS | |||||||||
| palomino4 | Windows Server 2022 Datacenter / x64 | OK | OK | WARNINGS | OK | |||||||||
| lconway | macOS 12.5.1 Monterey / x86_64 | ... NOT SUPPORTED ... | ||||||||||||
| Package: rsbml |
| Version: 2.56.0 |
| Command: rm -rf rsbml.buildbin-libdir && mkdir rsbml.buildbin-libdir && F:\biocbuild\bbs-3.16-bioc\R\bin\R.exe CMD INSTALL --build --library=rsbml.buildbin-libdir rsbml_2.56.0.tar.gz |
| StartedAt: 2023-04-11 08:41:37 -0400 (Tue, 11 Apr 2023) |
| EndedAt: 2023-04-11 08:42:57 -0400 (Tue, 11 Apr 2023) |
| EllapsedTime: 80.1 seconds |
| RetCode: 0 |
| Status: OK |
| PackageFile: rsbml_2.56.0.zip |
| PackageFileSize: 6.792 MiB |
##############################################################################
##############################################################################
###
### Running command:
###
### rm -rf rsbml.buildbin-libdir && mkdir rsbml.buildbin-libdir && F:\biocbuild\bbs-3.16-bioc\R\bin\R.exe CMD INSTALL --build --library=rsbml.buildbin-libdir rsbml_2.56.0.tar.gz
###
##############################################################################
##############################################################################
* installing *source* package 'rsbml' ...
** using staged installation
**********************************************
WARNING: this package has a configure script
It probably needs manual configuration
**********************************************
** libs
gcc -I"F:/biocbuild/bbs-3.16-bioc/R/include" -DNDEBUG -D_R_=1 -DUSE_R=1 -IC:/libsbml/x64/include -IC:/libsbml/x64/include/expat -IF:/biocbuild/bbs-3.16-bioc/R/include -DLIBSBML3 -I"C:/rtools42/x86_64-w64-mingw32.static.posix/include" -O2 -Wall -std=gnu99 -mfpmath=sse -msse2 -mstackrealign -c StringMap.c -o StringMap.o
In file included from C:/libsbml/x64/include/sbml/common/common.h:117,
from StringMap.c:52:
C:/libsbml/x64/include/sbml/util/util.h:369:7: warning: 'finite' redeclared without dllimport attribute: previous dllimport ignored [-Wattributes]
369 | int finite (double d);
| ^~~~~~
gcc -I"F:/biocbuild/bbs-3.16-bioc/R/include" -DNDEBUG -D_R_=1 -DUSE_R=1 -IC:/libsbml/x64/include -IC:/libsbml/x64/include/expat -IF:/biocbuild/bbs-3.16-bioc/R/include -DLIBSBML3 -I"C:/rtools42/x86_64-w64-mingw32.static.posix/include" -O2 -Wall -std=gnu99 -mfpmath=sse -msse2 -mstackrealign -c check.c -o check.o
gcc -I"F:/biocbuild/bbs-3.16-bioc/R/include" -DNDEBUG -D_R_=1 -DUSE_R=1 -IC:/libsbml/x64/include -IC:/libsbml/x64/include/expat -IF:/biocbuild/bbs-3.16-bioc/R/include -DLIBSBML3 -I"C:/rtools42/x86_64-w64-mingw32.static.posix/include" -O2 -Wall -std=gnu99 -mfpmath=sse -msse2 -mstackrealign -c doc.c -o doc.o
gcc -I"F:/biocbuild/bbs-3.16-bioc/R/include" -DNDEBUG -D_R_=1 -DUSE_R=1 -IC:/libsbml/x64/include -IC:/libsbml/x64/include/expat -IF:/biocbuild/bbs-3.16-bioc/R/include -DLIBSBML3 -I"C:/rtools42/x86_64-w64-mingw32.static.posix/include" -O2 -Wall -std=gnu99 -mfpmath=sse -msse2 -mstackrealign -c dom.c -o dom.o
gcc -I"F:/biocbuild/bbs-3.16-bioc/R/include" -DNDEBUG -D_R_=1 -DUSE_R=1 -IC:/libsbml/x64/include -IC:/libsbml/x64/include/expat -IF:/biocbuild/bbs-3.16-bioc/R/include -DLIBSBML3 -I"C:/rtools42/x86_64-w64-mingw32.static.posix/include" -O2 -Wall -std=gnu99 -mfpmath=sse -msse2 -mstackrealign -c graph.c -o graph.o
graph.c: In function 'rsbml_build_graph':
graph.c:55:57: warning: cast to pointer from integer of different size [-Wint-to-pointer-cast]
55 | StringMap_put(id_map, CHAR(STRING_ELT(r_nodes, i)), (void *)i);
| ^
gcc -I"F:/biocbuild/bbs-3.16-bioc/R/include" -DNDEBUG -D_R_=1 -DUSE_R=1 -IC:/libsbml/x64/include -IC:/libsbml/x64/include/expat -IF:/biocbuild/bbs-3.16-bioc/R/include -DLIBSBML3 -I"C:/rtools42/x86_64-w64-mingw32.static.posix/include" -O2 -Wall -std=gnu99 -mfpmath=sse -msse2 -mstackrealign -c init.c -o init.o
gcc -I"F:/biocbuild/bbs-3.16-bioc/R/include" -DNDEBUG -D_R_=1 -DUSE_R=1 -IC:/libsbml/x64/include -IC:/libsbml/x64/include/expat -IF:/biocbuild/bbs-3.16-bioc/R/include -DLIBSBML3 -I"C:/rtools42/x86_64-w64-mingw32.static.posix/include" -O2 -Wall -std=gnu99 -mfpmath=sse -msse2 -mstackrealign -c io.c -o io.o
g++ -std=gnu++14 -I"F:/biocbuild/bbs-3.16-bioc/R/include" -DNDEBUG -D_R_=1 -DUSE_R=1 -IC:/libsbml/x64/include -IC:/libsbml/x64/include/expat -IF:/biocbuild/bbs-3.16-bioc/R/include -DLIBSBML3 -I"C:/rtools42/x86_64-w64-mingw32.static.posix/include" -O2 -Wall -mfpmath=sse -msse2 -mstackrealign -c layoutWrappers.cpp -o layoutWrappers.o
gcc -I"F:/biocbuild/bbs-3.16-bioc/R/include" -DNDEBUG -D_R_=1 -DUSE_R=1 -IC:/libsbml/x64/include -IC:/libsbml/x64/include/expat -IF:/biocbuild/bbs-3.16-bioc/R/include -DLIBSBML3 -I"C:/rtools42/x86_64-w64-mingw32.static.posix/include" -O2 -Wall -std=gnu99 -mfpmath=sse -msse2 -mstackrealign -c mathml.c -o mathml.o
gcc -I"F:/biocbuild/bbs-3.16-bioc/R/include" -DNDEBUG -D_R_=1 -DUSE_R=1 -IC:/libsbml/x64/include -IC:/libsbml/x64/include/expat -IF:/biocbuild/bbs-3.16-bioc/R/include -DLIBSBML3 -I"C:/rtools42/x86_64-w64-mingw32.static.posix/include" -O2 -Wall -std=gnu99 -mfpmath=sse -msse2 -mstackrealign -c simulate.c -o simulate.o
g++ -std=gnu++14 -shared -s -static-libgcc -o rsbml.dll tmp.def StringMap.o check.o doc.o dom.o graph.o init.o io.o layoutWrappers.o mathml.o simulate.o -LC:/libsbml/x64/bin -lsbml -LC:/rtools42/x86_64-w64-mingw32.static.posix/lib/x64 -LC:/rtools42/x86_64-w64-mingw32.static.posix/lib -LF:/biocbuild/bbs-3.16-bioc/R/bin/x64 -lR
mkdir -p F:/biocbuild/bbs-3.16-bioc/meat/rsbml.buildbin-libdir/00LOCK-rsbml/00new/rsbml/libs/x64
cp C:/libsbml/x64/bin/*.dll F:/biocbuild/bbs-3.16-bioc/meat/rsbml.buildbin-libdir/00LOCK-rsbml/00new/rsbml/libs//x64
installing to F:/biocbuild/bbs-3.16-bioc/meat/rsbml.buildbin-libdir/00LOCK-rsbml/00new/rsbml/libs/x64
** R
** inst
** byte-compile and prepare package for lazy loading
** help
*** installing help indices
** building package indices
** installing vignettes
** testing if installed package can be loaded from temporary location
** testing if installed package can be loaded from final location
** testing if installed package keeps a record of temporary installation path
* MD5 sums
packaged installation of 'rsbml' as rsbml_2.56.0.zip
* DONE (rsbml)