| Back to Multiple platform build/check report for BioC 3.16: simplified long |
|
This page was generated on 2023-04-12 11:05:49 -0400 (Wed, 12 Apr 2023).
| Hostname | OS | Arch (*) | R version | Installed pkgs |
|---|---|---|---|---|
| nebbiolo2 | Linux (Ubuntu 20.04.5 LTS) | x86_64 | 4.2.3 (2023-03-15) -- "Shortstop Beagle" | 4502 |
| palomino4 | Windows Server 2022 Datacenter | x64 | 4.2.3 (2023-03-15 ucrt) -- "Shortstop Beagle" | 4282 |
| lconway | macOS 12.5.1 Monterey | x86_64 | 4.2.3 (2023-03-15) -- "Shortstop Beagle" | 4310 |
| Click on any hostname to see more info about the system (e.g. compilers) (*) as reported by 'uname -p', except on Windows and Mac OS X | ||||
|
To the developers/maintainers of the rnaseqcomp package: - Please allow up to 24 hours (and sometimes 48 hours) for your latest push to git@git.bioconductor.org:packages/rnaseqcomp.git to reflect on this report. See How and When does the builder pull? When will my changes propagate? for more information. - Make sure to use the following settings in order to reproduce any error or warning you see on this page. |
| Package 1707/2183 | Hostname | OS / Arch | INSTALL | BUILD | CHECK | BUILD BIN | ||||||||
| rnaseqcomp 1.28.0 (landing page) Mingxiang Teng
| nebbiolo2 | Linux (Ubuntu 20.04.5 LTS) / x86_64 | OK | OK | OK | |||||||||
| palomino4 | Windows Server 2022 Datacenter / x64 | OK | OK | OK | OK | |||||||||
| lconway | macOS 12.5.1 Monterey / x86_64 | OK | OK | OK | OK | |||||||||
| Package: rnaseqcomp |
| Version: 1.28.0 |
| Command: F:\biocbuild\bbs-3.16-bioc\R\bin\R.exe CMD check --no-multiarch --install=check:rnaseqcomp.install-out.txt --library=F:\biocbuild\bbs-3.16-bioc\R\library --no-vignettes --timings rnaseqcomp_1.28.0.tar.gz |
| StartedAt: 2023-04-11 05:21:52 -0400 (Tue, 11 Apr 2023) |
| EndedAt: 2023-04-11 05:22:39 -0400 (Tue, 11 Apr 2023) |
| EllapsedTime: 46.6 seconds |
| RetCode: 0 |
| Status: OK |
| CheckDir: rnaseqcomp.Rcheck |
| Warnings: 0 |
##############################################################################
##############################################################################
###
### Running command:
###
### F:\biocbuild\bbs-3.16-bioc\R\bin\R.exe CMD check --no-multiarch --install=check:rnaseqcomp.install-out.txt --library=F:\biocbuild\bbs-3.16-bioc\R\library --no-vignettes --timings rnaseqcomp_1.28.0.tar.gz
###
##############################################################################
##############################################################################
* using log directory 'F:/biocbuild/bbs-3.16-bioc/meat/rnaseqcomp.Rcheck'
* using R version 4.2.3 (2023-03-15 ucrt)
* using platform: x86_64-w64-mingw32 (64-bit)
* using session charset: UTF-8
* using option '--no-vignettes'
* checking for file 'rnaseqcomp/DESCRIPTION' ... OK
* this is package 'rnaseqcomp' version '1.28.0'
* checking package namespace information ... OK
* checking package dependencies ... OK
* checking if this is a source package ... OK
* checking if there is a namespace ... OK
* checking for hidden files and directories ... OK
* checking for portable file names ... OK
* checking whether package 'rnaseqcomp' can be installed ... OK
* checking installed package size ... OK
* checking package directory ... OK
* checking 'build' directory ... OK
* checking DESCRIPTION meta-information ... OK
* checking top-level files ... OK
* checking for left-over files ... OK
* checking index information ... OK
* checking package subdirectories ... OK
* checking R files for non-ASCII characters ... OK
* checking R files for syntax errors ... OK
* checking whether the package can be loaded ... OK
* checking whether the package can be loaded with stated dependencies ... OK
* checking whether the package can be unloaded cleanly ... OK
* checking whether the namespace can be loaded with stated dependencies ... OK
* checking whether the namespace can be unloaded cleanly ... OK
* checking dependencies in R code ... OK
* checking S3 generic/method consistency ... OK
* checking replacement functions ... OK
* checking foreign function calls ... OK
* checking R code for possible problems ... NOTE
plot2TX: no visible global function definition for 'lines'
plot2TX: no visible global function definition for 'box'
plot2TX: no visible global function definition for 'legend'
plot2TX : <anonymous>: no visible binding for global variable 'sd'
plot2TX : <anonymous>: no visible global function definition for 'sd'
plotFC: no visible global function definition for 'loess.smooth'
plotFC: no visible global function definition for 'lines'
plotFC: no visible global function definition for 'legend'
plotFC : <anonymous>: no visible global function definition for
'median'
plotFC : <anonymous>: no visible global function definition for 'sd'
plotNE: no visible global function definition for 'lines'
plotNE: no visible global function definition for 'points'
plotNE: no visible global function definition for 'box'
plotNE: no visible global function definition for 'legend'
plotROC: no visible global function definition for 'median'
plotROC: no visible global function definition for 'sd'
plotROC: no visible global function definition for 'lines'
plotROC: no visible global function definition for 'arrows'
plotROC: no visible global function definition for 'abline'
plotROC: no visible global function definition for 'legend'
plotSD : <anonymous>: no visible binding for global variable 'sd'
plotSD: no visible global function definition for 'loess.smooth'
plotSD: no visible global function definition for 'lines'
plotSD: no visible global function definition for 'box'
plotSD: no visible global function definition for 'legend'
plotSD : <anonymous> : <anonymous>: no visible global function
definition for 'median'
plotSD : <anonymous> : <anonymous>: no visible global function
definition for 'mad'
signalCalibrate : <anonymous>: no visible binding for global variable
'median'
signalCalibrate: no visible global function definition for 'median'
Undefined global functions or variables:
abline arrows box legend lines loess.smooth mad median points sd
Consider adding
importFrom("graphics", "abline", "arrows", "box", "legend", "lines",
"points")
importFrom("stats", "loess.smooth", "mad", "median", "sd")
to your NAMESPACE file.
* checking Rd files ... OK
* checking Rd metadata ... OK
* checking Rd cross-references ... OK
* checking for missing documentation entries ... OK
* checking for code/documentation mismatches ... OK
* checking Rd \usage sections ... OK
* checking Rd contents ... OK
* checking for unstated dependencies in examples ... OK
* checking contents of 'data' directory ... OK
* checking data for non-ASCII characters ... OK
* checking data for ASCII and uncompressed saves ... OK
* checking files in 'vignettes' ... OK
* checking examples ... OK
Examples with CPU (user + system) or elapsed time > 5s
user system elapsed
plotROC 7.5 3.7 11.21
* checking for unstated dependencies in vignettes ... OK
* checking package vignettes in 'inst/doc' ... OK
* checking running R code from vignettes ... SKIPPED
* checking re-building of vignette outputs ... SKIPPED
* checking PDF version of manual ... OK
* DONE
Status: 1 NOTE
See
'F:/biocbuild/bbs-3.16-bioc/meat/rnaseqcomp.Rcheck/00check.log'
for details.
rnaseqcomp.Rcheck/00install.out
############################################################################## ############################################################################## ### ### Running command: ### ### F:\biocbuild\bbs-3.16-bioc\R\bin\R.exe CMD INSTALL rnaseqcomp ### ############################################################################## ############################################################################## * installing to library 'F:/biocbuild/bbs-3.16-bioc/R/library' * installing *source* package 'rnaseqcomp' ... ** using staged installation ** R ** data ** inst ** byte-compile and prepare package for lazy loading ** help *** installing help indices ** building package indices ** installing vignettes ** testing if installed package can be loaded from temporary location ** testing if installed package can be loaded from final location ** testing if installed package keeps a record of temporary installation path * DONE (rnaseqcomp)
rnaseqcomp.Rcheck/rnaseqcomp-Ex.timings
| name | user | system | elapsed | |
| plot2TX | 0.44 | 0.06 | 0.50 | |
| plotFC | 0.25 | 0.06 | 0.31 | |
| plotNE | 2.80 | 1.22 | 4.01 | |
| plotROC | 7.50 | 3.70 | 11.21 | |
| plotSD | 1.11 | 0.08 | 1.19 | |
| signalCalibrate | 0.22 | 0.00 | 0.21 | |