| Back to Multiple platform build/check report for BioC 3.16: simplified long |
|
This page was generated on 2023-04-12 11:06:23 -0400 (Wed, 12 Apr 2023).
| Hostname | OS | Arch (*) | R version | Installed pkgs |
|---|---|---|---|---|
| nebbiolo2 | Linux (Ubuntu 20.04.5 LTS) | x86_64 | 4.2.3 (2023-03-15) -- "Shortstop Beagle" | 4502 |
| palomino4 | Windows Server 2022 Datacenter | x64 | 4.2.3 (2023-03-15 ucrt) -- "Shortstop Beagle" | 4282 |
| lconway | macOS 12.5.1 Monterey | x86_64 | 4.2.3 (2023-03-15) -- "Shortstop Beagle" | 4310 |
| Click on any hostname to see more info about the system (e.g. compilers) (*) as reported by 'uname -p', except on Windows and Mac OS X | ||||
|
To the developers/maintainers of the ribor package: - Please allow up to 24 hours (and sometimes 48 hours) for your latest push to git@git.bioconductor.org:packages/ribor.git to reflect on this report. See How and When does the builder pull? When will my changes propagate? for more information. - Make sure to use the following settings in order to reproduce any error or warning you see on this page. |
| Package 1679/2183 | Hostname | OS / Arch | INSTALL | BUILD | CHECK | BUILD BIN | ||||||||
| ribor 1.10.0 (landing page) Michael Geng
| nebbiolo2 | Linux (Ubuntu 20.04.5 LTS) / x86_64 | OK | OK | OK | |||||||||
| palomino4 | Windows Server 2022 Datacenter / x64 | OK | OK | OK | OK | |||||||||
| lconway | macOS 12.5.1 Monterey / x86_64 | OK | OK | OK | OK | |||||||||
| Package: ribor |
| Version: 1.10.0 |
| Command: /Library/Frameworks/R.framework/Resources/bin/R CMD check --install=check:ribor.install-out.txt --library=/Library/Frameworks/R.framework/Resources/library --no-vignettes --timings ribor_1.10.0.tar.gz |
| StartedAt: 2023-04-10 22:14:43 -0400 (Mon, 10 Apr 2023) |
| EndedAt: 2023-04-10 22:16:13 -0400 (Mon, 10 Apr 2023) |
| EllapsedTime: 90.0 seconds |
| RetCode: 0 |
| Status: OK |
| CheckDir: ribor.Rcheck |
| Warnings: 0 |
##############################################################################
##############################################################################
###
### Running command:
###
### /Library/Frameworks/R.framework/Resources/bin/R CMD check --install=check:ribor.install-out.txt --library=/Library/Frameworks/R.framework/Resources/library --no-vignettes --timings ribor_1.10.0.tar.gz
###
##############################################################################
##############################################################################
* using log directory ‘/Users/biocbuild/bbs-3.16-bioc/meat/ribor.Rcheck’
* using R version 4.2.3 (2023-03-15)
* using platform: x86_64-apple-darwin17.0 (64-bit)
* using session charset: UTF-8
* using option ‘--no-vignettes’
* checking for file ‘ribor/DESCRIPTION’ ... OK
* this is package ‘ribor’ version ‘1.10.0’
* package encoding: UTF-8
* checking package namespace information ... OK
* checking package dependencies ... OK
* checking if this is a source package ... OK
* checking if there is a namespace ... OK
* checking for hidden files and directories ... NOTE
Found the following hidden files and directories:
.travis.yml
These were most likely included in error. See section ‘Package
structure’ in the ‘Writing R Extensions’ manual.
* checking for portable file names ... OK
* checking for sufficient/correct file permissions ... OK
* checking whether package ‘ribor’ can be installed ... OK
* checking installed package size ... NOTE
installed size is 5.1Mb
sub-directories of 1Mb or more:
extdata 4.7Mb
* checking package directory ... OK
* checking ‘build’ directory ... OK
* checking DESCRIPTION meta-information ... OK
* checking top-level files ... OK
* checking for left-over files ... OK
* checking index information ... OK
* checking package subdirectories ... OK
* checking R files for non-ASCII characters ... OK
* checking R files for syntax errors ... OK
* checking whether the package can be loaded ... OK
* checking whether the package can be loaded with stated dependencies ... OK
* checking whether the package can be unloaded cleanly ... OK
* checking whether the namespace can be loaded with stated dependencies ... OK
* checking whether the namespace can be unloaded cleanly ... OK
* checking dependencies in R code ... OK
* checking S3 generic/method consistency ... OK
* checking replacement functions ... OK
* checking foreign function calls ... OK
* checking R code for possible problems ... OK
* checking Rd files ... OK
* checking Rd metadata ... OK
* checking Rd cross-references ... OK
* checking for missing documentation entries ... OK
* checking for code/documentation mismatches ... OK
* checking Rd \usage sections ... OK
* checking Rd contents ... OK
* checking for unstated dependencies in examples ... OK
* checking files in ‘vignettes’ ... OK
* checking examples ... OK
* checking for unstated dependencies in ‘tests’ ... OK
* checking tests ...
Running ‘testthat.R’
OK
* checking for unstated dependencies in vignettes ... OK
* checking package vignettes in ‘inst/doc’ ... OK
* checking running R code from vignettes ... SKIPPED
* checking re-building of vignette outputs ... SKIPPED
* checking PDF version of manual ... OK
* DONE
Status: 2 NOTEs
See
‘/Users/biocbuild/bbs-3.16-bioc/meat/ribor.Rcheck/00check.log’
for details.
ribor.Rcheck/00install.out
############################################################################## ############################################################################## ### ### Running command: ### ### /Library/Frameworks/R.framework/Resources/bin/R CMD INSTALL ribor ### ############################################################################## ############################################################################## * installing to library ‘/Library/Frameworks/R.framework/Versions/4.2/Resources/library’ * installing *source* package ‘ribor’ ... ** using staged installation ** R ** inst ** byte-compile and prepare package for lazy loading ** help *** installing help indices ** building package indices ** installing vignettes ** testing if installed package can be loaded from temporary location ** testing if installed package can be loaded from final location ** testing if installed package keeps a record of temporary installation path * DONE (ribor)
ribor.Rcheck/tests/testthat.Rout
R version 4.2.3 (2023-03-15) -- "Shortstop Beagle"
Copyright (C) 2023 The R Foundation for Statistical Computing
Platform: x86_64-apple-darwin17.0 (64-bit)
R is free software and comes with ABSOLUTELY NO WARRANTY.
You are welcome to redistribute it under certain conditions.
Type 'license()' or 'licence()' for distribution details.
R is a collaborative project with many contributors.
Type 'contributors()' for more information and
'citation()' on how to cite R or R packages in publications.
Type 'demo()' for some demos, 'help()' for on-line help, or
'help.start()' for an HTML browser interface to help.
Type 'q()' to quit R.
> library(testthat)
> library(ribor)
>
> test_check("ribor")
[ FAIL 0 | WARN 3 | SKIP 0 | PASS 96 ]
[ FAIL 0 | WARN 3 | SKIP 0 | PASS 96 ]
>
> proc.time()
user system elapsed
19.607 1.117 20.817
ribor.Rcheck/ribor-Ex.timings
| name | user | system | elapsed | |
| get_coverage | 0.256 | 0.035 | 0.296 | |
| get_experiments | 0.082 | 0.010 | 0.093 | |
| get_info | 0.108 | 0.012 | 0.122 | |
| get_internal_region_coordinates | 1.610 | 0.042 | 1.670 | |
| get_internal_region_lengths | 1.713 | 0.036 | 1.749 | |
| get_length_distribution | 0.217 | 0.014 | 0.230 | |
| get_metadata | 0.061 | 0.008 | 0.069 | |
| get_metagene | 0.424 | 0.027 | 0.452 | |
| get_original_region_coordinates | 1.901 | 0.036 | 1.939 | |
| get_original_region_lengths | 1.888 | 0.021 | 1.908 | |
| get_reference_names | 0.481 | 0.012 | 0.493 | |
| get_region_counts | 0.138 | 0.012 | 0.151 | |
| get_rnaseq | 0.167 | 0.013 | 0.180 | |
| get_tidy_metagene | 0.501 | 0.033 | 0.535 | |
| plot_length_distribution | 0.843 | 0.030 | 0.874 | |
| plot_metagene | 1.042 | 0.037 | 1.079 | |
| plot_region_counts | 0.951 | 0.028 | 0.982 | |
| rename_default | 0.000 | 0.000 | 0.001 | |
| rename_transcripts | 1.837 | 0.035 | 1.905 | |
| ribo-class | 1.136 | 0.029 | 1.167 | |
| set_aliases | 1.072 | 0.017 | 1.091 | |