| Back to Multiple platform build/check report for BioC 3.16: simplified long |
|
This page was generated on 2023-04-12 11:05:15 -0400 (Wed, 12 Apr 2023).
| Hostname | OS | Arch (*) | R version | Installed pkgs |
|---|---|---|---|---|
| nebbiolo2 | Linux (Ubuntu 20.04.5 LTS) | x86_64 | 4.2.3 (2023-03-15) -- "Shortstop Beagle" | 4502 |
| palomino4 | Windows Server 2022 Datacenter | x64 | 4.2.3 (2023-03-15 ucrt) -- "Shortstop Beagle" | 4282 |
| lconway | macOS 12.5.1 Monterey | x86_64 | 4.2.3 (2023-03-15) -- "Shortstop Beagle" | 4310 |
| Click on any hostname to see more info about the system (e.g. compilers) (*) as reported by 'uname -p', except on Windows and Mac OS X | ||||
|
To the developers/maintainers of the ramwas package: - Please allow up to 24 hours (and sometimes 48 hours) for your latest push to git@git.bioconductor.org:packages/ramwas.git to reflect on this report. See How and When does the builder pull? When will my changes propagate? for more information. - Make sure to use the following settings in order to reproduce any error or warning you see on this page. |
| Package 1590/2183 | Hostname | OS / Arch | INSTALL | BUILD | CHECK | BUILD BIN | ||||||||
| ramwas 1.22.0 (landing page) Andrey A Shabalin
| nebbiolo2 | Linux (Ubuntu 20.04.5 LTS) / x86_64 | OK | OK | OK | |||||||||
| palomino4 | Windows Server 2022 Datacenter / x64 | OK | OK | OK | OK | |||||||||
| lconway | macOS 12.5.1 Monterey / x86_64 | OK | OK | OK | OK | |||||||||
| Package: ramwas |
| Version: 1.22.0 |
| Command: /home/biocbuild/bbs-3.16-bioc/R/bin/R CMD check --install=check:ramwas.install-out.txt --library=/home/biocbuild/bbs-3.16-bioc/R/site-library --timings ramwas_1.22.0.tar.gz |
| StartedAt: 2023-04-10 23:15:35 -0400 (Mon, 10 Apr 2023) |
| EndedAt: 2023-04-10 23:24:10 -0400 (Mon, 10 Apr 2023) |
| EllapsedTime: 514.2 seconds |
| RetCode: 0 |
| Status: OK |
| CheckDir: ramwas.Rcheck |
| Warnings: 0 |
##############################################################################
##############################################################################
###
### Running command:
###
### /home/biocbuild/bbs-3.16-bioc/R/bin/R CMD check --install=check:ramwas.install-out.txt --library=/home/biocbuild/bbs-3.16-bioc/R/site-library --timings ramwas_1.22.0.tar.gz
###
##############################################################################
##############################################################################
* using log directory ‘/home/biocbuild/bbs-3.16-bioc/meat/ramwas.Rcheck’
* using R version 4.2.3 (2023-03-15)
* using platform: x86_64-pc-linux-gnu (64-bit)
* using session charset: UTF-8
* checking for file ‘ramwas/DESCRIPTION’ ... OK
* checking extension type ... Package
* this is package ‘ramwas’ version ‘1.22.0’
* checking package namespace information ... OK
* checking package dependencies ... OK
* checking if this is a source package ... OK
* checking if there is a namespace ... OK
* checking for hidden files and directories ... OK
* checking for portable file names ... OK
* checking for sufficient/correct file permissions ... OK
* checking whether package ‘ramwas’ can be installed ... OK
* checking installed package size ... OK
* checking package directory ... OK
* checking ‘build’ directory ... OK
* checking DESCRIPTION meta-information ... OK
* checking top-level files ... OK
* checking for left-over files ... OK
* checking index information ... OK
* checking package subdirectories ... OK
* checking R files for non-ASCII characters ... OK
* checking R files for syntax errors ... OK
* checking whether the package can be loaded ... OK
* checking whether the package can be loaded with stated dependencies ... OK
* checking whether the package can be unloaded cleanly ... OK
* checking whether the namespace can be loaded with stated dependencies ... OK
* checking whether the namespace can be unloaded cleanly ... OK
* checking loading without being on the library search path ... OK
* checking dependencies in R code ... OK
* checking S3 generic/method consistency ... OK
* checking replacement functions ... OK
* checking foreign function calls ... OK
* checking R code for possible problems ... OK
* checking Rd files ... OK
* checking Rd metadata ... OK
* checking Rd cross-references ... OK
* checking for missing documentation entries ... OK
* checking for code/documentation mismatches ... OK
* checking Rd \usage sections ... OK
* checking Rd contents ... OK
* checking for unstated dependencies in examples ... OK
* checking line endings in C/C++/Fortran sources/headers ... OK
* checking compiled code ... NOTE
Note: information on .o files is not available
* checking files in ‘vignettes’ ... OK
* checking examples ... OK
Examples with CPU (user + system) or elapsed time > 5s
user system elapsed
manhattan 8.595 0.544 9.139
* checking for unstated dependencies in vignettes ... OK
* checking package vignettes in ‘inst/doc’ ... OK
* checking running R code from vignettes ...
‘RW1_intro.Rmd’... OK
‘RW2_CpG_sets.Rmd’... OK
‘RW3_BAM_QCs.Rmd’... OK
‘RW4_SNPs.Rmd’... OK
‘RW5a_matrix.Rmd’... OK
‘RW5c_matrix.Rmd’... OK
‘RW6_param.Rmd’... OK
NONE
* checking re-building of vignette outputs ... OK
* checking PDF version of manual ... OK
* DONE
Status: 1 NOTE
See
‘/home/biocbuild/bbs-3.16-bioc/meat/ramwas.Rcheck/00check.log’
for details.
ramwas.Rcheck/00install.out
############################################################################## ############################################################################## ### ### Running command: ### ### /home/biocbuild/bbs-3.16-bioc/R/bin/R CMD INSTALL ramwas ### ############################################################################## ############################################################################## * installing to library ‘/home/biocbuild/bbs-3.16-bioc/R/site-library’ * installing *source* package ‘ramwas’ ... ** using staged installation ** libs gcc -I"/home/biocbuild/bbs-3.16-bioc/R/include" -DNDEBUG -I/usr/local/include -fpic -g -O2 -Wall -c rw_c_code.c -o rw_c_code.o gcc -shared -L/home/biocbuild/bbs-3.16-bioc/R/lib -L/usr/local/lib -o ramwas.so rw_c_code.o -L/home/biocbuild/bbs-3.16-bioc/R/lib -lR installing to /home/biocbuild/bbs-3.16-bioc/R/site-library/00LOCK-ramwas/00new/ramwas/libs ** R ** inst ** byte-compile and prepare package for lazy loading ** help *** installing help indices *** copying figures ** building package indices ** installing vignettes ** testing if installed package can be loaded from temporary location ** checking absolute paths in shared objects and dynamic libraries ** testing if installed package can be loaded from final location ** testing if installed package keeps a record of temporary installation path * DONE (ramwas)
ramwas.Rcheck/ramwas-Ex.timings
| name | user | system | elapsed | |
| MakeBED | 0 | 0 | 0 | |
| QCs | 0.029 | 0.000 | 0.030 | |
| cachedRDSload | 1.310 | 0.000 | 1.311 | |
| findBestNpvs | 0.001 | 0.000 | 0.001 | |
| get | 0 | 0 | 0 | |
| getCpGset | 3.274 | 0.136 | 3.413 | |
| injectSNPsMAF | 0.789 | 0.000 | 0.788 | |
| insilicoFASTQ | 0.001 | 0.000 | 0.002 | |
| isAbsolutePath | 0 | 0 | 0 | |
| makefullpath | 0 | 0 | 0 | |
| manhattan | 8.595 | 0.544 | 9.139 | |
| mat2cols | 0.001 | 0.000 | 0.001 | |
| orthonormalizeCovariates | 0.003 | 0.004 | 0.007 | |
| parameterDump | 0.000 | 0.003 | 0.002 | |
| parameterPreprocess | 0.009 | 0.007 | 0.032 | |
| parametersFromFile | 0.002 | 0.000 | 0.002 | |
| pipeline | 0.002 | 0.000 | 0.001 | |
| plotCV | 1.811 | 0.020 | 1.830 | |
| plotFragmentSizeDistributionEstimate | 0.022 | 0.000 | 0.022 | |
| plotPC | 0.005 | 0.004 | 0.010 | |
| processCommandLine | 0.000 | 0.000 | 0.001 | |
| pvalue2qvalue | 0.000 | 0.000 | 0.001 | |
| qqplotFast | 0.670 | 0.144 | 0.814 | |
| ramwas0createArtificialData | 0.161 | 0.020 | 0.182 | |
| ramwasAnnotateLocations | 0.000 | 0.000 | 0.001 | |
| ramwasParameters | 0 | 0 | 0 | |
| rowcolSumSq | 0.000 | 0.001 | 0.000 | |
| rwDataClass-class | 0.032 | 0.003 | 0.034 | |
| subsetData | 0 | 0 | 0 | |
| testPhenotype | 0.017 | 0.000 | 0.017 | |