| Back to Multiple platform build/check report for BioC 3.16: simplified long | 
 | 
This page was generated on 2023-04-12 11:06:24 -0400 (Wed, 12 Apr 2023).
| Hostname | OS | Arch (*) | R version | Installed pkgs | 
|---|---|---|---|---|
| nebbiolo2 | Linux (Ubuntu 20.04.5 LTS) | x86_64 | 4.2.3 (2023-03-15) -- "Shortstop Beagle" | 4502 | 
| palomino4 | Windows Server 2022 Datacenter | x64 | 4.2.3 (2023-03-15 ucrt) -- "Shortstop Beagle" | 4282 | 
| lconway | macOS 12.5.1 Monterey | x86_64 | 4.2.3 (2023-03-15) -- "Shortstop Beagle" | 4310 | 
| Click on any hostname to see more info about the system (e.g. compilers) (*) as reported by 'uname -p', except on Windows and Mac OS X | ||||
| To the developers/maintainers of the rRDP package: - Please allow up to 24 hours (and sometimes 48 hours) for your latest push to git@git.bioconductor.org:packages/rRDP.git to reflect on this report. See How and When does the builder pull? When will my changes propagate? for more information. - Make sure to use the following settings in order to reproduce any error or warning you see on this page. | 
| Package 1729/2183 | Hostname | OS / Arch | INSTALL | BUILD | CHECK | BUILD BIN | ||||||||
| rRDP 1.32.0  (landing page) Michael Hahsler 
 | nebbiolo2 | Linux (Ubuntu 20.04.5 LTS) / x86_64 | OK | OK | OK |  | ||||||||
| palomino4 | Windows Server 2022 Datacenter / x64 | OK | OK | OK | OK |  | ||||||||
| lconway | macOS 12.5.1 Monterey / x86_64 | OK | OK | OK | OK |  | ||||||||
| Package: rRDP | 
| Version: 1.32.0 | 
| Command: rm -rf rRDP.buildbin-libdir && mkdir rRDP.buildbin-libdir && /Users/biocbuild/BBS/utils/build-universal.sh rRDP_1.32.0.tar.gz /Library/Frameworks/R.framework/Resources/bin/R rRDP.buildbin-libdir | 
| StartedAt: 2023-04-11 00:02:08 -0400 (Tue, 11 Apr 2023) | 
| EndedAt: 2023-04-11 00:02:23 -0400 (Tue, 11 Apr 2023) | 
| EllapsedTime: 14.7 seconds | 
| RetCode: 0 | 
| Status: OK | 
| PackageFile: rRDP_1.32.0.tgz | 
| PackageFileSize: 1.568 MiB | 
############################################################################## ############################################################################## ### ### Running command: ### ### rm -rf rRDP.buildbin-libdir && mkdir rRDP.buildbin-libdir && /Users/biocbuild/BBS/utils/build-universal.sh rRDP_1.32.0.tar.gz /Library/Frameworks/R.framework/Resources/bin/R rRDP.buildbin-libdir ### ############################################################################## ############################################################################## >>>>>>> >>>>>>> INSTALLATION WITH 'R CMD INSTALL --preclean --no-multiarch --library=rRDP.buildbin-libdir rRDP_1.32.0.tar.gz' >>>>>>> * installing *source* package ‘rRDP’ ... ** using staged installation ** R ** inst ** byte-compile and prepare package for lazy loading ** help *** installing help indices ** building package indices ** installing vignettes ** testing if installed package can be loaded from temporary location ** testing if installed package can be loaded from final location ** testing if installed package keeps a record of temporary installation path * DONE (rRDP)