| Back to Multiple platform build/check report for BioC 3.16: simplified long |
|
This page was generated on 2023-04-12 11:05:15 -0400 (Wed, 12 Apr 2023).
| Hostname | OS | Arch (*) | R version | Installed pkgs |
|---|---|---|---|---|
| nebbiolo2 | Linux (Ubuntu 20.04.5 LTS) | x86_64 | 4.2.3 (2023-03-15) -- "Shortstop Beagle" | 4502 |
| palomino4 | Windows Server 2022 Datacenter | x64 | 4.2.3 (2023-03-15 ucrt) -- "Shortstop Beagle" | 4282 |
| lconway | macOS 12.5.1 Monterey | x86_64 | 4.2.3 (2023-03-15) -- "Shortstop Beagle" | 4310 |
| Click on any hostname to see more info about the system (e.g. compilers) (*) as reported by 'uname -p', except on Windows and Mac OS X | ||||
|
To the developers/maintainers of the qrqc package: - Please allow up to 24 hours (and sometimes 48 hours) for your latest push to git@git.bioconductor.org:packages/qrqc.git to reflect on this report. See How and When does the builder pull? When will my changes propagate? for more information. - Make sure to use the following settings in order to reproduce any error or warning you see on this page. |
| Package 1566/2183 | Hostname | OS / Arch | INSTALL | BUILD | CHECK | BUILD BIN | ||||||||
| qrqc 1.52.0 (landing page) Vince Buffalo
| nebbiolo2 | Linux (Ubuntu 20.04.5 LTS) / x86_64 | OK | OK | WARNINGS | |||||||||
| palomino4 | Windows Server 2022 Datacenter / x64 | OK | OK | OK | OK | |||||||||
| lconway | macOS 12.5.1 Monterey / x86_64 | OK | OK | WARNINGS | OK | |||||||||
| Package: qrqc |
| Version: 1.52.0 |
| Command: /home/biocbuild/bbs-3.16-bioc/R/bin/R CMD INSTALL qrqc |
| StartedAt: 2023-04-10 15:50:57 -0400 (Mon, 10 Apr 2023) |
| EndedAt: 2023-04-10 15:52:02 -0400 (Mon, 10 Apr 2023) |
| EllapsedTime: 65.8 seconds |
| RetCode: 0 |
| Status: OK |
##############################################################################
##############################################################################
###
### Running command:
###
### /home/biocbuild/bbs-3.16-bioc/R/bin/R CMD INSTALL qrqc
###
##############################################################################
##############################################################################
* installing to library ‘/home/biocbuild/bbs-3.16-bioc/R/site-library’
* installing *source* package ‘qrqc’ ...
** using staged installation
** libs
gcc -I"/home/biocbuild/bbs-3.16-bioc/R/include" -DNDEBUG -D_FILE_OFFSET_BITS=64 -I'/home/biocbuild/bbs-3.16-bioc/R/site-library/Rhtslib/include' -I/usr/local/include -fpic -g -O2 -Wall -c R_init_io.c -o R_init_io.o
gcc -I"/home/biocbuild/bbs-3.16-bioc/R/include" -DNDEBUG -D_FILE_OFFSET_BITS=64 -I'/home/biocbuild/bbs-3.16-bioc/R/site-library/Rhtslib/include' -I/usr/local/include -fpic -g -O2 -Wall -c io.c -o io.o
io.c: In function ‘summarize_file’:
io.c:33:25: warning: initialization of ‘struct gzFile_s **’ from incompatible pointer type ‘gzFile’ {aka ‘struct gzFile_s *’} [-Wincompatible-pointer-types]
33 | #define FILE_OPEN(x, m) (gzopen(x, m))
| ^
io.c:348:19: note: in expansion of macro ‘FILE_OPEN’
348 | FILE_TYPE *fp = FILE_OPEN(CHAR(STRING_ELT(filename, 0)), "r");
| ^~~~~~~~~
io.c:351:21: warning: passing argument 1 of ‘kseq_init’ from incompatible pointer type [-Wincompatible-pointer-types]
351 | block = kseq_init(fp);
| ^~
| |
| struct gzFile_s **
In file included from io.c:12:
/home/biocbuild/bbs-3.16-bioc/R/site-library/Rhtslib/include/htslib/kseq.h:165:33: note: expected ‘gzFile’ {aka ‘struct gzFile_s *’} but argument is of type ‘struct gzFile_s **’
165 | SCOPE kseq_t *kseq_init(type_t fd) \
/home/biocbuild/bbs-3.16-bioc/R/site-library/Rhtslib/include/htslib/kseq.h:237:2: note: in expansion of macro ‘__KSEQ_BASIC’
237 | __KSEQ_BASIC(SCOPE, type_t) \
| ^~~~~~~~~~~~
/home/biocbuild/bbs-3.16-bioc/R/site-library/Rhtslib/include/htslib/kseq.h:240:35: note: in expansion of macro ‘KSEQ_INIT2’
240 | #define KSEQ_INIT(type_t, __read) KSEQ_INIT2(static, type_t, __read)
| ^~~~~~~~~~
io.c:35:1: note: in expansion of macro ‘KSEQ_INIT’
35 | KSEQ_INIT(gzFile, gzread)
| ^~~~~~~~~
io.c:453:21: warning: passing argument 1 of ‘kseq_init’ from incompatible pointer type [-Wincompatible-pointer-types]
453 | block = kseq_init(fp);
| ^~
| |
| struct gzFile_s **
In file included from io.c:12:
/home/biocbuild/bbs-3.16-bioc/R/site-library/Rhtslib/include/htslib/kseq.h:165:33: note: expected ‘gzFile’ {aka ‘struct gzFile_s *’} but argument is of type ‘struct gzFile_s **’
165 | SCOPE kseq_t *kseq_init(type_t fd) \
/home/biocbuild/bbs-3.16-bioc/R/site-library/Rhtslib/include/htslib/kseq.h:237:2: note: in expansion of macro ‘__KSEQ_BASIC’
237 | __KSEQ_BASIC(SCOPE, type_t) \
| ^~~~~~~~~~~~
/home/biocbuild/bbs-3.16-bioc/R/site-library/Rhtslib/include/htslib/kseq.h:240:35: note: in expansion of macro ‘KSEQ_INIT2’
240 | #define KSEQ_INIT(type_t, __read) KSEQ_INIT2(static, type_t, __read)
| ^~~~~~~~~~
io.c:35:1: note: in expansion of macro ‘KSEQ_INIT’
35 | KSEQ_INIT(gzFile, gzread)
| ^~~~~~~~~
io.c:454:14: warning: passing argument 1 of ‘gzclose’ from incompatible pointer type [-Wincompatible-pointer-types]
454 | FILE_CLOSE(fp);
| ^~
| |
| struct gzFile_s **
io.c:34:32: note: in definition of macro ‘FILE_CLOSE’
34 | #define FILE_CLOSE(x) (gzclose(x))
| ^
In file included from /usr/include/zlib.h:34,
from io.c:31:
/usr/include/zlib.h:1631:32: note: expected ‘gzFile’ {aka ‘struct gzFile_s *’} but argument is of type ‘struct gzFile_s **’
1631 | ZEXTERN int ZEXPORT gzclose OF((gzFile file));
| ^~
In file included from io.c:12:
At top level:
/home/biocbuild/bbs-3.16-bioc/R/site-library/Rhtslib/include/htslib/kseq.h:171:13: warning: ‘kseq_destroy’ defined but not used [-Wunused-function]
171 | SCOPE void kseq_destroy(kseq_t *ks) \
| ^~~~~~~~~~~~
/home/biocbuild/bbs-3.16-bioc/R/site-library/Rhtslib/include/htslib/kseq.h:237:2: note: in expansion of macro ‘__KSEQ_BASIC’
237 | __KSEQ_BASIC(SCOPE, type_t) \
| ^~~~~~~~~~~~
/home/biocbuild/bbs-3.16-bioc/R/site-library/Rhtslib/include/htslib/kseq.h:240:35: note: in expansion of macro ‘KSEQ_INIT2’
240 | #define KSEQ_INIT(type_t, __read) KSEQ_INIT2(static, type_t, __read)
| ^~~~~~~~~~
io.c:35:1: note: in expansion of macro ‘KSEQ_INIT’
35 | KSEQ_INIT(gzFile, gzread)
| ^~~~~~~~~
gcc -shared -L/home/biocbuild/bbs-3.16-bioc/R/lib -L/usr/local/lib -o qrqc.so R_init_io.o io.o /home/biocbuild/bbs-3.16-bioc/R/site-library/Rhtslib/usrlib/libhts.a -lcurl -L/home/biocbuild/bbs-3.16-bioc/R/lib -lR
installing to /home/biocbuild/bbs-3.16-bioc/R/site-library/00LOCK-qrqc/00new/qrqc/libs
** R
** inst
** byte-compile and prepare package for lazy loading
** help
*** installing help indices
** building package indices
** installing vignettes
** testing if installed package can be loaded from temporary location
** checking absolute paths in shared objects and dynamic libraries
** testing if installed package can be loaded from final location
** testing if installed package keeps a record of temporary installation path
* DONE (qrqc)