| Back to Multiple platform build/check report for BioC 3.16: simplified long |
|
This page was generated on 2023-04-12 11:05:15 -0400 (Wed, 12 Apr 2023).
| Hostname | OS | Arch (*) | R version | Installed pkgs |
|---|---|---|---|---|
| nebbiolo2 | Linux (Ubuntu 20.04.5 LTS) | x86_64 | 4.2.3 (2023-03-15) -- "Shortstop Beagle" | 4502 |
| palomino4 | Windows Server 2022 Datacenter | x64 | 4.2.3 (2023-03-15 ucrt) -- "Shortstop Beagle" | 4282 |
| lconway | macOS 12.5.1 Monterey | x86_64 | 4.2.3 (2023-03-15) -- "Shortstop Beagle" | 4310 |
| Click on any hostname to see more info about the system (e.g. compilers) (*) as reported by 'uname -p', except on Windows and Mac OS X | ||||
|
To the developers/maintainers of the qpgraph package: - Please allow up to 24 hours (and sometimes 48 hours) for your latest push to git@git.bioconductor.org:packages/qpgraph.git to reflect on this report. See How and When does the builder pull? When will my changes propagate? for more information. - Make sure to use the following settings in order to reproduce any error or warning you see on this page. |
| Package 1564/2183 | Hostname | OS / Arch | INSTALL | BUILD | CHECK | BUILD BIN | ||||||||
| qpgraph 2.32.2 (landing page) Robert Castelo
| nebbiolo2 | Linux (Ubuntu 20.04.5 LTS) / x86_64 | OK | OK | OK | |||||||||
| palomino4 | Windows Server 2022 Datacenter / x64 | OK | OK | OK | OK | |||||||||
| lconway | macOS 12.5.1 Monterey / x86_64 | OK | OK | OK | OK | |||||||||
| Package: qpgraph |
| Version: 2.32.2 |
| Command: /home/biocbuild/bbs-3.16-bioc/R/bin/R CMD check --install=check:qpgraph.install-out.txt --library=/home/biocbuild/bbs-3.16-bioc/R/site-library --timings qpgraph_2.32.2.tar.gz |
| StartedAt: 2023-04-10 23:11:06 -0400 (Mon, 10 Apr 2023) |
| EndedAt: 2023-04-10 23:18:25 -0400 (Mon, 10 Apr 2023) |
| EllapsedTime: 438.9 seconds |
| RetCode: 0 |
| Status: OK |
| CheckDir: qpgraph.Rcheck |
| Warnings: 0 |
############################################################################## ############################################################################## ### ### Running command: ### ### /home/biocbuild/bbs-3.16-bioc/R/bin/R CMD check --install=check:qpgraph.install-out.txt --library=/home/biocbuild/bbs-3.16-bioc/R/site-library --timings qpgraph_2.32.2.tar.gz ### ############################################################################## ############################################################################## * using log directory ‘/home/biocbuild/bbs-3.16-bioc/meat/qpgraph.Rcheck’ * using R version 4.2.3 (2023-03-15) * using platform: x86_64-pc-linux-gnu (64-bit) * using session charset: UTF-8 * checking for file ‘qpgraph/DESCRIPTION’ ... OK * this is package ‘qpgraph’ version ‘2.32.2’ * checking package namespace information ... OK * checking package dependencies ... OK * checking if this is a source package ... OK * checking if there is a namespace ... OK * checking for hidden files and directories ... OK * checking for portable file names ... OK * checking for sufficient/correct file permissions ... OK * checking whether package ‘qpgraph’ can be installed ... OK * checking installed package size ... OK * checking package directory ... OK * checking ‘build’ directory ... OK * checking DESCRIPTION meta-information ... OK * checking top-level files ... OK * checking for left-over files ... OK * checking index information ... OK * checking package subdirectories ... OK * checking R files for non-ASCII characters ... OK * checking R files for syntax errors ... OK * checking whether the package can be loaded ... OK * checking whether the package can be loaded with stated dependencies ... OK * checking whether the package can be unloaded cleanly ... OK * checking whether the namespace can be loaded with stated dependencies ... OK * checking whether the namespace can be unloaded cleanly ... OK * checking loading without being on the library search path ... OK * checking dependencies in R code ... OK * checking S3 generic/method consistency ... OK * checking replacement functions ... OK * checking foreign function calls ... OK * checking R code for possible problems ... OK * checking Rd files ... OK * checking Rd metadata ... OK * checking Rd cross-references ... OK * checking for missing documentation entries ... OK * checking for code/documentation mismatches ... OK * checking Rd \usage sections ... OK * checking Rd contents ... OK * checking for unstated dependencies in examples ... OK * checking contents of ‘data’ directory ... OK * checking data for non-ASCII characters ... OK * checking LazyData ... OK * checking data for ASCII and uncompressed saves ... OK * checking line endings in shell scripts ... OK * checking line endings in C/C++/Fortran sources/headers ... OK * checking line endings in Makefiles ... OK * checking compilation flags in Makevars ... OK * checking for GNU extensions in Makefiles ... OK * checking for portable use of $(BLAS_LIBS) and $(LAPACK_LIBS) ... OK * checking use of PKG_*FLAGS in Makefiles ... OK * checking compiled code ... NOTE Note: information on .o files is not available * checking installed files from ‘inst/doc’ ... OK * checking files in ‘vignettes’ ... OK * checking examples ... OK * checking for unstated dependencies in ‘tests’ ... OK * checking tests ... Running ‘runTests.R’ OK * checking for unstated dependencies in vignettes ... OK * checking package vignettes in ‘inst/doc’ ... OK * checking running R code from vignettes ... ‘eQTLnetworks.Rnw’... OK ‘qpTxRegNet.Rnw’... OK ‘qpgraphSimulate.Rnw’... OK OK * checking re-building of vignette outputs ... OK * checking PDF version of manual ... OK * DONE Status: 1 NOTE See ‘/home/biocbuild/bbs-3.16-bioc/meat/qpgraph.Rcheck/00check.log’ for details.
qpgraph.Rcheck/00install.out
##############################################################################
##############################################################################
###
### Running command:
###
### /home/biocbuild/bbs-3.16-bioc/R/bin/R CMD INSTALL qpgraph
###
##############################################################################
##############################################################################
* installing to library ‘/home/biocbuild/bbs-3.16-bioc/R/site-library’
* installing *source* package ‘qpgraph’ ...
** using staged installation
checking for gcc... gcc
checking for C compiler default output file name... a.out
checking whether the C compiler works... yes
checking whether we are cross compiling... no
checking for suffix of executables...
checking for suffix of object files... o
checking whether we are using the GNU C compiler... yes
checking whether gcc accepts -g... yes
checking for gcc option to accept ANSI C... none needed
checking build system type... x86_64-pc-linux-gnu
checking host system type... x86_64-pc-linux-gnu
configure: creating ./config.status
config.status: creating src/Makevars
** libs
gcc -I"/home/biocbuild/bbs-3.16-bioc/R/include" -DNDEBUG -I/usr/local/include -DUSE_FC_LEN_T -I/usr/local/include -g -O2 -Wall -Wall -pedantic -fpic -g -O2 -Wall -c cliquer.c -o cliquer.o
gcc -I"/home/biocbuild/bbs-3.16-bioc/R/include" -DNDEBUG -I/usr/local/include -DUSE_FC_LEN_T -I/usr/local/include -g -O2 -Wall -Wall -pedantic -fpic -g -O2 -Wall -c graph.c -o graph.o
gcc -I"/home/biocbuild/bbs-3.16-bioc/R/include" -DNDEBUG -I/usr/local/include -DUSE_FC_LEN_T -I/usr/local/include -g -O2 -Wall -Wall -pedantic -fpic -g -O2 -Wall -c qpgraph.c -o qpgraph.o
qpgraph.c:24: warning: "USE_FC_LEN_T" redefined
24 | #define USE_FC_LEN_T
|
<command-line>: note: this is the location of the previous definition
gcc -I"/home/biocbuild/bbs-3.16-bioc/R/include" -DNDEBUG -I/usr/local/include -DUSE_FC_LEN_T -I/usr/local/include -g -O2 -Wall -Wall -pedantic -fpic -g -O2 -Wall -c reorder.c -o reorder.o
gcc -shared -L/home/biocbuild/bbs-3.16-bioc/R/lib -L/usr/local/lib -o qpgraph.so cliquer.o graph.o qpgraph.o reorder.o -L/home/biocbuild/bbs-3.16-bioc/R/lib -lRlapack -L/home/biocbuild/bbs-3.16-bioc/R/lib -lRblas -lgfortran -lm -lquadmath -L/home/biocbuild/bbs-3.16-bioc/R/lib -lR
installing to /home/biocbuild/bbs-3.16-bioc/R/site-library/00LOCK-qpgraph/00new/qpgraph/libs
** R
** data
*** moving datasets to lazyload DB
** inst
** byte-compile and prepare package for lazy loading
Creating a generic function for ‘det’ from package ‘Matrix’ in package ‘qpgraph’
** help
*** installing help indices
** building package indices
** installing vignettes
** testing if installed package can be loaded from temporary location
** checking absolute paths in shared objects and dynamic libraries
** testing if installed package can be loaded from final location
** testing if installed package keeps a record of temporary installation path
* DONE (qpgraph)
qpgraph.Rcheck/tests/runTests.Rout
R version 4.2.3 (2023-03-15) -- "Shortstop Beagle"
Copyright (C) 2023 The R Foundation for Statistical Computing
Platform: x86_64-pc-linux-gnu (64-bit)
R is free software and comes with ABSOLUTELY NO WARRANTY.
You are welcome to redistribute it under certain conditions.
Type 'license()' or 'licence()' for distribution details.
R is a collaborative project with many contributors.
Type 'contributors()' for more information and
'citation()' on how to cite R or R packages in publications.
Type 'demo()' for some demos, 'help()' for on-line help, or
'help.start()' for an HTML browser interface to help.
Type 'q()' to quit R.
> BiocGenerics:::testPackage("qpgraph")
Using t tests for zero partial regression coefficients.
Using exact likelihood ratio tests.
RUNIT TEST PROTOCOL -- Mon Apr 10 23:15:39 2023
***********************************************
Number of test functions: 3
Number of errors: 0
Number of failures: 0
1 Test Suite :
qpgraph RUnit Tests - 3 test functions, 0 errors, 0 failures
Number of test functions: 3
Number of errors: 0
Number of failures: 0
>
> proc.time()
user system elapsed
14.417 0.689 15.091
qpgraph.Rcheck/qpgraph-Ex.timings
| name | user | system | elapsed | |
| EcoliOxygen | 0.003 | 0.000 | 0.002 | |
| filterCollinearities | 0.056 | 0.000 | 0.056 | |
| qpAllCItests | 0.078 | 0.000 | 0.078 | |
| qpAnyGraph | 0.062 | 0.012 | 0.074 | |
| qpAvgNrr | 1.241 | 0.007 | 1.248 | |
| qpBoundary | 0.240 | 0.016 | 0.256 | |
| qpCItest | 0.076 | 0.016 | 0.092 | |
| qpClique | 0.245 | 0.000 | 0.245 | |
| qpCliqueNumber | 0.328 | 0.020 | 0.348 | |
| qpCov | 0.069 | 0.000 | 0.069 | |
| qpEdgeNrr | 0.062 | 0.000 | 0.062 | |
| qpFunctionalCoherence | 0.000 | 0.000 | 0.001 | |
| qpG2Sigma | 0.003 | 0.003 | 0.005 | |
| qpGenNrr | 0.414 | 0.004 | 0.418 | |
| qpGetCliques | 0.345 | 0.000 | 0.345 | |
| qpGraphDensity | 0.234 | 0.000 | 0.234 | |
| qpHTF | 0.073 | 0.000 | 0.073 | |
| qpHist | 0.18 | 0.00 | 0.18 | |
| qpIPF | 0.1 | 0.0 | 0.1 | |
| qpK2ParCor | 0.035 | 0.000 | 0.035 | |
| qpNrr | 0.111 | 0.001 | 0.112 | |
| qpPAC | 0.214 | 0.006 | 0.220 | |
| qpPCC | 0.060 | 0.008 | 0.068 | |
| qpPRscoreThreshold | 0.115 | 0.008 | 0.123 | |
| qpPathWeight | 0.049 | 0.007 | 0.057 | |
| qpPlotMap | 0.044 | 0.012 | 0.056 | |
| qpPlotNetwork | 0.000 | 0.000 | 0.001 | |
| qpPrecisionRecall | 0.161 | 0.000 | 0.161 | |
| qpRndGraph | 0.008 | 0.000 | 0.008 | |
| qpRndWishart | 0.006 | 0.000 | 0.006 | |
| qpTopPairs | 0.002 | 0.000 | 0.002 | |
| qpUnifRndAssociation | 0.002 | 0.000 | 0.002 | |
| qpUpdateCliquesRemoving | 0 | 0 | 0 | |