| Back to Multiple platform build/check report for BioC 3.16 |
|
This page was generated on 2022-08-18 11:07:03 -0400 (Thu, 18 Aug 2022).
| Hostname | OS | Arch (*) | R version | Installed pkgs |
|---|---|---|---|---|
| nebbiolo2 | Linux (Ubuntu 20.04.4 LTS) | x86_64 | 4.2.1 (2022-06-23) -- "Funny-Looking Kid" | 4379 |
| palomino4 | Windows Server 2022 Datacenter | x64 | 4.2.1 (2022-06-23 ucrt) -- "Funny-Looking Kid" | 4161 |
| lconway | macOS 12.2.1 Monterey | x86_64 | 4.2.1 Patched (2022-07-09 r82577) -- "Funny-Looking Kid" | 4169 |
| Click on any hostname to see more info about the system (e.g. compilers) (*) as reported by 'uname -p', except on Windows and Mac OS X | ||||
|
To the developers/maintainers of the qckitfastq package: - Please allow up to 24 hours (and sometimes 48 hours) for your latest push to git@git.bioconductor.org:packages/qckitfastq.git to reflect on this report. See How and When does the builder pull? When will my changes propagate? for more information. - Make sure to use the following settings in order to reproduce any error or warning you see on this page. |
| Package 1529/2140 | Hostname | OS / Arch | INSTALL | BUILD | CHECK | BUILD BIN | ||||||||
| qckitfastq 1.13.0 (landing page) August Guang
| nebbiolo2 | Linux (Ubuntu 20.04.4 LTS) / x86_64 | OK | OK | OK | |||||||||
| palomino4 | Windows Server 2022 Datacenter / x64 | OK | OK | OK | OK | |||||||||
| lconway | macOS 12.2.1 Monterey / x86_64 | OK | OK | OK | OK | |||||||||
| Package: qckitfastq |
| Version: 1.13.0 |
| Command: rm -rf qckitfastq.buildbin-libdir && mkdir qckitfastq.buildbin-libdir && F:\biocbuild\bbs-3.16-bioc\R\bin\R.exe CMD INSTALL --merge-multiarch --build --library=qckitfastq.buildbin-libdir qckitfastq_1.13.0.tar.gz |
| StartedAt: 2022-08-18 08:20:39 -0400 (Thu, 18 Aug 2022) |
| EndedAt: 2022-08-18 08:21:17 -0400 (Thu, 18 Aug 2022) |
| EllapsedTime: 38.2 seconds |
| RetCode: 0 |
| Status: OK |
| PackageFile: qckitfastq_1.13.0.zip |
| PackageFileSize: 1.374 MiB |
##############################################################################
##############################################################################
###
### Running command:
###
### rm -rf qckitfastq.buildbin-libdir && mkdir qckitfastq.buildbin-libdir && F:\biocbuild\bbs-3.16-bioc\R\bin\R.exe CMD INSTALL --merge-multiarch --build --library=qckitfastq.buildbin-libdir qckitfastq_1.13.0.tar.gz
###
##############################################################################
##############################################################################
only one architecture so ignoring '--merge-multiarch'
* installing *source* package 'qckitfastq' ...
** using staged installation
** libs
g++ -std=gnu++11 -I"F:/biocbuild/bbs-3.16-bioc/R/library/zlibbioc/include" -I"F:/biocbuild/bbs-3.16-bioc/R/include" -DNDEBUG -I'F:/biocbuild/bbs-3.16-bioc/R/library/Rcpp/include' -I"C:/rtools42/x86_64-w64-mingw32.static.posix/include" -O2 -Wall -mfpmath=sse -msse2 -mstackrealign -c RcppExports.cpp -o RcppExports.o
g++ -std=gnu++11 -I"F:/biocbuild/bbs-3.16-bioc/R/library/zlibbioc/include" -I"F:/biocbuild/bbs-3.16-bioc/R/include" -DNDEBUG -I'F:/biocbuild/bbs-3.16-bioc/R/library/Rcpp/include' -I"C:/rtools42/x86_64-w64-mingw32.static.posix/include" -O2 -Wall -mfpmath=sse -msse2 -mstackrealign -c calc_adapter_content.cpp -o calc_adapter_content.o
g++ -std=gnu++11 -I"F:/biocbuild/bbs-3.16-bioc/R/library/zlibbioc/include" -I"F:/biocbuild/bbs-3.16-bioc/R/include" -DNDEBUG -I'F:/biocbuild/bbs-3.16-bioc/R/library/Rcpp/include' -I"C:/rtools42/x86_64-w64-mingw32.static.posix/include" -O2 -Wall -mfpmath=sse -msse2 -mstackrealign -c gzstream.cpp -o gzstream.o
g++ -std=gnu++11 -I"F:/biocbuild/bbs-3.16-bioc/R/library/zlibbioc/include" -I"F:/biocbuild/bbs-3.16-bioc/R/include" -DNDEBUG -I'F:/biocbuild/bbs-3.16-bioc/R/library/Rcpp/include' -I"C:/rtools42/x86_64-w64-mingw32.static.posix/include" -O2 -Wall -mfpmath=sse -msse2 -mstackrealign -c read_fastq.cpp -o read_fastq.o
read_fastq.cpp: In function 'Rcpp::List qual_score_per_read(std::string)':
read_fastq.cpp:181:33: warning: comparison of integer expressions of different signedness: 'int' and 'std::map<int, std::vector<unsigned char> >::size_type' {aka 'long long unsigned int'} [-Wsign-compare]
181 | if (pos_counter <= qual_score_matrix.size()) {
| ~~~~~~~~~~~~^~~~~~~~~~~~~~~~~~~~~~~~~~~
g++ -shared -s -static-libgcc -o qckitfastq.dll tmp.def RcppExports.o calc_adapter_content.o gzstream.o read_fastq.o -LF:/biocbuild/bbs-3.16-bioc/R/library/zlibbioc/libs/x64 -lzlib1bioc -LC:/rtools42/x86_64-w64-mingw32.static.posix/lib/x64 -LC:/rtools42/x86_64-w64-mingw32.static.posix/lib -LF:/biocbuild/bbs-3.16-bioc/R/bin/x64 -lR
installing to F:/biocbuild/bbs-3.16-bioc/meat/qckitfastq.buildbin-libdir/00LOCK-qckitfastq/00new/qckitfastq/libs/x64
** R
** inst
** byte-compile and prepare package for lazy loading
** help
*** installing help indices
** building package indices
** installing vignettes
** testing if installed package can be loaded from temporary location
** testing if installed package can be loaded from final location
** testing if installed package keeps a record of temporary installation path
* MD5 sums
packaged installation of 'qckitfastq' as qckitfastq_1.13.0.zip
* DONE (qckitfastq)