| Back to Multiple platform build/check report for BioC 3.16: simplified long |
|
This page was generated on 2023-04-12 11:05:14 -0400 (Wed, 12 Apr 2023).
| Hostname | OS | Arch (*) | R version | Installed pkgs |
|---|---|---|---|---|
| nebbiolo2 | Linux (Ubuntu 20.04.5 LTS) | x86_64 | 4.2.3 (2023-03-15) -- "Shortstop Beagle" | 4502 |
| palomino4 | Windows Server 2022 Datacenter | x64 | 4.2.3 (2023-03-15 ucrt) -- "Shortstop Beagle" | 4282 |
| lconway | macOS 12.5.1 Monterey | x86_64 | 4.2.3 (2023-03-15) -- "Shortstop Beagle" | 4310 |
| Click on any hostname to see more info about the system (e.g. compilers) (*) as reported by 'uname -p', except on Windows and Mac OS X | ||||
|
To the developers/maintainers of the psichomics package: - Please allow up to 24 hours (and sometimes 48 hours) for your latest push to git@git.bioconductor.org:packages/psichomics.git to reflect on this report. See How and When does the builder pull? When will my changes propagate? for more information. - Make sure to use the following settings in order to reproduce any error or warning you see on this page. |
| Package 1545/2183 | Hostname | OS / Arch | INSTALL | BUILD | CHECK | BUILD BIN | ||||||||
| psichomics 1.24.0 (landing page) Nuno Saraiva-Agostinho
| nebbiolo2 | Linux (Ubuntu 20.04.5 LTS) / x86_64 | OK | OK | OK | |||||||||
| palomino4 | Windows Server 2022 Datacenter / x64 | OK | OK | OK | OK | |||||||||
| lconway | macOS 12.5.1 Monterey / x86_64 | OK | ERROR | skipped | skipped | |||||||||
| Package: psichomics |
| Version: 1.24.0 |
| Command: /home/biocbuild/bbs-3.16-bioc/R/bin/R CMD check --install=check:psichomics.install-out.txt --library=/home/biocbuild/bbs-3.16-bioc/R/site-library --timings psichomics_1.24.0.tar.gz |
| StartedAt: 2023-04-10 23:08:17 -0400 (Mon, 10 Apr 2023) |
| EndedAt: 2023-04-10 23:16:26 -0400 (Mon, 10 Apr 2023) |
| EllapsedTime: 489.3 seconds |
| RetCode: 0 |
| Status: OK |
| CheckDir: psichomics.Rcheck |
| Warnings: 0 |
##############################################################################
##############################################################################
###
### Running command:
###
### /home/biocbuild/bbs-3.16-bioc/R/bin/R CMD check --install=check:psichomics.install-out.txt --library=/home/biocbuild/bbs-3.16-bioc/R/site-library --timings psichomics_1.24.0.tar.gz
###
##############################################################################
##############################################################################
* using log directory ‘/home/biocbuild/bbs-3.16-bioc/meat/psichomics.Rcheck’
* using R version 4.2.3 (2023-03-15)
* using platform: x86_64-pc-linux-gnu (64-bit)
* using session charset: UTF-8
* checking for file ‘psichomics/DESCRIPTION’ ... OK
* this is package ‘psichomics’ version ‘1.24.0’
* package encoding: UTF-8
* checking package namespace information ... OK
* checking package dependencies ... OK
* checking if this is a source package ... OK
* checking if there is a namespace ... OK
* checking for hidden files and directories ... NOTE
Found the following hidden files and directories:
.devcontainer
These were most likely included in error. See section ‘Package
structure’ in the ‘Writing R Extensions’ manual.
* checking for portable file names ... OK
* checking for sufficient/correct file permissions ... OK
* checking whether package ‘psichomics’ can be installed ... OK
* checking installed package size ... OK
* checking package directory ... OK
* checking ‘build’ directory ... OK
* checking DESCRIPTION meta-information ... OK
* checking top-level files ... OK
* checking for left-over files ... OK
* checking index information ... OK
* checking package subdirectories ... OK
* checking R files for non-ASCII characters ... OK
* checking R files for syntax errors ... OK
* checking whether the package can be loaded ... OK
* checking whether the package can be loaded with stated dependencies ... OK
* checking whether the package can be unloaded cleanly ... OK
* checking whether the namespace can be loaded with stated dependencies ... OK
* checking whether the namespace can be unloaded cleanly ... OK
* checking loading without being on the library search path ... OK
* checking dependencies in R code ... OK
* checking S3 generic/method consistency ... OK
* checking replacement functions ... OK
* checking foreign function calls ... OK
* checking R code for possible problems ... OK
* checking Rd files ... OK
* checking Rd metadata ... OK
* checking Rd cross-references ... OK
* checking for missing documentation entries ... OK
* checking for code/documentation mismatches ... OK
* checking Rd \usage sections ... OK
* checking Rd contents ... OK
* checking for unstated dependencies in examples ... OK
* checking line endings in C/C++/Fortran sources/headers ... OK
* checking compiled code ... NOTE
Note: information on .o files is not available
* checking files in ‘vignettes’ ... OK
* checking examples ... OK
Examples with CPU (user + system) or elapsed time > 5s
user system elapsed
convertGeneIdentifiers 13.881 1.338 16.397
listSplicingAnnotations 12.084 1.031 14.124
* checking for unstated dependencies in ‘tests’ ... OK
* checking tests ...
Running ‘spelling.R’
Running ‘testthat.R’
OK
* checking for unstated dependencies in vignettes ... OK
* checking package vignettes in ‘inst/doc’ ... OK
* checking running R code from vignettes ...
‘AS_events_preparation.Rmd’ using ‘UTF-8’... OK
‘CLI_tutorial.Rmd’ using ‘UTF-8’... OK
‘GUI_tutorial.Rmd’ using ‘UTF-8’... OK
‘custom_data.Rmd’ using ‘UTF-8’... OK
NONE
* checking re-building of vignette outputs ... OK
* checking PDF version of manual ... OK
* DONE
Status: 2 NOTEs
See
‘/home/biocbuild/bbs-3.16-bioc/meat/psichomics.Rcheck/00check.log’
for details.
psichomics.Rcheck/00install.out
############################################################################## ############################################################################## ### ### Running command: ### ### /home/biocbuild/bbs-3.16-bioc/R/bin/R CMD INSTALL psichomics ### ############################################################################## ############################################################################## * installing to library ‘/home/biocbuild/bbs-3.16-bioc/R/site-library’ * installing *source* package ‘psichomics’ ... ** using staged installation ** libs g++ -std=gnu++14 -I"/home/biocbuild/bbs-3.16-bioc/R/include" -DNDEBUG -I'/home/biocbuild/bbs-3.16-bioc/R/site-library/Rcpp/include' -I/usr/local/include -fpic -g -O2 -Wall -c RcppExports.cpp -o RcppExports.o g++ -std=gnu++14 -I"/home/biocbuild/bbs-3.16-bioc/R/include" -DNDEBUG -I'/home/biocbuild/bbs-3.16-bioc/R/site-library/Rcpp/include' -I/usr/local/include -fpic -g -O2 -Wall -c progressBar.cpp -o progressBar.o g++ -std=gnu++14 -I"/home/biocbuild/bbs-3.16-bioc/R/include" -DNDEBUG -I'/home/biocbuild/bbs-3.16-bioc/R/site-library/Rcpp/include' -I/usr/local/include -fpic -g -O2 -Wall -c psiFastCalc.cpp -o psiFastCalc.o g++ -std=gnu++14 -I"/home/biocbuild/bbs-3.16-bioc/R/include" -DNDEBUG -I'/home/biocbuild/bbs-3.16-bioc/R/site-library/Rcpp/include' -I/usr/local/include -fpic -g -O2 -Wall -c vastToolsParser.cpp -o vastToolsParser.o g++ -std=gnu++14 -shared -L/home/biocbuild/bbs-3.16-bioc/R/lib -L/usr/local/lib -o psichomics.so RcppExports.o progressBar.o psiFastCalc.o vastToolsParser.o -L/home/biocbuild/bbs-3.16-bioc/R/lib -lR installing to /home/biocbuild/bbs-3.16-bioc/R/site-library/00LOCK-psichomics/00new/psichomics/libs ** R ** inst ** byte-compile and prepare package for lazy loading Creating a generic function for ‘colSums’ from package ‘base’ in package ‘psichomics’ ** help *** installing help indices *** copying figures ** building package indices ** installing vignettes ** testing if installed package can be loaded from temporary location ** checking absolute paths in shared objects and dynamic libraries ** testing if installed package can be loaded from final location ** testing if installed package keeps a record of temporary installation path * DONE (psichomics)
psichomics.Rcheck/tests/spelling.Rout
R version 4.2.3 (2023-03-15) -- "Shortstop Beagle"
Copyright (C) 2023 The R Foundation for Statistical Computing
Platform: x86_64-pc-linux-gnu (64-bit)
R is free software and comes with ABSOLUTELY NO WARRANTY.
You are welcome to redistribute it under certain conditions.
Type 'license()' or 'licence()' for distribution details.
R is a collaborative project with many contributors.
Type 'contributors()' for more information and
'citation()' on how to cite R or R packages in publications.
Type 'demo()' for some demos, 'help()' for on-line help, or
'help.start()' for an HTML browser interface to help.
Type 'q()' to quit R.
> if(requireNamespace('spelling', quietly = TRUE))
+ spelling::spell_check_test(vignettes = TRUE, error = FALSE,
+ skip_on_cran = TRUE)
NULL
>
> proc.time()
user system elapsed
0.170 0.042 0.196
psichomics.Rcheck/tests/testthat.Rout
R version 4.2.3 (2023-03-15) -- "Shortstop Beagle"
Copyright (C) 2023 The R Foundation for Statistical Computing
Platform: x86_64-pc-linux-gnu (64-bit)
R is free software and comes with ABSOLUTELY NO WARRANTY.
You are welcome to redistribute it under certain conditions.
Type 'license()' or 'licence()' for distribution details.
R is a collaborative project with many contributors.
Type 'contributors()' for more information and
'citation()' on how to cite R or R packages in publications.
Type 'demo()' for some demos, 'help()' for on-line help, or
'help.start()' for an HTML browser interface to help.
Type 'q()' to quit R.
> library(testthat)
> library(psichomics)
Loading required package: shiny
Loading required package: shinyBS
Setting options('download.file.method.GEOquery'='auto')
Setting options('GEOquery.inmemory.gpl'=FALSE)
psichomics 1.24.0: start the visual interface by running psichomics()
Full documentation and tutorials at https://nuno-agostinho.github.io/psichomics
>
> test_check("psichomics")
| | 0%
|======== | 20%
|================ | 40%
|======================== | 60%
|================================ | 80%
|========================================| 100%
| | 0%
|======== | 20%
|================ | 40%
|======================== | 60%
|================================ | 80%
|========================================| 100%
| | 0%
|======== | 20%
|================ | 40%
|======================== | 60%
|================================ | 80%
|========================================| 100%
| | 0%
|======== | 20%
|================ | 40%
|======================== | 60%
|================================ | 80%
|========================================| 100%
Retrieving rMATS annotation...
Parsing rMATS annotation...
Retrieving rMATS annotation...
Parsing rMATS annotation...
Retrieving MISO annotation...
Parsing MISO annotation...
| | 0%
|======== | 20%
|================ | 40%
|======================== | 60%
|================================ | 80%
|========================================| 100%
| | 0%
|======== | 20%
|================ | 40%
|======================== | 60%
|================================ | 80%
|========================================| 100%
| | 0%
|======== | 20%
|================ | 40%
|======================== | 60%
|================================ | 80%
|========================================| 100%
| | 0%
|======== | 20%
|================ | 40%
|======================== | 60%
|================================ | 80%
|========================================| 100%
| | 0%
|======== | 20%
|================ | 40%
|======================== | 60%
|================================ | 80%
|========================================| 100%
| | 0%
|======== | 20%
|================ | 40%
|======================== | 60%
|================================ | 80%
|========================================| 100%
| | 0%
|======== | 20%
|================ | 40%
|======================== | 60%
|================================ | 80%
|========================================| 100%
| | 0%
|======== | 20%
|================ | 40%
|======================== | 60%
|================================ | 80%
|========================================| 100%
Retrieving SUPPA annotation...
Parsing SUPPA annotation...
Retrieving VAST-TOOLS annotation...
Parsing VAST-TOOLS annotation...
ALT3
ALT5
COMBI
EXSK
IR
MERGE3m
MIC
MULTI
[ FAIL 0 | WARN 1 | SKIP 4 | PASS 1418 ]
══ Skipped tests ═══════════════════════════════════════════════════════════════
• Couldn't resolve host name (1)
• On Bioconductor (2)
• On CRAN (1)
[ FAIL 0 | WARN 1 | SKIP 4 | PASS 1418 ]
>
> proc.time()
user system elapsed
22.761 1.586 26.750
psichomics.Rcheck/psichomics-Ex.timings
| name | user | system | elapsed | |
| addObjectAttrs | 0.001 | 0.000 | 0.001 | |
| assignValuePerSubject | 0.016 | 0.000 | 0.016 | |
| blendColours | 0.000 | 0.000 | 0.001 | |
| calculateLoadingsContribution | 0.008 | 0.000 | 0.009 | |
| convertGeneIdentifiers | 13.881 | 1.338 | 16.397 | |
| correlateGEandAS | 0.013 | 0.004 | 0.018 | |
| createGroupByAttribute | 0.001 | 0.000 | 0.001 | |
| createJunctionsTemplate | 0.002 | 0.000 | 0.002 | |
| customRowMeans | 0.001 | 0.000 | 0.000 | |
| diffAnalyses | 0.072 | 0.004 | 0.076 | |
| downloadFiles | 0 | 0 | 0 | |
| ensemblToUniprot | 0.037 | 0.000 | 0.438 | |
| filterGeneExpr | 0.002 | 0.004 | 0.006 | |
| filterGroups | 0.001 | 0.000 | 0.001 | |
| filterPSI | 0.009 | 0.003 | 0.012 | |
| getAttributesTime | 0.002 | 0.001 | 0.002 | |
| getDownloadsFolder | 0.001 | 0.000 | 0.001 | |
| getFirebrowseDateFormat | 0 | 0 | 0 | |
| getGeneList | 0.003 | 0.000 | 0.003 | |
| getGtexDataTypes | 0.040 | 0.008 | 0.365 | |
| getGtexTissues | 0 | 0 | 0 | |
| getNumerics | 0.006 | 0.000 | 0.006 | |
| getSampleFromSubject | 0.001 | 0.000 | 0.000 | |
| getSplicingEventFromGenes | 0.003 | 0.000 | 0.003 | |
| getSplicingEventTypes | 0.001 | 0.000 | 0.000 | |
| getSubjectFromSample | 0 | 0 | 0 | |
| getTCGAdataTypes | 0.034 | 0.020 | 0.105 | |
| getValidEvents | 0.005 | 0.000 | 0.005 | |
| groupPerElem | 0.000 | 0.001 | 0.001 | |
| hchart.survfit | 0.225 | 0.030 | 0.274 | |
| isFirebrowseUp | 0.005 | 0.000 | 0.023 | |
| labelBasedOnCutoff | 0.000 | 0.000 | 0.001 | |
| leveneTest | 0.007 | 0.000 | 0.008 | |
| listAllAnnotations | 2.440 | 0.236 | 3.027 | |
| listSplicingAnnotations | 12.084 | 1.031 | 14.124 | |
| loadAnnotation | 2.990 | 0.181 | 3.456 | |
| loadGtexData | 0 | 0 | 0 | |
| loadLocalFiles | 0 | 0 | 0 | |
| loadSRAproject | 0 | 0 | 0 | |
| loadTCGAdata | 0.011 | 0.000 | 0.023 | |
| missingDataModal | 0 | 0 | 0 | |
| normaliseGeneExpression | 0.025 | 0.004 | 0.028 | |
| optimalSurvivalCutoff | 0.086 | 0.004 | 0.090 | |
| parseCategoricalGroups | 0.001 | 0.000 | 0.001 | |
| parseFirebrowseMetadata | 0.049 | 0.004 | 0.093 | |
| parseMatsEvent | 0.006 | 0.000 | 0.005 | |
| parseMatsGeneric | 0.019 | 0.000 | 0.019 | |
| parseMisoAnnotation | 0.119 | 0.004 | 0.127 | |
| parseMisoEvent | 0.004 | 0.004 | 0.008 | |
| parseMisoEventID | 0.005 | 0.000 | 0.005 | |
| parseMisoGeneric | 0.023 | 0.004 | 0.027 | |
| parseMisoId | 0 | 0 | 0 | |
| parseSplicingEvent | 0.005 | 0.000 | 0.004 | |
| parseSuppaEvent | 0.000 | 0.003 | 0.003 | |
| parseSuppaGeneric | 0.016 | 0.000 | 0.016 | |
| parseTcgaSampleInfo | 0.001 | 0.002 | 0.003 | |
| parseUrlsFromFirebrowseResponse | 0.030 | 0.005 | 0.077 | |
| parseVastToolsEvent | 0.005 | 0.000 | 0.005 | |
| parseVastToolsSE | 0.013 | 0.004 | 0.018 | |
| performICA | 0.007 | 0.000 | 0.007 | |
| performPCA | 0.002 | 0.000 | 0.001 | |
| plot.GEandAScorrelation | 0.393 | 0.036 | 0.428 | |
| plotDistribution | 0.591 | 0.036 | 0.627 | |
| plotGeneExprPerSample | 0.090 | 0.011 | 0.102 | |
| plotGroupIndependence | 0.150 | 0.001 | 0.150 | |
| plotICA | 0.100 | 0.003 | 0.106 | |
| plotLibrarySize | 0.207 | 0.008 | 0.215 | |
| plotPCA | 0.204 | 0.021 | 0.224 | |
| plotPCAvariance | 0.041 | 0.004 | 0.045 | |
| plotProtein | 0.610 | 0.072 | 3.572 | |
| plotRowStats | 0.365 | 0.036 | 0.402 | |
| plotSingleICA | 0.178 | 0.020 | 0.197 | |
| plotSplicingEvent | 0.044 | 0.000 | 0.044 | |
| plotSurvivalCurves | 0.087 | 0.012 | 0.099 | |
| plotSurvivalPvaluesByCutoff | 0.453 | 0.028 | 0.481 | |
| plotTranscripts | 0.027 | 0.004 | 0.891 | |
| prepareAnnotationFromEvents | 0.146 | 0.000 | 0.145 | |
| prepareFirebrowseArchives | 0 | 0 | 0 | |
| prepareJunctionQuantSTAR | 0 | 0 | 0 | |
| prepareSRAmetadata | 0 | 0 | 0 | |
| processSurvTerms | 0.008 | 0.000 | 0.008 | |
| psichomics | 0 | 0 | 0 | |
| quantifySplicing | 0.009 | 0.000 | 0.009 | |
| queryEnsembl | 0.037 | 0.004 | 0.743 | |
| queryEnsemblByGene | 0.125 | 0.016 | 3.315 | |
| queryFirebrowseData | 0.065 | 0.003 | 0.148 | |
| queryPubMed | 0.061 | 0.008 | 0.837 | |
| queryUniprot | 0.069 | 0.000 | 1.138 | |
| readFile | 0.002 | 0.000 | 0.001 | |
| renameDuplicated | 0.000 | 0.001 | 0.001 | |
| renderBoxplot | 0.131 | 0.014 | 0.145 | |
| survdiffTerms | 0.003 | 0.004 | 0.008 | |
| survfit.survTerms | 0.025 | 0.008 | 0.033 | |
| testGroupIndependence | 0.003 | 0.000 | 0.003 | |
| testSurvival | 0.025 | 0.000 | 0.025 | |
| textSuggestions | 0.001 | 0.000 | 0.000 | |
| trimWhitespace | 0 | 0 | 0 | |