| Back to Multiple platform build/check report for BioC 3.16: simplified long |
|
This page was generated on 2023-04-12 11:05:46 -0400 (Wed, 12 Apr 2023).
| Hostname | OS | Arch (*) | R version | Installed pkgs |
|---|---|---|---|---|
| nebbiolo2 | Linux (Ubuntu 20.04.5 LTS) | x86_64 | 4.2.3 (2023-03-15) -- "Shortstop Beagle" | 4502 |
| palomino4 | Windows Server 2022 Datacenter | x64 | 4.2.3 (2023-03-15 ucrt) -- "Shortstop Beagle" | 4282 |
| lconway | macOS 12.5.1 Monterey | x86_64 | 4.2.3 (2023-03-15) -- "Shortstop Beagle" | 4310 |
| Click on any hostname to see more info about the system (e.g. compilers) (*) as reported by 'uname -p', except on Windows and Mac OS X | ||||
|
To the developers/maintainers of the projectR package: - Please allow up to 24 hours (and sometimes 48 hours) for your latest push to git@git.bioconductor.org:packages/projectR.git to reflect on this report. See How and When does the builder pull? When will my changes propagate? for more information. - Make sure to use the following settings in order to reproduce any error or warning you see on this page. |
| Package 1531/2183 | Hostname | OS / Arch | INSTALL | BUILD | CHECK | BUILD BIN | ||||||||
| projectR 1.14.0 (landing page) Genevieve Stein-O'Brien
| nebbiolo2 | Linux (Ubuntu 20.04.5 LTS) / x86_64 | OK | OK | OK | |||||||||
| palomino4 | Windows Server 2022 Datacenter / x64 | OK | OK | OK | OK | |||||||||
| lconway | macOS 12.5.1 Monterey / x86_64 | OK | OK | OK | OK | |||||||||
| Package: projectR |
| Version: 1.14.0 |
| Command: F:\biocbuild\bbs-3.16-bioc\R\bin\R.exe CMD check --no-multiarch --install=check:projectR.install-out.txt --library=F:\biocbuild\bbs-3.16-bioc\R\library --no-vignettes --timings projectR_1.14.0.tar.gz |
| StartedAt: 2023-04-11 04:44:02 -0400 (Tue, 11 Apr 2023) |
| EndedAt: 2023-04-11 04:48:04 -0400 (Tue, 11 Apr 2023) |
| EllapsedTime: 241.5 seconds |
| RetCode: 0 |
| Status: OK |
| CheckDir: projectR.Rcheck |
| Warnings: 0 |
##############################################################################
##############################################################################
###
### Running command:
###
### F:\biocbuild\bbs-3.16-bioc\R\bin\R.exe CMD check --no-multiarch --install=check:projectR.install-out.txt --library=F:\biocbuild\bbs-3.16-bioc\R\library --no-vignettes --timings projectR_1.14.0.tar.gz
###
##############################################################################
##############################################################################
* using log directory 'F:/biocbuild/bbs-3.16-bioc/meat/projectR.Rcheck'
* using R version 4.2.3 (2023-03-15 ucrt)
* using platform: x86_64-w64-mingw32 (64-bit)
* using session charset: UTF-8
* using option '--no-vignettes'
* checking for file 'projectR/DESCRIPTION' ... OK
* checking extension type ... Package
* this is package 'projectR' version '1.14.0'
* package encoding: UTF-8
* checking package namespace information ... OK
* checking package dependencies ... OK
* checking if this is a source package ... OK
* checking if there is a namespace ... OK
* checking for hidden files and directories ... NOTE
Found the following hidden files and directories:
.travis.yml
These were most likely included in error. See section 'Package
structure' in the 'Writing R Extensions' manual.
* checking for portable file names ... OK
* checking whether package 'projectR' can be installed ... OK
* checking installed package size ... OK
* checking package directory ... OK
* checking 'build' directory ... OK
* checking DESCRIPTION meta-information ... OK
* checking top-level files ... NOTE
File
LICENSE
is not mentioned in the DESCRIPTION file.
* checking for left-over files ... OK
* checking index information ... OK
* checking package subdirectories ... OK
* checking R files for non-ASCII characters ... OK
* checking R files for syntax errors ... OK
* checking whether the package can be loaded ... OK
* checking whether the package can be loaded with stated dependencies ... OK
* checking whether the package can be unloaded cleanly ... OK
* checking whether the namespace can be loaded with stated dependencies ... OK
* checking whether the namespace can be unloaded cleanly ... OK
* checking dependencies in R code ... OK
* checking S3 generic/method consistency ... OK
* checking replacement functions ... OK
* checking foreign function calls ... OK
* checking R code for possible problems ... NOTE
alluvialMat: no visible binding for global variable 'celltype'
alluvialMat: no visible binding for global variable 'variable'
alluvialMat: no visible binding for global variable 'value'
alluvialMat: no visible binding for global variable 'nCells'
alluvialMat: no visible binding for global variable 'nCells_per_type'
alluvialMat: no visible binding for global variable
'nCells_per_pattern'
alluvialMat: no visible binding for global variable 'prop'
Undefined global functions or variables:
celltype nCells nCells_per_pattern nCells_per_type prop value
variable
* checking Rd files ... OK
* checking Rd metadata ... OK
* checking Rd cross-references ... OK
* checking for missing documentation entries ... OK
* checking for code/documentation mismatches ... OK
* checking Rd \usage sections ... OK
* checking Rd contents ... OK
* checking for unstated dependencies in examples ... OK
* checking contents of 'data' directory ... OK
* checking data for non-ASCII characters ... OK
* checking LazyData ... OK
* checking data for ASCII and uncompressed saves ... OK
* checking sizes of PDF files under 'inst/doc' ... OK
* checking files in 'vignettes' ... OK
* checking examples ... OK
Examples with CPU (user + system) or elapsed time > 5s
user system elapsed
projectR-methods 29.86 0.09 29.95
* checking for unstated dependencies in 'tests' ... OK
* checking tests ...
Running 'testthat.R'
OK
* checking for unstated dependencies in vignettes ... OK
* checking package vignettes in 'inst/doc' ... OK
* checking running R code from vignettes ... SKIPPED
* checking re-building of vignette outputs ... SKIPPED
* checking PDF version of manual ... OK
* DONE
Status: 3 NOTEs
See
'F:/biocbuild/bbs-3.16-bioc/meat/projectR.Rcheck/00check.log'
for details.
projectR.Rcheck/00install.out
############################################################################## ############################################################################## ### ### Running command: ### ### F:\biocbuild\bbs-3.16-bioc\R\bin\R.exe CMD INSTALL projectR ### ############################################################################## ############################################################################## * installing to library 'F:/biocbuild/bbs-3.16-bioc/R/library' * installing *source* package 'projectR' ... ** using staged installation ** R ** data *** moving datasets to lazyload DB ** byte-compile and prepare package for lazy loading ** help *** installing help indices ** building package indices ** installing vignettes ** testing if installed package can be loaded from temporary location ** testing if installed package can be loaded from final location ** testing if installed package keeps a record of temporary installation path * DONE (projectR)
projectR.Rcheck/tests/testthat.Rout
R version 4.2.3 (2023-03-15 ucrt) -- "Shortstop Beagle"
Copyright (C) 2023 The R Foundation for Statistical Computing
Platform: x86_64-w64-mingw32/x64 (64-bit)
R is free software and comes with ABSOLUTELY NO WARRANTY.
You are welcome to redistribute it under certain conditions.
Type 'license()' or 'licence()' for distribution details.
R is a collaborative project with many contributors.
Type 'contributors()' for more information and
'citation()' on how to cite R or R packages in publications.
Type 'demo()' for some demos, 'help()' for on-line help, or
'help.start()' for an HTML browser interface to help.
Type 'q()' to quit R.
> library(testthat)
> library(projectR)
>
> test_check("projectR")
This is CoGAPS version 3.18.0
Running Standard CoGAPS on p.RNAseq6l3c3t (108 genes and 54 samples) with parameters:
-- Standard Parameters --
nPatterns 5
nIterations 50000
seed 177
sparseOptimization FALSE
-- Sparsity Parameters --
alpha 0.01
maxGibbsMass 100
Data Model: Dense, Normal
Sampler Type: Sequential
Loading Data...Done! (00:00:00)
-- Equilibration Phase --
1000 of 50000, Atoms: 200(A), 154(P), ChiSq: 52556, Time: 00:00:00 / 00:00:00
2000 of 50000, Atoms: 231(A), 177(P), ChiSq: 38991, Time: 00:00:00 / 00:00:00
3000 of 50000, Atoms: 275(A), 169(P), ChiSq: 34961, Time: 00:00:00 / 00:00:00
4000 of 50000, Atoms: 276(A), 191(P), ChiSq: 33457, Time: 00:00:00 / 00:00:00
5000 of 50000, Atoms: 291(A), 188(P), ChiSq: 32785, Time: 00:00:00 / 00:00:00
6000 of 50000, Atoms: 313(A), 189(P), ChiSq: 31956, Time: 00:00:01 / 00:00:22
7000 of 50000, Atoms: 345(A), 191(P), ChiSq: 30551, Time: 00:00:01 / 00:00:19
8000 of 50000, Atoms: 382(A), 205(P), ChiSq: 30340, Time: 00:00:01 / 00:00:16
9000 of 50000, Atoms: 381(A), 199(P), ChiSq: 29842, Time: 00:00:01 / 00:00:14
10000 of 50000, Atoms: 392(A), 200(P), ChiSq: 29477, Time: 00:00:02 / 00:00:25
11000 of 50000, Atoms: 422(A), 211(P), ChiSq: 29234, Time: 00:00:02 / 00:00:23
12000 of 50000, Atoms: 425(A), 206(P), ChiSq: 29042, Time: 00:00:02 / 00:00:20
13000 of 50000, Atoms: 423(A), 217(P), ChiSq: 28911, Time: 00:00:02 / 00:00:19
14000 of 50000, Atoms: 429(A), 209(P), ChiSq: 28901, Time: 00:00:03 / 00:00:26
15000 of 50000, Atoms: 428(A), 210(P), ChiSq: 28727, Time: 00:00:03 / 00:00:24
16000 of 50000, Atoms: 436(A), 238(P), ChiSq: 28556, Time: 00:00:03 / 00:00:22
17000 of 50000, Atoms: 456(A), 223(P), ChiSq: 28510, Time: 00:00:04 / 00:00:28
18000 of 50000, Atoms: 437(A), 227(P), ChiSq: 28441, Time: 00:00:04 / 00:00:26
19000 of 50000, Atoms: 438(A), 218(P), ChiSq: 28458, Time: 00:00:04 / 00:00:25
20000 of 50000, Atoms: 446(A), 231(P), ChiSq: 28391, Time: 00:00:04 / 00:00:23
21000 of 50000, Atoms: 438(A), 231(P), ChiSq: 28263, Time: 00:00:05 / 00:00:27
22000 of 50000, Atoms: 490(A), 236(P), ChiSq: 28303, Time: 00:00:05 / 00:00:26
23000 of 50000, Atoms: 478(A), 225(P), ChiSq: 28283, Time: 00:00:05 / 00:00:25
24000 of 50000, Atoms: 469(A), 222(P), ChiSq: 28267, Time: 00:00:05 / 00:00:24
25000 of 50000, Atoms: 461(A), 231(P), ChiSq: 28250, Time: 00:00:06 / 00:00:27
26000 of 50000, Atoms: 469(A), 224(P), ChiSq: 28256, Time: 00:00:06 / 00:00:26
27000 of 50000, Atoms: 475(A), 234(P), ChiSq: 28232, Time: 00:00:06 / 00:00:25
28000 of 50000, Atoms: 467(A), 223(P), ChiSq: 28189, Time: 00:00:07 / 00:00:28
29000 of 50000, Atoms: 466(A), 232(P), ChiSq: 28133, Time: 00:00:07 / 00:00:27
30000 of 50000, Atoms: 476(A), 234(P), ChiSq: 28230, Time: 00:00:07 / 00:00:26
31000 of 50000, Atoms: 459(A), 232(P), ChiSq: 28214, Time: 00:00:08 / 00:00:29
32000 of 50000, Atoms: 458(A), 235(P), ChiSq: 28166, Time: 00:00:08 / 00:00:28
33000 of 50000, Atoms: 474(A), 232(P), ChiSq: 28252, Time: 00:00:08 / 00:00:27
34000 of 50000, Atoms: 468(A), 233(P), ChiSq: 28305, Time: 00:00:08 / 00:00:26
35000 of 50000, Atoms: 466(A), 227(P), ChiSq: 28207, Time: 00:00:09 / 00:00:28
36000 of 50000, Atoms: 498(A), 215(P), ChiSq: 28215, Time: 00:00:09 / 00:00:27
37000 of 50000, Atoms: 454(A), 232(P), ChiSq: 28211, Time: 00:00:09 / 00:00:26
38000 of 50000, Atoms: 454(A), 229(P), ChiSq: 28243, Time: 00:00:10 / 00:00:28
39000 of 50000, Atoms: 475(A), 240(P), ChiSq: 28226, Time: 00:00:10 / 00:00:28
40000 of 50000, Atoms: 469(A), 245(P), ChiSq: 28170, Time: 00:00:10 / 00:00:27
41000 of 50000, Atoms: 474(A), 225(P), ChiSq: 28235, Time: 00:00:10 / 00:00:26
42000 of 50000, Atoms: 495(A), 243(P), ChiSq: 28257, Time: 00:00:11 / 00:00:28
43000 of 50000, Atoms: 472(A), 226(P), ChiSq: 28201, Time: 00:00:11 / 00:00:27
44000 of 50000, Atoms: 467(A), 226(P), ChiSq: 28199, Time: 00:00:11 / 00:00:27
45000 of 50000, Atoms: 470(A), 230(P), ChiSq: 28220, Time: 00:00:12 / 00:00:28
46000 of 50000, Atoms: 483(A), 235(P), ChiSq: 28206, Time: 00:00:12 / 00:00:28
47000 of 50000, Atoms: 492(A), 245(P), ChiSq: 28241, Time: 00:00:12 / 00:00:27
48000 of 50000, Atoms: 472(A), 234(P), ChiSq: 28167, Time: 00:00:12 / 00:00:26
49000 of 50000, Atoms: 487(A), 236(P), ChiSq: 28170, Time: 00:00:13 / 00:00:28
50000 of 50000, Atoms: 470(A), 226(P), ChiSq: 28206, Time: 00:00:13 / 00:00:27
-- Sampling Phase --
1000 of 50000, Atoms: 480(A), 235(P), ChiSq: 28165, Time: 00:00:13 / 00:00:27
2000 of 50000, Atoms: 484(A), 235(P), ChiSq: 28182, Time: 00:00:14 / 00:00:28
3000 of 50000, Atoms: 472(A), 235(P), ChiSq: 28187, Time: 00:00:14 / 00:00:28
4000 of 50000, Atoms: 462(A), 228(P), ChiSq: 28251, Time: 00:00:14 / 00:00:27
5000 of 50000, Atoms: 477(A), 225(P), ChiSq: 28239, Time: 00:00:15 / 00:00:28
6000 of 50000, Atoms: 478(A), 228(P), ChiSq: 28222, Time: 00:00:15 / 00:00:28
7000 of 50000, Atoms: 492(A), 226(P), ChiSq: 28212, Time: 00:00:15 / 00:00:27
8000 of 50000, Atoms: 464(A), 230(P), ChiSq: 28182, Time: 00:00:16 / 00:00:29
9000 of 50000, Atoms: 467(A), 234(P), ChiSq: 28182, Time: 00:00:16 / 00:00:28
10000 of 50000, Atoms: 469(A), 240(P), ChiSq: 28182, Time: 00:00:16 / 00:00:28
11000 of 50000, Atoms: 459(A), 249(P), ChiSq: 28182, Time: 00:00:17 / 00:00:29
12000 of 50000, Atoms: 466(A), 225(P), ChiSq: 28178, Time: 00:00:17 / 00:00:28
13000 of 50000, Atoms: 454(A), 240(P), ChiSq: 28232, Time: 00:00:17 / 00:00:28
14000 of 50000, Atoms: 473(A), 234(P), ChiSq: 28149, Time: 00:00:17 / 00:00:27
15000 of 50000, Atoms: 475(A), 234(P), ChiSq: 28218, Time: 00:00:18 / 00:00:28
16000 of 50000, Atoms: 470(A), 233(P), ChiSq: 28154, Time: 00:00:18 / 00:00:28
17000 of 50000, Atoms: 484(A), 235(P), ChiSq: 28192, Time: 00:00:18 / 00:00:27
18000 of 50000, Atoms: 488(A), 237(P), ChiSq: 28185, Time: 00:00:19 / 00:00:29
19000 of 50000, Atoms: 473(A), 230(P), ChiSq: 28207, Time: 00:00:19 / 00:00:28
20000 of 50000, Atoms: 464(A), 235(P), ChiSq: 28156, Time: 00:00:19 / 00:00:28
21000 of 50000, Atoms: 472(A), 229(P), ChiSq: 28247, Time: 00:00:20 / 00:00:29
22000 of 50000, Atoms: 475(A), 229(P), ChiSq: 28246, Time: 00:00:20 / 00:00:28
23000 of 50000, Atoms: 461(A), 236(P), ChiSq: 28175, Time: 00:00:20 / 00:00:28
24000 of 50000, Atoms: 465(A), 230(P), ChiSq: 28217, Time: 00:00:21 / 00:00:29
25000 of 50000, Atoms: 491(A), 226(P), ChiSq: 28163, Time: 00:00:21 / 00:00:28
26000 of 50000, Atoms: 479(A), 236(P), ChiSq: 28221, Time: 00:00:21 / 00:00:28
27000 of 50000, Atoms: 459(A), 241(P), ChiSq: 28236, Time: 00:00:21 / 00:00:27
28000 of 50000, Atoms: 471(A), 236(P), ChiSq: 28234, Time: 00:00:22 / 00:00:28
29000 of 50000, Atoms: 467(A), 240(P), ChiSq: 28186, Time: 00:00:22 / 00:00:28
30000 of 50000, Atoms: 484(A), 238(P), ChiSq: 28144, Time: 00:00:22 / 00:00:28
31000 of 50000, Atoms: 463(A), 234(P), ChiSq: 28222, Time: 00:00:23 / 00:00:28
32000 of 50000, Atoms: 474(A), 244(P), ChiSq: 28186, Time: 00:00:23 / 00:00:28
33000 of 50000, Atoms: 493(A), 243(P), ChiSq: 28223, Time: 00:00:23 / 00:00:28
34000 of 50000, Atoms: 458(A), 234(P), ChiSq: 28166, Time: 00:00:24 / 00:00:29
35000 of 50000, Atoms: 466(A), 268(P), ChiSq: 28217, Time: 00:00:24 / 00:00:28
36000 of 50000, Atoms: 460(A), 257(P), ChiSq: 28235, Time: 00:00:24 / 00:00:28
37000 of 50000, Atoms: 467(A), 231(P), ChiSq: 28160, Time: 00:00:25 / 00:00:29
38000 of 50000, Atoms: 459(A), 230(P), ChiSq: 28232, Time: 00:00:25 / 00:00:28
39000 of 50000, Atoms: 470(A), 226(P), ChiSq: 28148, Time: 00:00:25 / 00:00:28
40000 of 50000, Atoms: 490(A), 234(P), ChiSq: 28132, Time: 00:00:26 / 00:00:29
41000 of 50000, Atoms: 478(A), 233(P), ChiSq: 28121, Time: 00:00:26 / 00:00:28
42000 of 50000, Atoms: 471(A), 230(P), ChiSq: 28218, Time: 00:00:26 / 00:00:28
43000 of 50000, Atoms: 459(A), 232(P), ChiSq: 28223, Time: 00:00:27 / 00:00:29
44000 of 50000, Atoms: 462(A), 225(P), ChiSq: 28141, Time: 00:00:27 / 00:00:28
45000 of 50000, Atoms: 479(A), 228(P), ChiSq: 28278, Time: 00:00:27 / 00:00:28
46000 of 50000, Atoms: 476(A), 233(P), ChiSq: 28221, Time: 00:00:27 / 00:00:28
47000 of 50000, Atoms: 475(A), 233(P), ChiSq: 28139, Time: 00:00:28 / 00:00:28
48000 of 50000, Atoms: 481(A), 222(P), ChiSq: 28103, Time: 00:00:28 / 00:00:28
49000 of 50000, Atoms: 471(A), 238(P), ChiSq: 28217, Time: 00:00:28 / 00:00:28
50000 of 50000, Atoms: 462(A), 252(P), ChiSq: 28220, Time: 00:00:29 / 00:00:29
[1] "93 row names matched between data and loadings"
[1] "Updated dimension of data: 93 9"
[1] "93 row names matched between data and loadings"
[1] "Updated dimension of data: 93 9"
[1] "93 row names matched between data and loadings"
[1] "Updated dimension of data: 93 9"
[ FAIL 0 | WARN 13 | SKIP 0 | PASS 24 ]
[ FAIL 0 | WARN 13 | SKIP 0 | PASS 24 ]
>
> proc.time()
user system elapsed
37.42 0.60 38.00
projectR.Rcheck/projectR-Ex.timings
| name | user | system | elapsed | |
| alluvialMat | 0.71 | 0.04 | 0.75 | |
| aucMat | 0.06 | 0.00 | 0.06 | |
| cluster2pattern-methods | 0.16 | 0.00 | 0.15 | |
| clusterPlotR-methods | 0 | 0 | 0 | |
| correlateR | 0.08 | 0.05 | 0.13 | |
| geneMatchR | 0.03 | 0.02 | 0.04 | |
| intersectoR-methods | 0.03 | 0.00 | 0.04 | |
| projectR-methods | 29.86 | 0.09 | 29.95 | |
| rotatoR | 0 | 0 | 0 | |