| Back to Multiple platform build/check report for BioC 3.16: simplified long |
|
This page was generated on 2023-04-12 11:05:45 -0400 (Wed, 12 Apr 2023).
| Hostname | OS | Arch (*) | R version | Installed pkgs |
|---|---|---|---|---|
| nebbiolo2 | Linux (Ubuntu 20.04.5 LTS) | x86_64 | 4.2.3 (2023-03-15) -- "Shortstop Beagle" | 4502 |
| palomino4 | Windows Server 2022 Datacenter | x64 | 4.2.3 (2023-03-15 ucrt) -- "Shortstop Beagle" | 4282 |
| lconway | macOS 12.5.1 Monterey | x86_64 | 4.2.3 (2023-03-15) -- "Shortstop Beagle" | 4310 |
| Click on any hostname to see more info about the system (e.g. compilers) (*) as reported by 'uname -p', except on Windows and Mac OS X | ||||
|
To the developers/maintainers of the polyester package: - Please allow up to 24 hours (and sometimes 48 hours) for your latest push to git@git.bioconductor.org:packages/polyester.git to reflect on this report. See How and When does the builder pull? When will my changes propagate? for more information. - Make sure to use the following settings in order to reproduce any error or warning you see on this page. |
| Package 1505/2183 | Hostname | OS / Arch | INSTALL | BUILD | CHECK | BUILD BIN | ||||||||
| polyester 1.34.0 (landing page) Jack Fu
| nebbiolo2 | Linux (Ubuntu 20.04.5 LTS) / x86_64 | OK | OK | OK | |||||||||
| palomino4 | Windows Server 2022 Datacenter / x64 | OK | OK | OK | OK | |||||||||
| lconway | macOS 12.5.1 Monterey / x86_64 | OK | OK | OK | OK | |||||||||
| Package: polyester |
| Version: 1.34.0 |
| Command: F:\biocbuild\bbs-3.16-bioc\R\bin\R.exe CMD check --no-multiarch --install=check:polyester.install-out.txt --library=F:\biocbuild\bbs-3.16-bioc\R\library --no-vignettes --timings polyester_1.34.0.tar.gz |
| StartedAt: 2023-04-11 04:37:40 -0400 (Tue, 11 Apr 2023) |
| EndedAt: 2023-04-11 04:39:36 -0400 (Tue, 11 Apr 2023) |
| EllapsedTime: 116.3 seconds |
| RetCode: 0 |
| Status: OK |
| CheckDir: polyester.Rcheck |
| Warnings: 0 |
##############################################################################
##############################################################################
###
### Running command:
###
### F:\biocbuild\bbs-3.16-bioc\R\bin\R.exe CMD check --no-multiarch --install=check:polyester.install-out.txt --library=F:\biocbuild\bbs-3.16-bioc\R\library --no-vignettes --timings polyester_1.34.0.tar.gz
###
##############################################################################
##############################################################################
* using log directory 'F:/biocbuild/bbs-3.16-bioc/meat/polyester.Rcheck'
* using R version 4.2.3 (2023-03-15 ucrt)
* using platform: x86_64-w64-mingw32 (64-bit)
* using session charset: UTF-8
* using option '--no-vignettes'
* checking for file 'polyester/DESCRIPTION' ... OK
* this is package 'polyester' version '1.34.0'
* checking package namespace information ... OK
* checking package dependencies ... OK
* checking if this is a source package ... OK
* checking if there is a namespace ... OK
* checking for hidden files and directories ... OK
* checking for portable file names ... OK
* checking whether package 'polyester' can be installed ... OK
* checking installed package size ... OK
* checking package directory ... OK
* checking 'build' directory ... OK
* checking DESCRIPTION meta-information ... OK
* checking top-level files ... OK
* checking for left-over files ... OK
* checking index information ... OK
* checking package subdirectories ... OK
* checking R files for non-ASCII characters ... OK
* checking R files for syntax errors ... OK
* checking whether the package can be loaded ... OK
* checking whether the package can be loaded with stated dependencies ... OK
* checking whether the package can be unloaded cleanly ... OK
* checking whether the namespace can be loaded with stated dependencies ... OK
* checking whether the namespace can be unloaded cleanly ... OK
* checking dependencies in R code ... NOTE
Namespace in Imports field not imported from: 'zlibbioc'
All declared Imports should be used.
* checking S3 generic/method consistency ... OK
* checking replacement functions ... OK
* checking foreign function calls ... OK
* checking R code for possible problems ... NOTE
add_platform_error: no visible binding for global variable 'model1'
add_platform_error: no visible binding for global variable 'model2'
add_platform_error: no visible binding for global variable 'model4'
add_platform_error: no visible binding for global variable 'model5'
add_platform_error: no visible binding for global variable 'model3'
add_platform_error: no visible binding for global variable 'model6'
add_platform_error: no visible binding for global variable 'model7'
generate_fragments: no visible binding for global variable
'empirical_density'
generate_fragments: no visible binding for global variable 'rnaf'
generate_fragments: no visible binding for global variable 'cdnaf'
simulate_experiment_countmat: no visible global function definition for
'is'
Undefined global functions or variables:
cdnaf empirical_density is model1 model2 model3 model4 model5 model6
model7 rnaf
Consider adding
importFrom("methods", "is")
to your NAMESPACE file (and ensure that your DESCRIPTION Imports field
contains 'methods').
* checking Rd files ... OK
* checking Rd metadata ... OK
* checking Rd cross-references ... OK
* checking for missing documentation entries ... OK
* checking for code/documentation mismatches ... OK
* checking Rd \usage sections ... OK
* checking Rd contents ... OK
* checking for unstated dependencies in examples ... OK
* checking contents of 'data' directory ... OK
* checking data for non-ASCII characters ... OK
* checking data for ASCII and uncompressed saves ... OK
* checking files in 'vignettes' ... OK
* checking examples ... OK
Examples with CPU (user + system) or elapsed time > 5s
user system elapsed
add_gc_bias 10.47 0.08 10.56
create_read_numbers 7.06 0.46 7.52
* checking for unstated dependencies in vignettes ... OK
* checking package vignettes in 'inst/doc' ... OK
* checking running R code from vignettes ... SKIPPED
* checking re-building of vignette outputs ... SKIPPED
* checking PDF version of manual ... OK
* DONE
Status: 2 NOTEs
See
'F:/biocbuild/bbs-3.16-bioc/meat/polyester.Rcheck/00check.log'
for details.
polyester.Rcheck/00install.out
############################################################################## ############################################################################## ### ### Running command: ### ### F:\biocbuild\bbs-3.16-bioc\R\bin\R.exe CMD INSTALL polyester ### ############################################################################## ############################################################################## * installing to library 'F:/biocbuild/bbs-3.16-bioc/R/library' * installing *source* package 'polyester' ... ** using staged installation ** R ** data ** inst ** byte-compile and prepare package for lazy loading ** help *** installing help indices ** building package indices ** installing vignettes ** testing if installed package can be loaded from temporary location ** testing if installed package can be loaded from final location ** testing if installed package keeps a record of temporary installation path * DONE (polyester)
polyester.Rcheck/polyester-Ex.timings
| name | user | system | elapsed | |
| NB | 0 | 0 | 0 | |
| add_error | 0.14 | 0.02 | 0.17 | |
| add_gc_bias | 10.47 | 0.08 | 10.56 | |
| add_platform_error | 0.28 | 0.01 | 0.30 | |
| count_transcripts | 0.02 | 0.00 | 0.01 | |
| create_read_numbers | 7.06 | 0.46 | 7.52 | |
| fpkm_to_counts | 0.02 | 0.02 | 0.03 | |
| generate_fragments | 0.24 | 0.01 | 0.25 | |
| getAttributeField | 0.74 | 0.06 | 0.82 | |
| get_params | 0.07 | 0.00 | 0.08 | |
| get_reads | 0.19 | 0.05 | 0.23 | |
| reverse_complement | 0.17 | 0.05 | 0.22 | |
| seq_gtf | 0 | 0 | 0 | |
| simulate_experiment | 0 | 0 | 0 | |
| simulate_experiment_countmat | 0 | 0 | 0 | |
| simulate_experiment_empirical | 0 | 0 | 0 | |
| write_reads | 0.18 | 0.01 | 0.19 | |