| Back to Multiple platform build/check report for BioC 3.16: simplified long |
|
This page was generated on 2023-04-12 11:06:20 -0400 (Wed, 12 Apr 2023).
| Hostname | OS | Arch (*) | R version | Installed pkgs |
|---|---|---|---|---|
| nebbiolo2 | Linux (Ubuntu 20.04.5 LTS) | x86_64 | 4.2.3 (2023-03-15) -- "Shortstop Beagle" | 4502 |
| palomino4 | Windows Server 2022 Datacenter | x64 | 4.2.3 (2023-03-15 ucrt) -- "Shortstop Beagle" | 4282 |
| lconway | macOS 12.5.1 Monterey | x86_64 | 4.2.3 (2023-03-15) -- "Shortstop Beagle" | 4310 |
| Click on any hostname to see more info about the system (e.g. compilers) (*) as reported by 'uname -p', except on Windows and Mac OS X | ||||
|
To the developers/maintainers of the plotgardener package: - Please allow up to 24 hours (and sometimes 48 hours) for your latest push to git@git.bioconductor.org:packages/plotgardener.git to reflect on this report. See How and When does the builder pull? When will my changes propagate? for more information. - Make sure to use the following settings in order to reproduce any error or warning you see on this page. |
| Package 1496/2183 | Hostname | OS / Arch | INSTALL | BUILD | CHECK | BUILD BIN | ||||||||
| plotgardener 1.4.2 (landing page) Nicole Kramer
| nebbiolo2 | Linux (Ubuntu 20.04.5 LTS) / x86_64 | OK | OK | OK | |||||||||
| palomino4 | Windows Server 2022 Datacenter / x64 | OK | OK | OK | OK | |||||||||
| lconway | macOS 12.5.1 Monterey / x86_64 | OK | OK | OK | OK | |||||||||
| Package: plotgardener |
| Version: 1.4.2 |
| Command: /Library/Frameworks/R.framework/Resources/bin/R CMD check --install=check:plotgardener.install-out.txt --library=/Library/Frameworks/R.framework/Resources/library --no-vignettes --timings plotgardener_1.4.2.tar.gz |
| StartedAt: 2023-04-10 21:53:43 -0400 (Mon, 10 Apr 2023) |
| EndedAt: 2023-04-10 21:58:45 -0400 (Mon, 10 Apr 2023) |
| EllapsedTime: 301.3 seconds |
| RetCode: 0 |
| Status: OK |
| CheckDir: plotgardener.Rcheck |
| Warnings: 0 |
##############################################################################
##############################################################################
###
### Running command:
###
### /Library/Frameworks/R.framework/Resources/bin/R CMD check --install=check:plotgardener.install-out.txt --library=/Library/Frameworks/R.framework/Resources/library --no-vignettes --timings plotgardener_1.4.2.tar.gz
###
##############################################################################
##############################################################################
* using log directory ‘/Users/biocbuild/bbs-3.16-bioc/meat/plotgardener.Rcheck’
* using R version 4.2.3 (2023-03-15)
* using platform: x86_64-apple-darwin17.0 (64-bit)
* using session charset: UTF-8
* using option ‘--no-vignettes’
* checking for file ‘plotgardener/DESCRIPTION’ ... OK
* this is package ‘plotgardener’ version ‘1.4.2’
* package encoding: UTF-8
* checking package namespace information ... OK
* checking package dependencies ... OK
* checking if this is a source package ... OK
* checking if there is a namespace ... OK
* checking for hidden files and directories ... OK
* checking for portable file names ... OK
* checking for sufficient/correct file permissions ... OK
* checking whether package ‘plotgardener’ can be installed ... OK
* checking installed package size ... OK
* checking package directory ... OK
* checking ‘build’ directory ... OK
* checking DESCRIPTION meta-information ... OK
* checking top-level files ... OK
* checking for left-over files ... OK
* checking index information ... OK
* checking package subdirectories ... OK
* checking R files for non-ASCII characters ... OK
* checking R files for syntax errors ... OK
* checking whether the package can be loaded ... OK
* checking whether the package can be loaded with stated dependencies ... OK
* checking whether the package can be unloaded cleanly ... OK
* checking whether the namespace can be loaded with stated dependencies ... OK
* checking whether the namespace can be unloaded cleanly ... OK
* checking dependencies in R code ... OK
* checking S3 generic/method consistency ... OK
* checking replacement functions ... OK
* checking foreign function calls ... OK
* checking R code for possible problems ... OK
* checking Rd files ... OK
* checking Rd metadata ... OK
* checking Rd cross-references ... OK
* checking for missing documentation entries ... OK
* checking for code/documentation mismatches ... OK
* checking Rd \usage sections ... OK
* checking Rd contents ... OK
* checking for unstated dependencies in examples ... OK
* checking R/sysdata.rda ... OK
* checking line endings in C/C++/Fortran sources/headers ... OK
* checking compiled code ... NOTE
Note: information on .o files is not available
* checking files in ‘vignettes’ ... OK
* checking examples ... OK
Examples with CPU (user + system) or elapsed time > 5s
user system elapsed
plotRaster 9.267 0.555 9.850
plotIdeogram 4.838 0.352 12.098
* checking for unstated dependencies in ‘tests’ ... OK
* checking tests ...
Running ‘testthat.R’
OK
* checking for unstated dependencies in vignettes ... OK
* checking package vignettes in ‘inst/doc’ ... OK
* checking running R code from vignettes ... SKIPPED
* checking re-building of vignette outputs ... SKIPPED
* checking PDF version of manual ... OK
* DONE
Status: 1 NOTE
See
‘/Users/biocbuild/bbs-3.16-bioc/meat/plotgardener.Rcheck/00check.log’
for details.
plotgardener.Rcheck/00install.out
############################################################################## ############################################################################## ### ### Running command: ### ### /Library/Frameworks/R.framework/Resources/bin/R CMD INSTALL plotgardener ### ############################################################################## ############################################################################## * installing to library ‘/Library/Frameworks/R.framework/Versions/4.2/Resources/library’ * installing *source* package ‘plotgardener’ ... ** using staged installation ** libs clang++ -mmacosx-version-min=10.13 -std=gnu++14 -I"/Library/Frameworks/R.framework/Resources/include" -DNDEBUG -I'/Library/Frameworks/R.framework/Versions/4.2/Resources/library/Rcpp/include' -I/usr/local/include -fPIC -Wall -g -O2 -c RcppExports.cpp -o RcppExports.o clang++ -mmacosx-version-min=10.13 -std=gnu++14 -I"/Library/Frameworks/R.framework/Resources/include" -DNDEBUG -I'/Library/Frameworks/R.framework/Versions/4.2/Resources/library/Rcpp/include' -I/usr/local/include -fPIC -Wall -g -O2 -c checkRow.cpp -o checkRow.o clang++ -mmacosx-version-min=10.13 -std=gnu++14 -I"/Library/Frameworks/R.framework/Resources/include" -DNDEBUG -I'/Library/Frameworks/R.framework/Versions/4.2/Resources/library/Rcpp/include' -I/usr/local/include -fPIC -Wall -g -O2 -c rebinBigwig.cpp -o rebinBigwig.o clang++ -mmacosx-version-min=10.13 -std=gnu++14 -dynamiclib -Wl,-headerpad_max_install_names -undefined dynamic_lookup -single_module -multiply_defined suppress -L/Library/Frameworks/R.framework/Resources/lib -L/usr/local/lib -o plotgardener.so RcppExports.o checkRow.o rebinBigwig.o -F/Library/Frameworks/R.framework/.. -framework R -Wl,-framework -Wl,CoreFoundation installing to /Library/Frameworks/R.framework/Versions/4.2/Resources/library/00LOCK-plotgardener/00new/plotgardener/libs ** R ** inst ** byte-compile and prepare package for lazy loading ** help *** installing help indices *** copying figures ** building package indices ** installing vignettes ** testing if installed package can be loaded from temporary location ** checking absolute paths in shared objects and dynamic libraries ** testing if installed package can be loaded from final location ** testing if installed package keeps a record of temporary installation path * DONE (plotgardener)
plotgardener.Rcheck/tests/testthat.Rout
R version 4.2.3 (2023-03-15) -- "Shortstop Beagle"
Copyright (C) 2023 The R Foundation for Statistical Computing
Platform: x86_64-apple-darwin17.0 (64-bit)
R is free software and comes with ABSOLUTELY NO WARRANTY.
You are welcome to redistribute it under certain conditions.
Type 'license()' or 'licence()' for distribution details.
R is a collaborative project with many contributors.
Type 'contributors()' for more information and
'citation()' on how to cite R or R packages in publications.
Type 'demo()' for some demos, 'help()' for on-line help, or
'help.start()' for an HTML browser interface to help.
Type 'q()' to quit R.
> library(testthat)
> library(plotgardener)
Attaching package: 'plotgardener'
The following object is masked from 'package:base':
c
>
> test_check("plotgardener")
Loading required package: GenomicFeatures
Loading required package: BiocGenerics
Attaching package: 'BiocGenerics'
The following objects are masked from 'package:stats':
IQR, mad, sd, var, xtabs
The following objects are masked from 'package:base':
Filter, Find, Map, Position, Reduce, anyDuplicated, aperm, append,
as.data.frame, basename, cbind, colnames, dirname, do.call,
duplicated, eval, evalq, get, grep, grepl, intersect, is.unsorted,
lapply, mapply, match, mget, order, paste, pmax, pmax.int, pmin,
pmin.int, rank, rbind, rownames, sapply, setdiff, sort, table,
tapply, union, unique, unsplit, which.max, which.min
Loading required package: S4Vectors
Loading required package: stats4
Attaching package: 'S4Vectors'
The following objects are masked from 'package:base':
I, expand.grid, unname
Loading required package: IRanges
Loading required package: GenomeInfoDb
Loading required package: GenomicRanges
Loading required package: AnnotationDbi
Loading required package: Biobase
Welcome to Bioconductor
Vignettes contain introductory material; view with
'browseVignettes()'. To cite Bioconductor, see
'citation("Biobase")', and for packages 'citation("pkgname")'.
start, endLoading required package: SummarizedExperiment
Loading required package: MatrixGenerics
Loading required package: matrixStats
Attaching package: 'matrixStats'
The following objects are masked from 'package:Biobase':
anyMissing, rowMedians
Attaching package: 'MatrixGenerics'
The following objects are masked from 'package:matrixStats':
colAlls, colAnyNAs, colAnys, colAvgsPerRowSet, colCollapse,
colCounts, colCummaxs, colCummins, colCumprods, colCumsums,
colDiffs, colIQRDiffs, colIQRs, colLogSumExps, colMadDiffs,
colMads, colMaxs, colMeans2, colMedians, colMins, colOrderStats,
colProds, colQuantiles, colRanges, colRanks, colSdDiffs, colSds,
colSums2, colTabulates, colVarDiffs, colVars, colWeightedMads,
colWeightedMeans, colWeightedMedians, colWeightedSds,
colWeightedVars, rowAlls, rowAnyNAs, rowAnys, rowAvgsPerColSet,
rowCollapse, rowCounts, rowCummaxs, rowCummins, rowCumprods,
rowCumsums, rowDiffs, rowIQRDiffs, rowIQRs, rowLogSumExps,
rowMadDiffs, rowMads, rowMaxs, rowMeans2, rowMedians, rowMins,
rowOrderStats, rowProds, rowQuantiles, rowRanges, rowRanks,
rowSdDiffs, rowSds, rowSums2, rowTabulates, rowVarDiffs, rowVars,
rowWeightedMads, rowWeightedMeans, rowWeightedMedians,
rowWeightedSds, rowWeightedVars
The following object is masked from 'package:Biobase':
rowMedians
Read in hic file with KR normalization at 1e+05 BP resolution.
signal[signal2]
signal[signal2]
[ FAIL 0 | WARN 0 | SKIP 0 | PASS 106 ]
>
> proc.time()
user system elapsed
31.682 1.582 33.400
plotgardener.Rcheck/plotgardener-Ex.timings
| name | user | system | elapsed | |
| annoDomains | 1.438 | 0.065 | 1.509 | |
| annoGenomeLabel | 2.711 | 0.147 | 2.867 | |
| annoHeatmapLegend | 1.261 | 0.036 | 1.302 | |
| annoHighlight | 0.691 | 0.029 | 0.723 | |
| annoPixels | 0.769 | 0.070 | 0.843 | |
| annoSegments | 1.562 | 0.069 | 1.639 | |
| annoText | 0.765 | 0.028 | 0.796 | |
| annoXaxis | 1.177 | 0.062 | 1.242 | |
| annoYaxis | 0.733 | 0.066 | 0.808 | |
| annoZoomLines | 2.247 | 0.100 | 2.353 | |
| assembly | 0.000 | 0.001 | 0.000 | |
| c | 0 | 0 | 0 | |
| calcSignalRange | 1.144 | 0.025 | 1.172 | |
| colorby | 0.553 | 0.011 | 0.563 | |
| defaultPackages | 0.007 | 0.001 | 0.008 | |
| genomes | 0 | 0 | 0 | |
| mapColors | 0.066 | 0.004 | 0.070 | |
| pageCreate | 0.022 | 0.003 | 0.025 | |
| pageGuideHide | 0.014 | 0.002 | 0.017 | |
| pageGuideHorizontal | 0.014 | 0.001 | 0.015 | |
| pageGuideShow | 0.650 | 0.050 | 0.702 | |
| pageGuideVertical | 0.066 | 0.004 | 0.070 | |
| pageLayoutCol | 0.001 | 0.000 | 0.001 | |
| pageLayoutRow | 0.000 | 0.001 | 0.000 | |
| pagePlotPlace | 0.474 | 0.039 | 0.515 | |
| pagePlotRemove | 0.426 | 0.035 | 0.462 | |
| pgParams | 1.089 | 0.042 | 1.136 | |
| plotCircle | 0.023 | 0.002 | 0.026 | |
| plotGG | 0.250 | 0.010 | 0.261 | |
| plotGenes | 3.548 | 0.142 | 3.701 | |
| plotGenomeLabel | 1.798 | 0.062 | 1.866 | |
| plotHicRectangle | 0.417 | 0.029 | 0.448 | |
| plotHicSquare | 0.581 | 0.044 | 0.628 | |
| plotHicTriangle | 1.006 | 0.046 | 1.056 | |
| plotIdeogram | 4.838 | 0.352 | 12.098 | |
| plotLegend | 0.292 | 0.015 | 0.309 | |
| plotManhattan | 1.535 | 0.077 | 1.632 | |
| plotMultiSignal | 1.485 | 0.053 | 1.541 | |
| plotPairs | 0.082 | 0.006 | 0.089 | |
| plotPairsArches | 0.081 | 0.006 | 0.087 | |
| plotPolygon | 0.023 | 0.002 | 0.026 | |
| plotRanges | 0.118 | 0.005 | 0.124 | |
| plotRaster | 9.267 | 0.555 | 9.850 | |
| plotRect | 0.420 | 0.027 | 0.451 | |
| plotSegments | 0.040 | 0.004 | 0.044 | |
| plotSignal | 0.616 | 0.026 | 0.644 | |
| plotText | 0.033 | 0.002 | 0.035 | |
| plotTranscripts | 0.926 | 0.061 | 0.989 | |
| readBigwig | 0.271 | 0.003 | 0.275 | |
| readHic | 0.009 | 0.002 | 0.011 | |