| Back to Multiple platform build/check report for BioC 3.16: simplified long |
|
This page was generated on 2023-04-12 11:05:14 -0400 (Wed, 12 Apr 2023).
| Hostname | OS | Arch (*) | R version | Installed pkgs |
|---|---|---|---|---|
| nebbiolo2 | Linux (Ubuntu 20.04.5 LTS) | x86_64 | 4.2.3 (2023-03-15) -- "Shortstop Beagle" | 4502 |
| palomino4 | Windows Server 2022 Datacenter | x64 | 4.2.3 (2023-03-15 ucrt) -- "Shortstop Beagle" | 4282 |
| lconway | macOS 12.5.1 Monterey | x86_64 | 4.2.3 (2023-03-15) -- "Shortstop Beagle" | 4310 |
| Click on any hostname to see more info about the system (e.g. compilers) (*) as reported by 'uname -p', except on Windows and Mac OS X | ||||
|
To the developers/maintainers of the plier package: - Please allow up to 24 hours (and sometimes 48 hours) for your latest push to git@git.bioconductor.org:packages/plier.git to reflect on this report. See How and When does the builder pull? When will my changes propagate? for more information. - Make sure to use the following settings in order to reproduce any error or warning you see on this page. |
| Package 1494/2183 | Hostname | OS / Arch | INSTALL | BUILD | CHECK | BUILD BIN | ||||||||
| plier 1.68.0 (landing page) Crispin Miller
| nebbiolo2 | Linux (Ubuntu 20.04.5 LTS) / x86_64 | OK | OK | OK | |||||||||
| palomino4 | Windows Server 2022 Datacenter / x64 | OK | OK | OK | OK | |||||||||
| lconway | macOS 12.5.1 Monterey / x86_64 | OK | OK | WARNINGS | OK | |||||||||
| Package: plier |
| Version: 1.68.0 |
| Command: /home/biocbuild/bbs-3.16-bioc/R/bin/R CMD INSTALL plier |
| StartedAt: 2023-04-10 15:10:44 -0400 (Mon, 10 Apr 2023) |
| EndedAt: 2023-04-10 15:10:53 -0400 (Mon, 10 Apr 2023) |
| EllapsedTime: 9.2 seconds |
| RetCode: 0 |
| Status: OK |
##############################################################################
##############################################################################
###
### Running command:
###
### /home/biocbuild/bbs-3.16-bioc/R/bin/R CMD INSTALL plier
###
##############################################################################
##############################################################################
* installing to library ‘/home/biocbuild/bbs-3.16-bioc/R/site-library’
* installing *source* package ‘plier’ ...
** using staged installation
** libs
g++ -std=gnu++14 -I"/home/biocbuild/bbs-3.16-bioc/R/include" -DNDEBUG -I/usr/local/include -fpic -g -O2 -Wall -c affyplier.cpp -o affyplier.o
g++ -std=gnu++14 -I"/home/biocbuild/bbs-3.16-bioc/R/include" -DNDEBUG -I/usr/local/include -fpic -g -O2 -Wall -c plier_impl.cpp -o plier_impl.o
g++ -std=gnu++14 -I"/home/biocbuild/bbs-3.16-bioc/R/include" -DNDEBUG -I/usr/local/include -fpic -g -O2 -Wall -c plieralg.cpp -o plieralg.o
plieralg.cpp: In function ‘long int NewtonPlier(plier_data*, double&)’:
plieralg.cpp:905:14: warning: variable ‘icount’ set but not used [-Wunused-but-set-variable]
905 | long count, icount;
| ^~~~~~
plieralg.cpp: At global scope:
plieralg.cpp:49:12: warning: ‘g_ErrorCode’ defined but not used [-Wunused-variable]
49 | static int g_ErrorCode=NoError;
| ^~~~~~~~~~~
plieralg.cpp: In function ‘long int NewtonPlier(plier_data*, double&)’:
plieralg.cpp:1257:24: warning: ‘LogLikelihood’ may be used uninitialized in this function [-Wmaybe-uninitialized]
1257 | output = LogLikelihood/nSize;
| ~~~~~~~~~~~~~^~~~~~
g++ -std=gnu++14 -I"/home/biocbuild/bbs-3.16-bioc/R/include" -DNDEBUG -I/usr/local/include -fpic -g -O2 -Wall -c rwrapper.cpp -o rwrapper.o
g++ -std=gnu++14 -shared -L/home/biocbuild/bbs-3.16-bioc/R/lib -L/usr/local/lib -o plier.so affyplier.o plier_impl.o plieralg.o rwrapper.o -L/home/biocbuild/bbs-3.16-bioc/R/lib -lR
installing to /home/biocbuild/bbs-3.16-bioc/R/site-library/00LOCK-plier/00new/plier/libs
** R
** byte-compile and prepare package for lazy loading
** help
*** installing help indices
** building package indices
** testing if installed package can be loaded from temporary location
** checking absolute paths in shared objects and dynamic libraries
** testing if installed package can be loaded from final location
** testing if installed package keeps a record of temporary installation path
* DONE (plier)