| Back to Multiple platform build/check report for BioC 3.16: simplified long |
|
This page was generated on 2023-04-12 11:06:17 -0400 (Wed, 12 Apr 2023).
| Hostname | OS | Arch (*) | R version | Installed pkgs |
|---|---|---|---|---|
| nebbiolo2 | Linux (Ubuntu 20.04.5 LTS) | x86_64 | 4.2.3 (2023-03-15) -- "Shortstop Beagle" | 4502 |
| palomino4 | Windows Server 2022 Datacenter | x64 | 4.2.3 (2023-03-15 ucrt) -- "Shortstop Beagle" | 4282 |
| lconway | macOS 12.5.1 Monterey | x86_64 | 4.2.3 (2023-03-15) -- "Shortstop Beagle" | 4310 |
| Click on any hostname to see more info about the system (e.g. compilers) (*) as reported by 'uname -p', except on Windows and Mac OS X | ||||
|
To the developers/maintainers of the netbiov package: - Please allow up to 24 hours (and sometimes 48 hours) for your latest push to git@git.bioconductor.org:packages/netbiov.git to reflect on this report. See How and When does the builder pull? When will my changes propagate? for more information. - Make sure to use the following settings in order to reproduce any error or warning you see on this page. |
| Package 1339/2183 | Hostname | OS / Arch | INSTALL | BUILD | CHECK | BUILD BIN | ||||||||
| netbiov 1.32.0 (landing page) Shailesh tripathi
| nebbiolo2 | Linux (Ubuntu 20.04.5 LTS) / x86_64 | OK | ERROR | skipped | |||||||||
| palomino4 | Windows Server 2022 Datacenter / x64 | OK | ERROR | skipped | skipped | |||||||||
| lconway | macOS 12.5.1 Monterey / x86_64 | OK | ERROR | skipped | skipped | |||||||||
| Package: netbiov |
| Version: 1.32.0 |
| Command: /Library/Frameworks/R.framework/Resources/bin/R CMD build --keep-empty-dirs --no-resave-data netbiov |
| StartedAt: 2023-04-10 17:18:23 -0400 (Mon, 10 Apr 2023) |
| EndedAt: 2023-04-10 17:18:32 -0400 (Mon, 10 Apr 2023) |
| EllapsedTime: 9.0 seconds |
| RetCode: 1 |
| Status: ERROR |
| PackageFile: None |
| PackageFileSize: NA |
##############################################################################
##############################################################################
###
### Running command:
###
### /Library/Frameworks/R.framework/Resources/bin/R CMD build --keep-empty-dirs --no-resave-data netbiov
###
##############################################################################
##############################################################################
* checking for file ‘netbiov/DESCRIPTION’ ... OK
* preparing ‘netbiov’:
* checking DESCRIPTION meta-information ... OK
* installing the package to build vignettes
* creating vignettes ...sh: line 1: 19258 Abort trap: 6 '/Library/Frameworks/R.framework/Resources/bin/Rscript' --vanilla --default-packages= -e "tools::buildVignettes(dir = '.', tangle = TRUE)" > '/tmp/Rtmpb1OJxt/xshell4895d2ed68b' 2>&1
ERROR
--- re-building ‘netbiov-intro.Rnw’ using Sweave
Loading required package: igraph
Attaching package: ‘igraph’
The following objects are masked from ‘package:stats’:
decompose, spectrum
The following object is masked from ‘package:base’:
union