| Back to Multiple platform build/check report for BioC 3.16: simplified long |
|
This page was generated on 2023-04-12 11:05:43 -0400 (Wed, 12 Apr 2023).
| Hostname | OS | Arch (*) | R version | Installed pkgs |
|---|---|---|---|---|
| nebbiolo2 | Linux (Ubuntu 20.04.5 LTS) | x86_64 | 4.2.3 (2023-03-15) -- "Shortstop Beagle" | 4502 |
| palomino4 | Windows Server 2022 Datacenter | x64 | 4.2.3 (2023-03-15 ucrt) -- "Shortstop Beagle" | 4282 |
| lconway | macOS 12.5.1 Monterey | x86_64 | 4.2.3 (2023-03-15) -- "Shortstop Beagle" | 4310 |
| Click on any hostname to see more info about the system (e.g. compilers) (*) as reported by 'uname -p', except on Windows and Mac OS X | ||||
|
To the developers/maintainers of the ncRNAtools package: - Please allow up to 24 hours (and sometimes 48 hours) for your latest push to git@git.bioconductor.org:packages/ncRNAtools.git to reflect on this report. See How and When does the builder pull? When will my changes propagate? for more information. - Make sure to use the following settings in order to reproduce any error or warning you see on this page. |
| Package 1332/2183 | Hostname | OS / Arch | INSTALL | BUILD | CHECK | BUILD BIN | ||||||||
| ncRNAtools 1.8.0 (landing page) Lara Selles Vidal
| nebbiolo2 | Linux (Ubuntu 20.04.5 LTS) / x86_64 | OK | OK | OK | |||||||||
| palomino4 | Windows Server 2022 Datacenter / x64 | OK | OK | OK | OK | |||||||||
| lconway | macOS 12.5.1 Monterey / x86_64 | OK | OK | OK | OK | |||||||||
| Package: ncRNAtools |
| Version: 1.8.0 |
| Command: F:\biocbuild\bbs-3.16-bioc\R\bin\R.exe CMD check --no-multiarch --install=check:ncRNAtools.install-out.txt --library=F:\biocbuild\bbs-3.16-bioc\R\library --no-vignettes --timings ncRNAtools_1.8.0.tar.gz |
| StartedAt: 2023-04-11 03:54:58 -0400 (Tue, 11 Apr 2023) |
| EndedAt: 2023-04-11 03:57:20 -0400 (Tue, 11 Apr 2023) |
| EllapsedTime: 141.6 seconds |
| RetCode: 0 |
| Status: OK |
| CheckDir: ncRNAtools.Rcheck |
| Warnings: 0 |
##############################################################################
##############################################################################
###
### Running command:
###
### F:\biocbuild\bbs-3.16-bioc\R\bin\R.exe CMD check --no-multiarch --install=check:ncRNAtools.install-out.txt --library=F:\biocbuild\bbs-3.16-bioc\R\library --no-vignettes --timings ncRNAtools_1.8.0.tar.gz
###
##############################################################################
##############################################################################
* using log directory 'F:/biocbuild/bbs-3.16-bioc/meat/ncRNAtools.Rcheck'
* using R version 4.2.3 (2023-03-15 ucrt)
* using platform: x86_64-w64-mingw32 (64-bit)
* using session charset: UTF-8
* using option '--no-vignettes'
* checking for file 'ncRNAtools/DESCRIPTION' ... OK
* checking extension type ... Package
* this is package 'ncRNAtools' version '1.8.0'
* package encoding: UTF-8
* checking package namespace information ... OK
* checking package dependencies ... OK
* checking if this is a source package ... OK
* checking if there is a namespace ... OK
* checking for hidden files and directories ... OK
* checking for portable file names ... OK
* checking whether package 'ncRNAtools' can be installed ... OK
* checking installed package size ... OK
* checking package directory ... OK
* checking 'build' directory ... OK
* checking DESCRIPTION meta-information ... OK
* checking top-level files ... OK
* checking for left-over files ... OK
* checking index information ... OK
* checking package subdirectories ... OK
* checking R files for non-ASCII characters ... OK
* checking R files for syntax errors ... OK
* checking whether the package can be loaded ... OK
* checking whether the package can be loaded with stated dependencies ... OK
* checking whether the package can be unloaded cleanly ... OK
* checking whether the namespace can be loaded with stated dependencies ... OK
* checking whether the namespace can be unloaded cleanly ... OK
* checking dependencies in R code ... OK
* checking S3 generic/method consistency ... OK
* checking replacement functions ... OK
* checking foreign function calls ... OK
* checking R code for possible problems ... OK
* checking Rd files ... OK
* checking Rd metadata ... OK
* checking Rd cross-references ... OK
* checking for missing documentation entries ... OK
* checking for code/documentation mismatches ... OK
* checking Rd \usage sections ... OK
* checking Rd contents ... OK
* checking for unstated dependencies in examples ... OK
* checking files in 'vignettes' ... OK
* checking examples ... OK
Examples with CPU (user + system) or elapsed time > 5s
user system elapsed
predictAlternativeSecondaryStructures 0.08 0 17.56
* checking for unstated dependencies in 'tests' ... OK
* checking tests ...
Running 'runTests.R'
OK
* checking for unstated dependencies in vignettes ... OK
* checking package vignettes in 'inst/doc' ... OK
* checking running R code from vignettes ... SKIPPED
* checking re-building of vignette outputs ... SKIPPED
* checking PDF version of manual ... OK
* DONE
Status: OK
ncRNAtools.Rcheck/00install.out
############################################################################## ############################################################################## ### ### Running command: ### ### F:\biocbuild\bbs-3.16-bioc\R\bin\R.exe CMD INSTALL ncRNAtools ### ############################################################################## ############################################################################## * installing to library 'F:/biocbuild/bbs-3.16-bioc/R/library' * installing *source* package 'ncRNAtools' ... ** using staged installation ** R ** inst ** byte-compile and prepare package for lazy loading ** help *** installing help indices ** building package indices ** installing vignettes ** testing if installed package can be loaded from temporary location ** testing if installed package can be loaded from final location ** testing if installed package keeps a record of temporary installation path * DONE (ncRNAtools)
ncRNAtools.Rcheck/tests/runTests.Rout
R version 4.2.3 (2023-03-15 ucrt) -- "Shortstop Beagle"
Copyright (C) 2023 The R Foundation for Statistical Computing
Platform: x86_64-w64-mingw32/x64 (64-bit)
R is free software and comes with ABSOLUTELY NO WARRANTY.
You are welcome to redistribute it under certain conditions.
Type 'license()' or 'licence()' for distribution details.
R is a collaborative project with many contributors.
Type 'contributors()' for more information and
'citation()' on how to cite R or R packages in publications.
Type 'demo()' for some demos, 'help()' for on-line help, or
'help.start()' for an HTML browser interface to help.
Type 'q()' to quit R.
> BiocGenerics:::testPackage("ncRNAtools")
Loading required package: stats4
Loading required package: BiocGenerics
Attaching package: 'BiocGenerics'
The following objects are masked from 'package:stats':
IQR, mad, sd, var, xtabs
The following objects are masked from 'package:base':
Filter, Find, Map, Position, Reduce, anyDuplicated, aperm, append,
as.data.frame, basename, cbind, colnames, dirname, do.call,
duplicated, eval, evalq, get, grep, grepl, intersect, is.unsorted,
lapply, mapply, match, mget, order, paste, pmax, pmax.int, pmin,
pmin.int, rank, rbind, rownames, sapply, setdiff, sort, table,
tapply, union, unique, unsplit, which.max, which.min
Loading required package: S4Vectors
Attaching package: 'S4Vectors'
The following objects are masked from 'package:base':
I, expand.grid, unname
Loading required package: IRanges
Attaching package: 'IRanges'
The following object is masked from 'package:grDevices':
windows
Loading required package: GenomeInfoDb
Secondary structure prediction completed.
Secondary structure prediction completed.
No alternative structures were found.
Returning canonical structure.
RUNIT TEST PROTOCOL -- Tue Apr 11 03:56:54 2023
***********************************************
Number of test functions: 0
Number of errors: 0
Number of failures: 0
1 Test Suite :
ncRNAtools RUnit Tests - 0 test functions, 0 errors, 0 failures
Number of test functions: 0
Number of errors: 0
Number of failures: 0
>
> proc.time()
user system elapsed
3.62 0.26 13.64
ncRNAtools.Rcheck/ncRNAtools-Ex.timings
| name | user | system | elapsed | |
| findPairedBases | 0 | 0 | 0 | |
| flattenDotBracket | 0 | 0 | 0 | |
| generatePairsProbabilityMatrix | 0.05 | 0.00 | 0.05 | |
| pairsToSecondaryStructure | 0 | 0 | 0 | |
| plotCompositePairsMatrix | 0.33 | 0.03 | 0.36 | |
| plotPairsProbabilityMatrix | 0.26 | 0.00 | 0.26 | |
| predictAlternativeSecondaryStructures | 0.08 | 0.00 | 17.56 | |
| predictSecondaryStructure | 0.02 | 0.00 | 2.74 | |
| readCT | 0 | 0 | 0 | |
| readDotBracket | 0 | 0 | 0 | |
| rnaCentralGenomicCoordinatesSearch | 0.64 | 0.00 | 4.34 | |
| rnaCentralRetrieveEntry | 0.01 | 0.00 | 1.35 | |
| rnaCentralTextSearch | 0.00 | 0.00 | 0.84 | |
| writeCT | 0.02 | 0.00 | 0.02 | |
| writeDotBracket | 0 | 0 | 0 | |