| Back to Multiple platform build/check report for BioC 3.16: simplified long |
|
This page was generated on 2023-04-12 11:05:12 -0400 (Wed, 12 Apr 2023).
| Hostname | OS | Arch (*) | R version | Installed pkgs |
|---|---|---|---|---|
| nebbiolo2 | Linux (Ubuntu 20.04.5 LTS) | x86_64 | 4.2.3 (2023-03-15) -- "Shortstop Beagle" | 4502 |
| palomino4 | Windows Server 2022 Datacenter | x64 | 4.2.3 (2023-03-15 ucrt) -- "Shortstop Beagle" | 4282 |
| lconway | macOS 12.5.1 Monterey | x86_64 | 4.2.3 (2023-03-15) -- "Shortstop Beagle" | 4310 |
| Click on any hostname to see more info about the system (e.g. compilers) (*) as reported by 'uname -p', except on Windows and Mac OS X | ||||
|
To the developers/maintainers of the nanotatoR package: - Please allow up to 24 hours (and sometimes 48 hours) for your latest push to git@git.bioconductor.org:packages/nanotatoR.git to reflect on this report. See How and When does the builder pull? When will my changes propagate? for more information. - Make sure to use the following settings in order to reproduce any error or warning you see on this page. |
| Package 1325/2183 | Hostname | OS / Arch | INSTALL | BUILD | CHECK | BUILD BIN | ||||||||
| nanotatoR 1.14.0 (landing page) Surajit Bhattacharya
| nebbiolo2 | Linux (Ubuntu 20.04.5 LTS) / x86_64 | OK | OK | OK | |||||||||
| palomino4 | Windows Server 2022 Datacenter / x64 | OK | OK | OK | OK | |||||||||
| lconway | macOS 12.5.1 Monterey / x86_64 | OK | OK | OK | OK | |||||||||
| Package: nanotatoR |
| Version: 1.14.0 |
| Command: /home/biocbuild/bbs-3.16-bioc/R/bin/R CMD check --install=check:nanotatoR.install-out.txt --library=/home/biocbuild/bbs-3.16-bioc/R/site-library --timings nanotatoR_1.14.0.tar.gz |
| StartedAt: 2023-04-10 22:18:11 -0400 (Mon, 10 Apr 2023) |
| EndedAt: 2023-04-10 22:20:37 -0400 (Mon, 10 Apr 2023) |
| EllapsedTime: 145.5 seconds |
| RetCode: 0 |
| Status: OK |
| CheckDir: nanotatoR.Rcheck |
| Warnings: 0 |
############################################################################## ############################################################################## ### ### Running command: ### ### /home/biocbuild/bbs-3.16-bioc/R/bin/R CMD check --install=check:nanotatoR.install-out.txt --library=/home/biocbuild/bbs-3.16-bioc/R/site-library --timings nanotatoR_1.14.0.tar.gz ### ############################################################################## ############################################################################## * using log directory ‘/home/biocbuild/bbs-3.16-bioc/meat/nanotatoR.Rcheck’ * using R version 4.2.3 (2023-03-15) * using platform: x86_64-pc-linux-gnu (64-bit) * using session charset: UTF-8 * checking for file ‘nanotatoR/DESCRIPTION’ ... OK * this is package ‘nanotatoR’ version ‘1.14.0’ * package encoding: UTF-8 * checking package namespace information ... OK * checking package dependencies ... OK * checking if this is a source package ... OK * checking if there is a namespace ... OK * checking for hidden files and directories ... NOTE Found the following hidden files and directories: .travis.yml These were most likely included in error. See section ‘Package structure’ in the ‘Writing R Extensions’ manual. * checking for portable file names ... OK * checking for sufficient/correct file permissions ... OK * checking whether package ‘nanotatoR’ can be installed ... OK * checking installed package size ... OK * checking package directory ... OK * checking ‘build’ directory ... OK * checking DESCRIPTION meta-information ... OK * checking top-level files ... OK * checking for left-over files ... OK * checking index information ... OK * checking package subdirectories ... OK * checking R files for non-ASCII characters ... OK * checking R files for syntax errors ... OK * checking whether the package can be loaded ... OK * checking whether the package can be loaded with stated dependencies ... OK * checking whether the package can be unloaded cleanly ... OK * checking whether the namespace can be loaded with stated dependencies ... OK * checking whether the namespace can be unloaded cleanly ... OK * checking loading without being on the library search path ... OK * checking dependencies in R code ... NOTE Namespace in Imports field not imported from: ‘GenomicRanges’ All declared Imports should be used. * checking S3 generic/method consistency ... OK * checking replacement functions ... OK * checking foreign function calls ... OK * checking R code for possible problems ... OK * checking Rd files ... OK * checking Rd metadata ... OK * checking Rd cross-references ... OK * checking for missing documentation entries ... OK * checking for code/documentation mismatches ... OK * checking Rd \usage sections ... OK * checking Rd contents ... OK * checking for unstated dependencies in examples ... OK * checking files in ‘vignettes’ ... OK * checking examples ... OK * checking for unstated dependencies in ‘tests’ ... OK * checking tests ... Running ‘testthat.R’ OK * checking for unstated dependencies in vignettes ... OK * checking package vignettes in ‘inst/doc’ ... OK * checking running R code from vignettes ... ‘nanotatoR.Rmd’ using ‘UTF-8’... OK NONE * checking re-building of vignette outputs ... OK * checking PDF version of manual ... OK * DONE Status: 2 NOTEs See ‘/home/biocbuild/bbs-3.16-bioc/meat/nanotatoR.Rcheck/00check.log’ for details.
nanotatoR.Rcheck/00install.out
############################################################################## ############################################################################## ### ### Running command: ### ### /home/biocbuild/bbs-3.16-bioc/R/bin/R CMD INSTALL nanotatoR ### ############################################################################## ############################################################################## * installing to library ‘/home/biocbuild/bbs-3.16-bioc/R/site-library’ * installing *source* package ‘nanotatoR’ ... ** using staged installation ** R ** inst ** byte-compile and prepare package for lazy loading ** help *** installing help indices ** building package indices ** installing vignettes ** testing if installed package can be loaded from temporary location ** testing if installed package can be loaded from final location ** testing if installed package keeps a record of temporary installation path * DONE (nanotatoR)
nanotatoR.Rcheck/tests/testthat.Rout
R version 4.2.3 (2023-03-15) -- "Shortstop Beagle"
Copyright (C) 2023 The R Foundation for Statistical Computing
Platform: x86_64-pc-linux-gnu (64-bit)
R is free software and comes with ABSOLUTELY NO WARRANTY.
You are welcome to redistribute it under certain conditions.
Type 'license()' or 'licence()' for distribution details.
R is a collaborative project with many contributors.
Type 'contributors()' for more information and
'citation()' on how to cite R or R packages in publications.
Type 'demo()' for some demos, 'help()' for on-line help, or
'help.start()' for an HTML browser interface to help.
Type 'q()' to quit R.
> library(testthat)
> library(nanotatoR)
>
> test_check("nanotatoR")
[ FAIL 0 | WARN 0 | SKIP 0 | PASS 0 ]
>
> proc.time()
user system elapsed
4.856 0.253 5.091
nanotatoR.Rcheck/nanotatoR-Ex.timings
| name | user | system | elapsed | |
| BNDBfrequency | 0.053 | 0.004 | 0.057 | |
| DGVfrequency | 0.013 | 0.008 | 0.020 | |
| Decipherfrequency | 0.010 | 0.016 | 0.026 | |
| FamilyInfoPrep | 0.010 | 0.003 | 0.014 | |
| OverlapRNAseq | 0.160 | 0.008 | 0.168 | |
| OverlapRNAseq_solo | 0.174 | 0.024 | 0.198 | |
| RNAseqcombine | 0 | 0 | 0 | |
| RNAseqcombine_solo | 0.184 | 0.024 | 0.208 | |
| SVexpression_duo_trio | 0.000 | 0.000 | 0.001 | |
| SVexpression_solo | 0.239 | 0.020 | 0.259 | |
| buildrunBNBedFiles | 0.004 | 0.000 | 0.004 | |
| clinvar_gene | 0.012 | 0.003 | 0.017 | |
| extract_clinvar_mod | 0.018 | 0.000 | 0.018 | |
| gene_extraction | 0.307 | 0.007 | 0.954 | |
| gene_list_generation | 0.293 | 0.012 | 1.289 | |
| gtr_gene | 0.002 | 0.000 | 0.002 | |
| internalFrequencyTrio_Duo | 0.121 | 0.000 | 0.121 | |
| internalFrequency_solo | 0.175 | 0.000 | 0.175 | |
| makeInternalBNDatabase | 0.001 | 0.000 | 0.001 | |
| mergingSMAP_SE | 0.020 | 0.000 | 0.021 | |
| mergingSMAP_SVMerge | 0.007 | 0.000 | 0.007 | |
| merging_SE_SVMerge | 0.031 | 0.000 | 0.031 | |
| nanotatoR | 0.001 | 0.000 | 0.001 | |
| nanotatoR_Duo_SVmerge | 0 | 0 | 0 | |
| nanotatoR_SVmerge_Trio | 0 | 0 | 0 | |
| nanotatoR_main_Duo_SE | 0 | 0 | 0 | |
| nanotatoR_main_Solo_SE | 0.425 | 0.048 | 0.473 | |
| nanotatoR_main_Solo_SVmerge | 0.094 | 0.000 | 0.094 | |
| nanotatoR_main_Trio_SE | 0.056 | 0.000 | 0.056 | |
| nonOverlapGenes | 0.016 | 0.000 | 0.016 | |
| nonOverlapRNAseq | 0.103 | 0.000 | 0.103 | |
| nonOverlapRNAseq_solo | 0.099 | 0.012 | 0.110 | |
| nonOverlappingDNGenes | 0.018 | 0.004 | 0.022 | |
| nonOverlappingUPGenes | 0.014 | 0.007 | 0.022 | |
| omim_gene | 0.020 | 0.004 | 0.464 | |
| overlapGenes | 0.030 | 0.008 | 0.038 | |
| overlapnearestgeneSearch | 0.027 | 0.000 | 0.026 | |
| overlappingGenes | 0.021 | 0.000 | 0.022 | |
| phenoextractHPO_mod | 0.004 | 0.000 | 0.004 | |
| readBNBedFiles | 0.002 | 0.000 | 0.002 | |
| readSMap | 0.012 | 0.000 | 0.012 | |
| readSMap_DLE | 0.009 | 0.000 | 0.008 | |
| reading_GTR | 0.002 | 0.000 | 0.001 | |
| reading_mim2gene | 0.002 | 0.000 | 0.001 | |
| run_bionano_filter_SE_Trio | 0.189 | 0.016 | 0.206 | |
| run_bionano_filter_SE_duo | 0 | 0 | 0 | |
| run_bionano_filter_SE_solo | 0.314 | 0.016 | 0.329 | |
| run_bionano_filter_SVMerge_Trio | 0 | 0 | 0 | |
| run_bionano_filter_SVMerge_duo | 0 | 0 | 0 | |
| run_bionano_filter_SVMerge_solo | 0.230 | 0.004 | 0.233 | |