| Back to Multiple platform build/check report for BioC 3.16: simplified long |
|
This page was generated on 2023-04-12 11:06:17 -0400 (Wed, 12 Apr 2023).
| Hostname | OS | Arch (*) | R version | Installed pkgs |
|---|---|---|---|---|
| nebbiolo2 | Linux (Ubuntu 20.04.5 LTS) | x86_64 | 4.2.3 (2023-03-15) -- "Shortstop Beagle" | 4502 |
| palomino4 | Windows Server 2022 Datacenter | x64 | 4.2.3 (2023-03-15 ucrt) -- "Shortstop Beagle" | 4282 |
| lconway | macOS 12.5.1 Monterey | x86_64 | 4.2.3 (2023-03-15) -- "Shortstop Beagle" | 4310 |
| Click on any hostname to see more info about the system (e.g. compilers) (*) as reported by 'uname -p', except on Windows and Mac OS X | ||||
|
To the developers/maintainers of the myvariant package: - Please allow up to 24 hours (and sometimes 48 hours) for your latest push to git@git.bioconductor.org:packages/myvariant.git to reflect on this report. See How and When does the builder pull? When will my changes propagate? for more information. - Make sure to use the following settings in order to reproduce any error or warning you see on this page. |
| Package 1317/2183 | Hostname | OS / Arch | INSTALL | BUILD | CHECK | BUILD BIN | ||||||||
| myvariant 1.28.0 (landing page) Adam Mark, Chunlei Wu
| nebbiolo2 | Linux (Ubuntu 20.04.5 LTS) / x86_64 | OK | OK | OK | |||||||||
| palomino4 | Windows Server 2022 Datacenter / x64 | OK | OK | OK | OK | |||||||||
| lconway | macOS 12.5.1 Monterey / x86_64 | OK | OK | OK | OK | |||||||||
| Package: myvariant |
| Version: 1.28.0 |
| Command: /Library/Frameworks/R.framework/Resources/bin/R CMD check --install=check:myvariant.install-out.txt --library=/Library/Frameworks/R.framework/Resources/library --no-vignettes --timings myvariant_1.28.0.tar.gz |
| StartedAt: 2023-04-10 21:28:35 -0400 (Mon, 10 Apr 2023) |
| EndedAt: 2023-04-10 21:32:43 -0400 (Mon, 10 Apr 2023) |
| EllapsedTime: 247.5 seconds |
| RetCode: 0 |
| Status: OK |
| CheckDir: myvariant.Rcheck |
| Warnings: 0 |
##############################################################################
##############################################################################
###
### Running command:
###
### /Library/Frameworks/R.framework/Resources/bin/R CMD check --install=check:myvariant.install-out.txt --library=/Library/Frameworks/R.framework/Resources/library --no-vignettes --timings myvariant_1.28.0.tar.gz
###
##############################################################################
##############################################################################
* using log directory ‘/Users/biocbuild/bbs-3.16-bioc/meat/myvariant.Rcheck’
* using R version 4.2.3 (2023-03-15)
* using platform: x86_64-apple-darwin17.0 (64-bit)
* using session charset: UTF-8
* using option ‘--no-vignettes’
* checking for file ‘myvariant/DESCRIPTION’ ... OK
* checking extension type ... Package
* this is package ‘myvariant’ version ‘1.28.0’
* checking package namespace information ... OK
* checking package dependencies ... OK
* checking if this is a source package ... OK
* checking if there is a namespace ... OK
* checking for hidden files and directories ... OK
* checking for portable file names ... OK
* checking for sufficient/correct file permissions ... OK
* checking whether package ‘myvariant’ can be installed ... OK
* checking installed package size ... OK
* checking package directory ... OK
* checking ‘build’ directory ... OK
* checking DESCRIPTION meta-information ... NOTE
Malformed Description field: should contain one or more complete sentences.
* checking top-level files ... OK
* checking for left-over files ... OK
* checking index information ... OK
* checking package subdirectories ... OK
* checking R files for non-ASCII characters ... OK
* checking R files for syntax errors ... OK
* checking whether the package can be loaded ... OK
* checking whether the package can be loaded with stated dependencies ... OK
* checking whether the package can be unloaded cleanly ... OK
* checking whether the namespace can be loaded with stated dependencies ... OK
* checking whether the namespace can be unloaded cleanly ... OK
* checking dependencies in R code ... NOTE
package 'methods' is used but not declared
* checking S3 generic/method consistency ... OK
* checking replacement functions ... OK
* checking foreign function calls ... OK
* checking R code for possible problems ... NOTE
.convertColumn4csv: no visible binding for global variable ‘is’
.df2DF: no visible binding for global variable ‘as’
.getIndels: no visible binding for global variable ‘REF’
.getIndels: no visible binding for global variable ‘ALT’
.unnest.df : <anonymous>: no visible global function definition for
‘is’
.unnest.df : <anonymous>: no visible global function definition for
‘setNames’
MyVariant: no visible global function definition for ‘new’
formatHgvs: no visible global function definition for
‘seqlevelsStyle<-’
validMyVariantObject: no visible global function definition for ‘slot’
.request.get,MyVariant: no visible global function definition for
‘capture.output’
.request.post,MyVariant: no visible global function definition for
‘capture.output’
Undefined global functions or variables:
ALT REF as capture.output is new seqlevelsStyle<- setNames slot
Consider adding
importFrom("methods", "as", "is", "new", "slot")
importFrom("stats", "setNames")
importFrom("utils", "capture.output")
to your NAMESPACE file (and ensure that your DESCRIPTION Imports field
contains 'methods').
* checking Rd files ... OK
* checking Rd metadata ... OK
* checking Rd cross-references ... OK
* checking for missing documentation entries ... OK
* checking for code/documentation mismatches ... OK
* checking Rd \usage sections ... OK
* checking Rd contents ... OK
* checking for unstated dependencies in examples ... OK
* checking sizes of PDF files under ‘inst/doc’ ... OK
* checking files in ‘vignettes’ ... OK
* checking examples ... OK
* checking for unstated dependencies in vignettes ... OK
* checking package vignettes in ‘inst/doc’ ... OK
* checking running R code from vignettes ... SKIPPED
* checking re-building of vignette outputs ... SKIPPED
* checking PDF version of manual ... OK
* DONE
Status: 3 NOTEs
See
‘/Users/biocbuild/bbs-3.16-bioc/meat/myvariant.Rcheck/00check.log’
for details.
myvariant.Rcheck/00install.out
############################################################################## ############################################################################## ### ### Running command: ### ### /Library/Frameworks/R.framework/Resources/bin/R CMD INSTALL myvariant ### ############################################################################## ############################################################################## * installing to library ‘/Library/Frameworks/R.framework/Versions/4.2/Resources/library’ * installing *source* package ‘myvariant’ ... ** using staged installation ** R ** inst ** byte-compile and prepare package for lazy loading ** help *** installing help indices ** building package indices ** installing vignettes ** testing if installed package can be loaded from temporary location ** testing if installed package can be loaded from final location ** testing if installed package keeps a record of temporary installation path * DONE (myvariant)
myvariant.Rcheck/myvariant-Ex.timings
| name | user | system | elapsed | |
| MyVariant-class | 0.001 | 0.000 | 0.001 | |
| MyVariant | 0.002 | 0.001 | 0.003 | |
| formatHgvs | 0.934 | 0.111 | 1.052 | |
| formatSingleHgvs | 0.001 | 0.000 | 0.001 | |
| getVariant | 0.046 | 0.031 | 0.458 | |
| getVariants | 0.037 | 0.001 | 0.411 | |
| metadata | 0.012 | 0.005 | 0.117 | |
| queryVariant | 0.060 | 0.013 | 0.891 | |
| queryVariants | 0.001 | 0.000 | 0.001 | |