| Back to Multiple platform build/check report for BioC 3.16: simplified long |
|
This page was generated on 2023-04-12 11:05:11 -0400 (Wed, 12 Apr 2023).
| Hostname | OS | Arch (*) | R version | Installed pkgs |
|---|---|---|---|---|
| nebbiolo2 | Linux (Ubuntu 20.04.5 LTS) | x86_64 | 4.2.3 (2023-03-15) -- "Shortstop Beagle" | 4502 |
| palomino4 | Windows Server 2022 Datacenter | x64 | 4.2.3 (2023-03-15 ucrt) -- "Shortstop Beagle" | 4282 |
| lconway | macOS 12.5.1 Monterey | x86_64 | 4.2.3 (2023-03-15) -- "Shortstop Beagle" | 4310 |
| Click on any hostname to see more info about the system (e.g. compilers) (*) as reported by 'uname -p', except on Windows and Mac OS X | ||||
|
To the developers/maintainers of the musicatk package: - Please allow up to 24 hours (and sometimes 48 hours) for your latest push to git@git.bioconductor.org:packages/musicatk.git to reflect on this report. See How and When does the builder pull? When will my changes propagate? for more information. - Make sure to use the following settings in order to reproduce any error or warning you see on this page. |
| Package 1312/2183 | Hostname | OS / Arch | INSTALL | BUILD | CHECK | BUILD BIN | ||||||||
| musicatk 1.8.0 (landing page) Aaron Chevalier
| nebbiolo2 | Linux (Ubuntu 20.04.5 LTS) / x86_64 | OK | OK | OK | |||||||||
| palomino4 | Windows Server 2022 Datacenter / x64 | OK | OK | OK | OK | |||||||||
| lconway | macOS 12.5.1 Monterey / x86_64 | OK | OK | OK | OK | |||||||||
| Package: musicatk |
| Version: 1.8.0 |
| Command: /home/biocbuild/bbs-3.16-bioc/R/bin/R CMD check --install=check:musicatk.install-out.txt --library=/home/biocbuild/bbs-3.16-bioc/R/site-library --timings musicatk_1.8.0.tar.gz |
| StartedAt: 2023-04-10 22:16:03 -0400 (Mon, 10 Apr 2023) |
| EndedAt: 2023-04-10 22:23:16 -0400 (Mon, 10 Apr 2023) |
| EllapsedTime: 432.8 seconds |
| RetCode: 0 |
| Status: OK |
| CheckDir: musicatk.Rcheck |
| Warnings: 0 |
##############################################################################
##############################################################################
###
### Running command:
###
### /home/biocbuild/bbs-3.16-bioc/R/bin/R CMD check --install=check:musicatk.install-out.txt --library=/home/biocbuild/bbs-3.16-bioc/R/site-library --timings musicatk_1.8.0.tar.gz
###
##############################################################################
##############################################################################
* using log directory ‘/home/biocbuild/bbs-3.16-bioc/meat/musicatk.Rcheck’
* using R version 4.2.3 (2023-03-15)
* using platform: x86_64-pc-linux-gnu (64-bit)
* using session charset: UTF-8
* checking for file ‘musicatk/DESCRIPTION’ ... OK
* checking extension type ... Package
* this is package ‘musicatk’ version ‘1.8.0’
* package encoding: UTF-8
* checking package namespace information ... OK
* checking package dependencies ... OK
* checking if this is a source package ... OK
* checking if there is a namespace ... OK
* checking for hidden files and directories ... OK
* checking for portable file names ... OK
* checking for sufficient/correct file permissions ... OK
* checking whether package ‘musicatk’ can be installed ... OK
* checking installed package size ... OK
* checking package directory ... OK
* checking ‘build’ directory ... OK
* checking DESCRIPTION meta-information ... OK
* checking top-level files ... OK
* checking for left-over files ... OK
* checking index information ... OK
* checking package subdirectories ... OK
* checking R files for non-ASCII characters ... OK
* checking R files for syntax errors ... OK
* checking whether the package can be loaded ... OK
* checking whether the package can be loaded with stated dependencies ... OK
* checking whether the package can be unloaded cleanly ... OK
* checking whether the namespace can be loaded with stated dependencies ... OK
* checking whether the namespace can be unloaded cleanly ... OK
* checking loading without being on the library search path ... OK
* checking dependencies in R code ... NOTE
Namespaces in Imports field not imported from:
‘TCGAbiolinks’ ‘shinyBS’ ‘shinyalert’ ‘shinybusy’ ‘shinydashboard’
‘shinyjqui’ ‘shinyjs’ ‘sortable’
All declared Imports should be used.
* checking S3 generic/method consistency ... OK
* checking replacement functions ... OK
* checking foreign function calls ... OK
* checking R code for possible problems ... OK
* checking Rd files ... OK
* checking Rd metadata ... OK
* checking Rd cross-references ... OK
* checking for missing documentation entries ... OK
* checking for code/documentation mismatches ... OK
* checking Rd \usage sections ... OK
* checking Rd contents ... OK
* checking for unstated dependencies in examples ... OK
* checking contents of ‘data’ directory ... OK
* checking data for non-ASCII characters ... OK
* checking LazyData ... OK
* checking data for ASCII and uncompressed saves ... OK
* checking files in ‘vignettes’ ... OK
* checking examples ... OK
Examples with CPU (user + system) or elapsed time > 5s
user system elapsed
build_standard_table 7.752 0.624 8.376
create_umap 5.386 0.177 5.580
plot_cluster 5.042 0.156 5.197
plot_umap 4.993 0.064 5.058
* checking for unstated dependencies in ‘tests’ ... OK
* checking tests ...
Running ‘testthat.R’
OK
* checking for unstated dependencies in vignettes ... OK
* checking package vignettes in ‘inst/doc’ ... OK
* checking running R code from vignettes ...
‘musicatk.Rmd’ using ‘UTF-8’... OK
NONE
* checking re-building of vignette outputs ... OK
* checking PDF version of manual ... OK
* DONE
Status: 1 NOTE
See
‘/home/biocbuild/bbs-3.16-bioc/meat/musicatk.Rcheck/00check.log’
for details.
musicatk.Rcheck/00install.out
############################################################################## ############################################################################## ### ### Running command: ### ### /home/biocbuild/bbs-3.16-bioc/R/bin/R CMD INSTALL musicatk ### ############################################################################## ############################################################################## * installing to library ‘/home/biocbuild/bbs-3.16-bioc/R/site-library’ * installing *source* package ‘musicatk’ ... ** using staged installation ** R ** data *** moving datasets to lazyload DB ** inst ** byte-compile and prepare package for lazy loading ** help *** installing help indices ** building package indices ** installing vignettes ** testing if installed package can be loaded from temporary location ** testing if installed package can be loaded from final location ** testing if installed package keeps a record of temporary installation path * DONE (musicatk)
musicatk.Rcheck/tests/testthat.Rout
R version 4.2.3 (2023-03-15) -- "Shortstop Beagle"
Copyright (C) 2023 The R Foundation for Statistical Computing
Platform: x86_64-pc-linux-gnu (64-bit)
R is free software and comes with ABSOLUTELY NO WARRANTY.
You are welcome to redistribute it under certain conditions.
Type 'license()' or 'licence()' for distribution details.
R is a collaborative project with many contributors.
Type 'contributors()' for more information and
'citation()' on how to cite R or R packages in publications.
Type 'demo()' for some demos, 'help()' for on-line help, or
'help.start()' for an HTML browser interface to help.
Type 'q()' to quit R.
> library("testthat")
> library("musicatk")
Loading required package: NMF
Loading required package: registry
Loading required package: rngtools
Loading required package: cluster
NMF - BioConductor layer [OK] | Shared memory capabilities [NO: synchronicity] | Cores 2/2
To enable shared memory capabilities, try: install.extras('
NMF
')
Attaching package: 'NMF'
The following object is masked from 'package:testthat':
compare
>
> test_check("musicatk")
[ FAIL 0 | WARN 5 | SKIP 0 | PASS 42 ]
[ FAIL 0 | WARN 5 | SKIP 0 | PASS 42 ]
>
> proc.time()
user system elapsed
20.583 1.090 21.673
musicatk.Rcheck/musicatk-Ex.timings
| name | user | system | elapsed | |
| add_flank_to_variants | 2.746 | 0.184 | 2.930 | |
| add_variant_type | 0.015 | 0.000 | 0.015 | |
| annotate_replication_strand | 0.116 | 0.012 | 0.127 | |
| annotate_transcript_strand | 1.177 | 0.056 | 1.233 | |
| annotate_variant_length | 0.010 | 0.000 | 0.011 | |
| annotate_variant_type | 0.002 | 0.000 | 0.003 | |
| auto_predict_grid | 1.587 | 0.012 | 1.599 | |
| build_custom_table | 0.951 | 0.000 | 0.951 | |
| build_standard_table | 7.752 | 0.624 | 8.376 | |
| built_tables | 0.001 | 0.000 | 0.002 | |
| cluster_exposure | 0.014 | 0.000 | 0.014 | |
| combine_count_tables | 2.171 | 0.108 | 2.278 | |
| combine_predict_grid | 1.661 | 0.008 | 1.669 | |
| compare_cosmic_v2 | 2.146 | 0.052 | 2.198 | |
| compare_cosmic_v3 | 0.976 | 0.004 | 0.980 | |
| compare_results | 1.255 | 0.000 | 1.255 | |
| cosmic_v2_subtype_map | 0.000 | 0.001 | 0.001 | |
| create_musica | 0.702 | 0.074 | 0.746 | |
| create_umap | 5.386 | 0.177 | 5.580 | |
| discover_signatures | 0.589 | 0.028 | 0.617 | |
| drop_annotation | 0.002 | 0.000 | 0.002 | |
| exposure_differential_analysis | 0.018 | 0.000 | 0.018 | |
| exposures | 0.004 | 0.000 | 0.004 | |
| extract_count_tables | 0.004 | 0.000 | 0.004 | |
| extract_variants | 4.033 | 0.101 | 4.080 | |
| extract_variants_from_maf | 0.121 | 0.003 | 0.099 | |
| extract_variants_from_maf_file | 0.107 | 0.000 | 0.083 | |
| extract_variants_from_matrix | 0.123 | 0.004 | 0.103 | |
| extract_variants_from_vcf | 0.676 | 0.024 | 0.701 | |
| extract_variants_from_vcf_file | 0.401 | 0.000 | 0.402 | |
| generate_result_grid | 0.146 | 0.000 | 0.147 | |
| get_musica | 0.006 | 0.000 | 0.006 | |
| k_select | 0.853 | 0.012 | 0.866 | |
| musicatk | 0 | 0 | 0 | |
| name_signatures | 0.002 | 0.000 | 0.003 | |
| pipe | 0.002 | 0.000 | 0.002 | |
| plot_cluster | 5.042 | 0.156 | 5.197 | |
| plot_differential_analysis | 0.174 | 0.000 | 0.173 | |
| plot_exposures | 0.187 | 0.000 | 0.186 | |
| plot_heatmap | 0.724 | 0.000 | 0.724 | |
| plot_sample_counts | 0.319 | 0.000 | 0.320 | |
| plot_sample_reconstruction_error | 0.550 | 0.016 | 0.566 | |
| plot_signatures | 0.538 | 0.004 | 0.542 | |
| plot_umap | 4.993 | 0.064 | 5.058 | |
| predict_exposure | 0.949 | 0.067 | 1.017 | |
| rc | 0.002 | 0.001 | 0.002 | |
| samp_annot | 0.007 | 0.000 | 0.006 | |
| sample_names | 0.002 | 0.000 | 0.003 | |
| select_genome | 0 | 0 | 0 | |
| signatures | 0.004 | 0.000 | 0.004 | |
| subset_musica_by_annotation | 0.002 | 0.003 | 0.006 | |
| subset_musica_by_counts | 0.007 | 0.000 | 0.007 | |
| subset_variant_by_type | 0.004 | 0.000 | 0.005 | |
| subset_variants_by_samples | 0.003 | 0.000 | 0.004 | |
| table_selected | 0.001 | 0.000 | 0.002 | |
| tables | 0.002 | 0.004 | 0.007 | |
| umap | 0.003 | 0.000 | 0.003 | |
| variants | 0.006 | 0.000 | 0.007 | |