| Back to Multiple platform build/check report for BioC 3.16: simplified long |
|
This page was generated on 2023-04-12 11:05:42 -0400 (Wed, 12 Apr 2023).
| Hostname | OS | Arch (*) | R version | Installed pkgs |
|---|---|---|---|---|
| nebbiolo2 | Linux (Ubuntu 20.04.5 LTS) | x86_64 | 4.2.3 (2023-03-15) -- "Shortstop Beagle" | 4502 |
| palomino4 | Windows Server 2022 Datacenter | x64 | 4.2.3 (2023-03-15 ucrt) -- "Shortstop Beagle" | 4282 |
| lconway | macOS 12.5.1 Monterey | x86_64 | 4.2.3 (2023-03-15) -- "Shortstop Beagle" | 4310 |
| Click on any hostname to see more info about the system (e.g. compilers) (*) as reported by 'uname -p', except on Windows and Mac OS X | ||||
|
To the developers/maintainers of the multicrispr package: - Please allow up to 24 hours (and sometimes 48 hours) for your latest push to git@git.bioconductor.org:packages/multicrispr.git to reflect on this report. See How and When does the builder pull? When will my changes propagate? for more information. - Make sure to use the following settings in order to reproduce any error or warning you see on this page. |
| Package 1298/2183 | Hostname | OS / Arch | INSTALL | BUILD | CHECK | BUILD BIN | ||||||||
| multicrispr 1.8.0 (landing page) Aditya Bhagwat
| nebbiolo2 | Linux (Ubuntu 20.04.5 LTS) / x86_64 | OK | OK | OK | |||||||||
| palomino4 | Windows Server 2022 Datacenter / x64 | OK | OK | OK | OK | |||||||||
| lconway | macOS 12.5.1 Monterey / x86_64 | OK | OK | OK | OK | |||||||||
| Package: multicrispr |
| Version: 1.8.0 |
| Command: F:\biocbuild\bbs-3.16-bioc\R\bin\R.exe CMD check --no-multiarch --install=check:multicrispr.install-out.txt --library=F:\biocbuild\bbs-3.16-bioc\R\library --no-vignettes --timings multicrispr_1.8.0.tar.gz |
| StartedAt: 2023-04-11 03:47:01 -0400 (Tue, 11 Apr 2023) |
| EndedAt: 2023-04-11 03:53:24 -0400 (Tue, 11 Apr 2023) |
| EllapsedTime: 382.9 seconds |
| RetCode: 0 |
| Status: OK |
| CheckDir: multicrispr.Rcheck |
| Warnings: 0 |
##############################################################################
##############################################################################
###
### Running command:
###
### F:\biocbuild\bbs-3.16-bioc\R\bin\R.exe CMD check --no-multiarch --install=check:multicrispr.install-out.txt --library=F:\biocbuild\bbs-3.16-bioc\R\library --no-vignettes --timings multicrispr_1.8.0.tar.gz
###
##############################################################################
##############################################################################
* using log directory 'F:/biocbuild/bbs-3.16-bioc/meat/multicrispr.Rcheck'
* using R version 4.2.3 (2023-03-15 ucrt)
* using platform: x86_64-w64-mingw32 (64-bit)
* using session charset: UTF-8
* using option '--no-vignettes'
* checking for file 'multicrispr/DESCRIPTION' ... OK
* this is package 'multicrispr' version '1.8.0'
* package encoding: UTF-8
* checking package namespace information ... OK
* checking package dependencies ... OK
* checking if this is a source package ... OK
* checking if there is a namespace ... OK
* checking for hidden files and directories ... OK
* checking for portable file names ... OK
* checking whether package 'multicrispr' can be installed ... OK
* checking installed package size ... OK
* checking package directory ... OK
* checking 'build' directory ... OK
* checking DESCRIPTION meta-information ... OK
* checking top-level files ... OK
* checking for left-over files ... OK
* checking index information ... OK
* checking package subdirectories ... OK
* checking R files for non-ASCII characters ... OK
* checking R files for syntax errors ... OK
* checking whether the package can be loaded ... OK
* checking whether the package can be loaded with stated dependencies ... OK
* checking whether the package can be unloaded cleanly ... OK
* checking whether the namespace can be loaded with stated dependencies ... OK
* checking whether the namespace can be unloaded cleanly ... OK
* checking dependencies in R code ... OK
* checking S3 generic/method consistency ... OK
* checking replacement functions ... OK
* checking foreign function calls ... OK
* checking R code for possible problems ... OK
* checking Rd files ... OK
* checking Rd metadata ... OK
* checking Rd cross-references ... OK
* checking for missing documentation entries ... OK
* checking for code/documentation mismatches ... OK
* checking Rd \usage sections ... OK
* checking Rd contents ... OK
* checking for unstated dependencies in examples ... OK
* checking files in 'vignettes' ... OK
* checking examples ... OK
Examples with CPU (user + system) or elapsed time > 5s
user system elapsed
score_ontargets 16.99 1.25 18.24
find_primespacers 15.89 1.57 17.46
add_genome_matches 11.26 2.17 14.47
find_spacers 11.39 0.98 12.37
up_flank 10.51 0.21 10.74
plot_intervals 8.46 0.91 9.36
extend_for_pe 7.76 0.99 8.76
add_target_matches 7.49 0.84 11.06
index_genome 0.95 0.05 15.34
* checking for unstated dependencies in 'tests' ... OK
* checking tests ...
Running 'testthat.R'
OK
* checking for unstated dependencies in vignettes ... OK
* checking package vignettes in 'inst/doc' ... OK
* checking running R code from vignettes ... SKIPPED
* checking re-building of vignette outputs ... SKIPPED
* checking PDF version of manual ... OK
* DONE
Status: OK
multicrispr.Rcheck/00install.out
############################################################################## ############################################################################## ### ### Running command: ### ### F:\biocbuild\bbs-3.16-bioc\R\bin\R.exe CMD INSTALL multicrispr ### ############################################################################## ############################################################################## * installing to library 'F:/biocbuild/bbs-3.16-bioc/R/library' * installing *source* package 'multicrispr' ... ** using staged installation ** R ** inst ** byte-compile and prepare package for lazy loading ** help *** installing help indices ** building package indices ** installing vignettes ** testing if installed package can be loaded from temporary location ** testing if installed package can be loaded from final location ** testing if installed package keeps a record of temporary installation path * DONE (multicrispr)
multicrispr.Rcheck/tests/testthat.Rout
R version 4.2.3 (2023-03-15 ucrt) -- "Shortstop Beagle"
Copyright (C) 2023 The R Foundation for Statistical Computing
Platform: x86_64-w64-mingw32/x64 (64-bit)
R is free software and comes with ABSOLUTELY NO WARRANTY.
You are welcome to redistribute it under certain conditions.
Type 'license()' or 'licence()' for distribution details.
R is a collaborative project with many contributors.
Type 'contributors()' for more information and
'citation()' on how to cite R or R packages in publications.
Type 'demo()' for some demos, 'help()' for on-line help, or
'help.start()' for an HTML browser interface to help.
Type 'q()' to quit R.
> library(testthat)
> library(multicrispr)
>
> test_check("multicrispr")
[ FAIL 0 | WARN 0 | SKIP 0 | PASS 13 ]
>
> proc.time()
user system elapsed
13.71 1.85 15.54
multicrispr.Rcheck/multicrispr-Ex.timings
| name | user | system | elapsed | |
| add_genome_matches | 11.26 | 2.17 | 14.47 | |
| add_inverse_strand | 2.00 | 0.06 | 2.09 | |
| add_seq | 2.45 | 0.44 | 3.88 | |
| add_target_matches | 7.49 | 0.84 | 11.06 | |
| bed_to_granges | 0.84 | 0.05 | 0.89 | |
| char_to_granges | 0.84 | 0.00 | 0.84 | |
| double_flank | 2.32 | 0.03 | 2.35 | |
| extend_for_pe | 7.76 | 0.99 | 8.76 | |
| extend_pe_to_gg | 0.42 | 0.01 | 0.42 | |
| extract_matchranges | 2.74 | 0.24 | 2.99 | |
| extract_subranges | 0.53 | 0.00 | 0.53 | |
| find_gg | 1.02 | 0.10 | 1.12 | |
| find_primespacers | 15.89 | 1.57 | 17.46 | |
| find_spacers | 11.39 | 0.98 | 12.37 | |
| genes_to_granges | 3.28 | 0.14 | 3.43 | |
| gr2dt | 0.24 | 0.00 | 0.24 | |
| has_been_indexed | 0 | 0 | 0 | |
| index_genome | 0.95 | 0.05 | 15.34 | |
| index_targets | 1.92 | 0.23 | 2.92 | |
| plot_intervals | 8.46 | 0.91 | 9.36 | |
| plot_karyogram | 1.22 | 0.14 | 1.38 | |
| score_ontargets | 16.99 | 1.25 | 18.24 | |
| up_flank | 10.51 | 0.21 | 10.74 | |
| write_ranges | 0.15 | 0.00 | 0.18 | |