| Back to Multiple platform build/check report for BioC 3.16: simplified long |
|
This page was generated on 2023-04-12 11:05:11 -0400 (Wed, 12 Apr 2023).
| Hostname | OS | Arch (*) | R version | Installed pkgs |
|---|---|---|---|---|
| nebbiolo2 | Linux (Ubuntu 20.04.5 LTS) | x86_64 | 4.2.3 (2023-03-15) -- "Shortstop Beagle" | 4502 |
| palomino4 | Windows Server 2022 Datacenter | x64 | 4.2.3 (2023-03-15 ucrt) -- "Shortstop Beagle" | 4282 |
| lconway | macOS 12.5.1 Monterey | x86_64 | 4.2.3 (2023-03-15) -- "Shortstop Beagle" | 4310 |
| Click on any hostname to see more info about the system (e.g. compilers) (*) as reported by 'uname -p', except on Windows and Mac OS X | ||||
|
To the developers/maintainers of the mslp package: - Please allow up to 24 hours (and sometimes 48 hours) for your latest push to git@git.bioconductor.org:packages/mslp.git to reflect on this report. See How and When does the builder pull? When will my changes propagate? for more information. - Make sure to use the following settings in order to reproduce any error or warning you see on this page. |
| Package 1275/2183 | Hostname | OS / Arch | INSTALL | BUILD | CHECK | BUILD BIN | ||||||||
| mslp 1.0.2 (landing page) Chunxuan Shao
| nebbiolo2 | Linux (Ubuntu 20.04.5 LTS) / x86_64 | OK | OK | OK | |||||||||
| palomino4 | Windows Server 2022 Datacenter / x64 | OK | OK | OK | OK | |||||||||
| lconway | macOS 12.5.1 Monterey / x86_64 | OK | OK | OK | OK | |||||||||
| Package: mslp |
| Version: 1.0.2 |
| Command: /home/biocbuild/bbs-3.16-bioc/R/bin/R CMD check --install=check:mslp.install-out.txt --library=/home/biocbuild/bbs-3.16-bioc/R/site-library --timings mslp_1.0.2.tar.gz |
| StartedAt: 2023-04-10 22:12:05 -0400 (Mon, 10 Apr 2023) |
| EndedAt: 2023-04-10 22:13:39 -0400 (Mon, 10 Apr 2023) |
| EllapsedTime: 94.3 seconds |
| RetCode: 0 |
| Status: OK |
| CheckDir: mslp.Rcheck |
| Warnings: 0 |
##############################################################################
##############################################################################
###
### Running command:
###
### /home/biocbuild/bbs-3.16-bioc/R/bin/R CMD check --install=check:mslp.install-out.txt --library=/home/biocbuild/bbs-3.16-bioc/R/site-library --timings mslp_1.0.2.tar.gz
###
##############################################################################
##############################################################################
* using log directory ‘/home/biocbuild/bbs-3.16-bioc/meat/mslp.Rcheck’
* using R version 4.2.3 (2023-03-15)
* using platform: x86_64-pc-linux-gnu (64-bit)
* using session charset: UTF-8
* checking for file ‘mslp/DESCRIPTION’ ... OK
* checking extension type ... Package
* this is package ‘mslp’ version ‘1.0.2’
* package encoding: UTF-8
* checking package namespace information ... OK
* checking package dependencies ... OK
* checking if this is a source package ... OK
* checking if there is a namespace ... OK
* checking for hidden files and directories ... OK
* checking for portable file names ... OK
* checking for sufficient/correct file permissions ... OK
* checking whether package ‘mslp’ can be installed ... OK
* checking installed package size ... OK
* checking package directory ... OK
* checking ‘build’ directory ... OK
* checking DESCRIPTION meta-information ... OK
* checking top-level files ... OK
* checking for left-over files ... OK
* checking index information ... OK
* checking package subdirectories ... OK
* checking R files for non-ASCII characters ... OK
* checking R files for syntax errors ... OK
* checking whether the package can be loaded ... OK
* checking whether the package can be loaded with stated dependencies ... OK
* checking whether the package can be unloaded cleanly ... OK
* checking whether the namespace can be loaded with stated dependencies ... OK
* checking whether the namespace can be unloaded cleanly ... OK
* checking loading without being on the library search path ... OK
* checking dependencies in R code ... OK
* checking S3 generic/method consistency ... OK
* checking replacement functions ... OK
* checking foreign function calls ... OK
* checking R code for possible problems ... OK
* checking Rd files ... OK
* checking Rd metadata ... OK
* checking Rd cross-references ... OK
* checking for missing documentation entries ... OK
* checking for code/documentation mismatches ... OK
* checking Rd \usage sections ... OK
* checking Rd contents ... OK
* checking for unstated dependencies in examples ... OK
* checking contents of ‘data’ directory ... OK
* checking data for non-ASCII characters ... OK
* checking data for ASCII and uncompressed saves ... OK
* checking files in ‘vignettes’ ... OK
* checking examples ... OK
Examples with CPU (user + system) or elapsed time > 5s
user system elapsed
est_im 10.827 0.321 11.182
comp_slp 5.154 0.392 5.850
corr_slp 5.346 0.188 5.841
merge_slp 5.042 0.091 4.982
* checking for unstated dependencies in ‘tests’ ... OK
* checking tests ...
Running ‘tinytest.R’
OK
* checking for unstated dependencies in vignettes ... OK
* checking package vignettes in ‘inst/doc’ ... OK
* checking running R code from vignettes ...
‘mslp.Rmd’ using ‘UTF-8’... OK
NONE
* checking re-building of vignette outputs ... OK
* checking PDF version of manual ... OK
* DONE
Status: OK
mslp.Rcheck/00install.out
############################################################################## ############################################################################## ### ### Running command: ### ### /home/biocbuild/bbs-3.16-bioc/R/bin/R CMD INSTALL mslp ### ############################################################################## ############################################################################## * installing to library ‘/home/biocbuild/bbs-3.16-bioc/R/site-library’ * installing *source* package ‘mslp’ ... ** using staged installation ** R ** data ** inst ** byte-compile and prepare package for lazy loading ** help *** installing help indices ** building package indices ** installing vignettes ** testing if installed package can be loaded from temporary location ** testing if installed package can be loaded from final location ** testing if installed package keeps a record of temporary installation path * DONE (mslp)
mslp.Rcheck/tests/tinytest.Rout
R version 4.2.3 (2023-03-15) -- "Shortstop Beagle"
Copyright (C) 2023 The R Foundation for Statistical Computing
Platform: x86_64-pc-linux-gnu (64-bit)
R is free software and comes with ABSOLUTELY NO WARRANTY.
You are welcome to redistribute it under certain conditions.
Type 'license()' or 'licence()' for distribution details.
R is a collaborative project with many contributors.
Type 'contributors()' for more information and
'citation()' on how to cite R or R packages in publications.
Type 'demo()' for some demos, 'help()' for on-line help, or
'help.start()' for an HTML browser interface to help.
Type 'q()' to quit R.
> if (requireNamespace("tinytest", quietly = TRUE)) {
+ tinytest::test_package("mslp")
+ }
Loading required package: data.table
test_comp_slp.R............... 0 tests
test_comp_slp.R............... 0 tests (==) Number of mutations: 5.
test_comp_slp.R............... 0 tests
test_comp_slp.R............... 1 tests [0;32mOK[0m [0;34m5.5s[0m
test_corr_slp.R............... 0 tests
test_corr_slp.R............... 0 tests
test_corr_slp.R............... 0 tests (II) Number of mutations: 5.
test_corr_slp.R............... 0 tests
test_corr_slp.R............... 1 tests [0;32mOK[0m [0;34m5.5s[0m
All ok, 2 results (11.0s)
Warning message:
executing %dopar% sequentially: no parallel backend registered
>
> proc.time()
user system elapsed
10.813 0.677 11.324
mslp.Rcheck/mslp-Ex.timings
| name | user | system | elapsed | |
| comp_slp | 5.154 | 0.392 | 5.850 | |
| cons_slp | 0.001 | 0.000 | 0.000 | |
| corr_slp | 5.346 | 0.188 | 5.841 | |
| est_im | 10.827 | 0.321 | 11.182 | |
| genie3 | 0.015 | 0.000 | 0.014 | |
| getlink | 0.006 | 0.000 | 0.005 | |
| merge_slp | 5.042 | 0.091 | 4.982 | |
| pp_tcga | 0.001 | 0.000 | 0.000 | |
| scr_slp | 0.087 | 0.001 | 0.456 | |