| Back to Multiple platform build/check report for BioC 3.16: simplified long |
|
This page was generated on 2023-04-12 11:06:16 -0400 (Wed, 12 Apr 2023).
| Hostname | OS | Arch (*) | R version | Installed pkgs |
|---|---|---|---|---|
| nebbiolo2 | Linux (Ubuntu 20.04.5 LTS) | x86_64 | 4.2.3 (2023-03-15) -- "Shortstop Beagle" | 4502 |
| palomino4 | Windows Server 2022 Datacenter | x64 | 4.2.3 (2023-03-15 ucrt) -- "Shortstop Beagle" | 4282 |
| lconway | macOS 12.5.1 Monterey | x86_64 | 4.2.3 (2023-03-15) -- "Shortstop Beagle" | 4310 |
| Click on any hostname to see more info about the system (e.g. compilers) (*) as reported by 'uname -p', except on Windows and Mac OS X | ||||
|
To the developers/maintainers of the monocle package: - Please allow up to 24 hours (and sometimes 48 hours) for your latest push to git@git.bioconductor.org:packages/monocle.git to reflect on this report. See How and When does the builder pull? When will my changes propagate? for more information. - Make sure to use the following settings in order to reproduce any error or warning you see on this page. |
| Package 1248/2183 | Hostname | OS / Arch | INSTALL | BUILD | CHECK | BUILD BIN | ||||||||
| monocle 2.26.0 (landing page) Cole Trapnell
| nebbiolo2 | Linux (Ubuntu 20.04.5 LTS) / x86_64 | OK | OK | OK | |||||||||
| palomino4 | Windows Server 2022 Datacenter / x64 | OK | OK | OK | OK | |||||||||
| lconway | macOS 12.5.1 Monterey / x86_64 | OK | OK | OK | OK | |||||||||
| Package: monocle |
| Version: 2.26.0 |
| Command: /Library/Frameworks/R.framework/Resources/bin/R CMD check --install=check:monocle.install-out.txt --library=/Library/Frameworks/R.framework/Resources/library --no-vignettes --timings monocle_2.26.0.tar.gz |
| StartedAt: 2023-04-10 21:19:51 -0400 (Mon, 10 Apr 2023) |
| EndedAt: 2023-04-10 21:21:28 -0400 (Mon, 10 Apr 2023) |
| EllapsedTime: 97.4 seconds |
| RetCode: 0 |
| Status: OK |
| CheckDir: monocle.Rcheck |
| Warnings: 0 |
##############################################################################
##############################################################################
###
### Running command:
###
### /Library/Frameworks/R.framework/Resources/bin/R CMD check --install=check:monocle.install-out.txt --library=/Library/Frameworks/R.framework/Resources/library --no-vignettes --timings monocle_2.26.0.tar.gz
###
##############################################################################
##############################################################################
* using log directory ‘/Users/biocbuild/bbs-3.16-bioc/meat/monocle.Rcheck’
* using R version 4.2.3 (2023-03-15)
* using platform: x86_64-apple-darwin17.0 (64-bit)
* using session charset: UTF-8
* using option ‘--no-vignettes’
* checking for file ‘monocle/DESCRIPTION’ ... OK
* checking extension type ... Package
* this is package ‘monocle’ version ‘2.26.0’
* checking package namespace information ... OK
* checking package dependencies ... OK
* checking if this is a source package ... OK
* checking if there is a namespace ... OK
* checking for hidden files and directories ... OK
* checking for portable file names ... OK
* checking for sufficient/correct file permissions ... OK
* checking whether package ‘monocle’ can be installed ... OK
* checking installed package size ... OK
* checking package directory ... OK
* checking ‘build’ directory ... OK
* checking DESCRIPTION meta-information ... OK
* checking top-level files ... OK
* checking for left-over files ... OK
* checking index information ... OK
* checking package subdirectories ... OK
* checking R files for non-ASCII characters ... OK
* checking R files for syntax errors ... OK
* checking whether the package can be loaded ... OK
* checking whether the package can be loaded with stated dependencies ... OK
* checking whether the package can be unloaded cleanly ... OK
* checking whether the namespace can be loaded with stated dependencies ... OK
* checking whether the namespace can be unloaded cleanly ... OK
* checking dependencies in R code ... NOTE
Namespaces in Imports field not imported from:
‘Rcpp’ ‘biocViews’
All declared Imports should be used.
* checking S3 generic/method consistency ... OK
* checking replacement functions ... OK
* checking foreign function calls ... OK
* checking R code for possible problems ... NOTE
assign_cell_lineage: no visible global function definition for ‘nei’
buildBranchCellDataSet: no visible global function definition for ‘nei’
count_leaf_descendents: no visible global function definition for ‘nei’
cth_classifier_cds: no visible global function definition for ‘nei’
cth_classifier_cell: no visible global function definition for ‘nei’
diff_test_helper: no visible binding for global variable ‘Size_Factor’
exportCDS: no visible binding for global variable ‘use_for_ordering’
extract_good_ordering: no visible global function definition for ‘nei’
fit_model_helper: no visible binding for global variable ‘Size_Factor’
get_next_node_id: no visible binding for '<<-' assignment to
‘next_node’
get_next_node_id: no visible binding for global variable ‘next_node’
make_canonical: no visible global function definition for ‘nei’
measure_diameter_path: no visible global function definition for ‘nei’
orderCells: no visible binding for '<<-' assignment to ‘next_node’
plot_multiple_branches_pseudotime: no visible binding for global
variable ‘pseudocount’
plot_multiple_branches_pseudotime: no visible binding for global
variable ‘Branch’
project2MST: no visible global function definition for ‘nei’
reverseEmbeddingCDS : <anonymous>: no visible global function
definition for ‘quantile’
Undefined global functions or variables:
Branch Size_Factor nei next_node pseudocount quantile
use_for_ordering
Consider adding
importFrom("stats", "quantile")
to your NAMESPACE file.
* checking Rd files ... OK
* checking Rd metadata ... OK
* checking Rd cross-references ... OK
* checking for missing documentation entries ... OK
* checking for code/documentation mismatches ... OK
* checking Rd \usage sections ... OK
* checking Rd contents ... OK
* checking for unstated dependencies in examples ... OK
* checking contents of ‘data’ directory ... OK
* checking data for non-ASCII characters ... OK
* checking LazyData ... OK
* checking data for ASCII and uncompressed saves ... OK
* checking line endings in C/C++/Fortran sources/headers ... OK
* checking compiled code ... NOTE
Note: information on .o files is not available
* checking sizes of PDF files under ‘inst/doc’ ... OK
* checking files in ‘vignettes’ ... OK
* checking examples ... OK
* checking for unstated dependencies in ‘tests’ ... OK
* checking tests ...
Running ‘testthat.R’
OK
* checking for unstated dependencies in vignettes ... OK
* checking package vignettes in ‘inst/doc’ ... OK
* checking running R code from vignettes ... SKIPPED
* checking re-building of vignette outputs ... SKIPPED
* checking PDF version of manual ... OK
* DONE
Status: 3 NOTEs
See
‘/Users/biocbuild/bbs-3.16-bioc/meat/monocle.Rcheck/00check.log’
for details.
monocle.Rcheck/00install.out
############################################################################## ############################################################################## ### ### Running command: ### ### /Library/Frameworks/R.framework/Resources/bin/R CMD INSTALL monocle ### ############################################################################## ############################################################################## * installing to library ‘/Library/Frameworks/R.framework/Versions/4.2/Resources/library’ * installing *source* package ‘monocle’ ... ** using staged installation ** libs clang++ -mmacosx-version-min=10.13 -std=gnu++14 -I"/Library/Frameworks/R.framework/Resources/include" -DNDEBUG -I'/Library/Frameworks/R.framework/Versions/4.2/Resources/library/Rcpp/include' -I/usr/local/include -fPIC -Wall -g -O2 -c RcppExports.cpp -o RcppExports.o clang++ -mmacosx-version-min=10.13 -std=gnu++14 -I"/Library/Frameworks/R.framework/Resources/include" -DNDEBUG -I'/Library/Frameworks/R.framework/Versions/4.2/Resources/library/Rcpp/include' -I/usr/local/include -fPIC -Wall -g -O2 -c clustering.cpp -o clustering.o clang++ -mmacosx-version-min=10.13 -std=gnu++14 -dynamiclib -Wl,-headerpad_max_install_names -undefined dynamic_lookup -single_module -multiply_defined suppress -L/Library/Frameworks/R.framework/Resources/lib -L/usr/local/lib -o monocle.so RcppExports.o clustering.o -F/Library/Frameworks/R.framework/.. -framework R -Wl,-framework -Wl,CoreFoundation installing to /Library/Frameworks/R.framework/Versions/4.2/Resources/library/00LOCK-monocle/00new/monocle/libs ** R ** data *** moving datasets to lazyload DB ** inst ** byte-compile and prepare package for lazy loading ** help *** installing help indices ** building package indices ** installing vignettes ** testing if installed package can be loaded from temporary location ** checking absolute paths in shared objects and dynamic libraries ** testing if installed package can be loaded from final location ** testing if installed package keeps a record of temporary installation path * DONE (monocle)
monocle.Rcheck/tests/testthat.Rout
R version 4.2.3 (2023-03-15) -- "Shortstop Beagle"
Copyright (C) 2023 The R Foundation for Statistical Computing
Platform: x86_64-apple-darwin17.0 (64-bit)
R is free software and comes with ABSOLUTELY NO WARRANTY.
You are welcome to redistribute it under certain conditions.
Type 'license()' or 'licence()' for distribution details.
R is a collaborative project with many contributors.
Type 'contributors()' for more information and
'citation()' on how to cite R or R packages in publications.
Type 'demo()' for some demos, 'help()' for on-line help, or
'help.start()' for an HTML browser interface to help.
Type 'q()' to quit R.
> library(testthat)
> #test_check("monocle")
>
> proc.time()
user system elapsed
0.308 0.080 0.377
monocle.Rcheck/monocle-Ex.timings
| name | user | system | elapsed | |
| cellPairwiseDistances-set | 0.000 | 0.001 | 0.000 | |
| cellPairwiseDistances | 0 | 0 | 0 | |
| clusterGenes | 0.001 | 0.000 | 0.001 | |
| detectGenes | 0 | 0 | 0 | |
| estimate_t | 0 | 0 | 0 | |
| exportCDS | 0 | 0 | 0 | |
| importCDS | 0.000 | 0.001 | 0.000 | |
| minSpanningTree-set | 0 | 0 | 0 | |
| minSpanningTree | 0.000 | 0.000 | 0.001 | |
| newCellDataSet | 0.001 | 0.000 | 0.000 | |
| newCellTypeHierarchy | 0 | 0 | 0 | |
| package-deprecated | 0 | 0 | 0 | |
| plot_cell_clusters | 0 | 0 | 0 | |
| plot_cell_trajectory | 0 | 0 | 0 | |
| plot_clusters | 0 | 0 | 0 | |
| plot_complex_cell_trajectory | 0 | 0 | 0 | |
| plot_genes_in_pseudotime | 0 | 0 | 0 | |
| plot_genes_jitter | 0 | 0 | 0 | |
| plot_genes_positive_cells | 0 | 0 | 0 | |
| plot_genes_violin | 0 | 0 | 0 | |
| plot_pc_variance_explained | 0.000 | 0.000 | 0.001 | |
| plot_rho_delta | 0 | 0 | 0 | |
| reducedDimA-set | 0 | 0 | 0 | |
| reducedDimA | 0 | 0 | 0 | |
| reducedDimK-set | 0 | 0 | 0 | |
| reducedDimK | 0 | 0 | 0 | |
| reducedDimS-set | 0 | 0 | 0 | |
| reducedDimS | 0 | 0 | 0 | |
| reducedDimW-set | 0 | 0 | 0 | |
| reducedDimW | 0 | 0 | 0 | |
| relative2abs | 0 | 0 | 0 | |