| Back to Multiple platform build/check report for BioC 3.16: simplified long |
|
This page was generated on 2023-04-12 11:05:10 -0400 (Wed, 12 Apr 2023).
| Hostname | OS | Arch (*) | R version | Installed pkgs |
|---|---|---|---|---|
| nebbiolo2 | Linux (Ubuntu 20.04.5 LTS) | x86_64 | 4.2.3 (2023-03-15) -- "Shortstop Beagle" | 4502 |
| palomino4 | Windows Server 2022 Datacenter | x64 | 4.2.3 (2023-03-15 ucrt) -- "Shortstop Beagle" | 4282 |
| lconway | macOS 12.5.1 Monterey | x86_64 | 4.2.3 (2023-03-15) -- "Shortstop Beagle" | 4310 |
| Click on any hostname to see more info about the system (e.g. compilers) (*) as reported by 'uname -p', except on Windows and Mac OS X | ||||
|
To the developers/maintainers of the mixOmics package: - Please allow up to 24 hours (and sometimes 48 hours) for your latest push to git@git.bioconductor.org:packages/mixOmics.git to reflect on this report. See How and When does the builder pull? When will my changes propagate? for more information. - Make sure to use the following settings in order to reproduce any error or warning you see on this page. |
| Package 1230/2183 | Hostname | OS / Arch | INSTALL | BUILD | CHECK | BUILD BIN | ||||||||
| mixOmics 6.22.0 (landing page) Al J Abadi
| nebbiolo2 | Linux (Ubuntu 20.04.5 LTS) / x86_64 | OK | OK | OK | |||||||||
| palomino4 | Windows Server 2022 Datacenter / x64 | OK | OK | OK | OK | |||||||||
| lconway | macOS 12.5.1 Monterey / x86_64 | OK | OK | OK | OK | |||||||||
| Package: mixOmics |
| Version: 6.22.0 |
| Command: /home/biocbuild/bbs-3.16-bioc/R/bin/R CMD check --install=check:mixOmics.install-out.txt --library=/home/biocbuild/bbs-3.16-bioc/R/site-library --timings mixOmics_6.22.0.tar.gz |
| StartedAt: 2023-04-10 22:03:40 -0400 (Mon, 10 Apr 2023) |
| EndedAt: 2023-04-10 22:12:18 -0400 (Mon, 10 Apr 2023) |
| EllapsedTime: 518.5 seconds |
| RetCode: 0 |
| Status: OK |
| CheckDir: mixOmics.Rcheck |
| Warnings: 0 |
##############################################################################
##############################################################################
###
### Running command:
###
### /home/biocbuild/bbs-3.16-bioc/R/bin/R CMD check --install=check:mixOmics.install-out.txt --library=/home/biocbuild/bbs-3.16-bioc/R/site-library --timings mixOmics_6.22.0.tar.gz
###
##############################################################################
##############################################################################
* using log directory ‘/home/biocbuild/bbs-3.16-bioc/meat/mixOmics.Rcheck’
* using R version 4.2.3 (2023-03-15)
* using platform: x86_64-pc-linux-gnu (64-bit)
* using session charset: UTF-8
* checking for file ‘mixOmics/DESCRIPTION’ ... OK
* checking extension type ... Package
* this is package ‘mixOmics’ version ‘6.22.0’
* package encoding: UTF-8
* checking package namespace information ... OK
* checking package dependencies ... OK
* checking if this is a source package ... OK
* checking if there is a namespace ... OK
* checking for hidden files and directories ... OK
* checking for portable file names ... OK
* checking for sufficient/correct file permissions ... OK
* checking whether package ‘mixOmics’ can be installed ... OK
* checking installed package size ... NOTE
installed size is 6.2Mb
sub-directories of 1Mb or more:
R 1.4Mb
data 3.3Mb
* checking package directory ... OK
* checking DESCRIPTION meta-information ...Warning in person1(given = given[[i]], family = family[[i]], middle = middle[[i]], :
It is recommended to use ‘given’ instead of ‘middle’.
OK
* checking top-level files ... OK
* checking for left-over files ... OK
* checking index information ... OK
* checking package subdirectories ... OK
* checking R files for non-ASCII characters ... OK
* checking R files for syntax errors ... OK
* checking whether the package can be loaded ... OK
* checking whether the package can be loaded with stated dependencies ... OK
* checking whether the package can be unloaded cleanly ... OK
* checking whether the namespace can be loaded with stated dependencies ... OK
* checking whether the namespace can be unloaded cleanly ... OK
* checking loading without being on the library search path ... OK
* checking dependencies in R code ... OK
* checking S3 generic/method consistency ... OK
* checking replacement functions ... OK
* checking foreign function calls ... OK
* checking R code for possible problems ... NOTE
predict.block.pls: no visible global function definition for ‘setNames’
predict.block.spls: no visible global function definition for
‘setNames’
predict.mint.splsda: no visible global function definition for
‘setNames’
predict.mixo_pls: no visible global function definition for ‘setNames’
predict.mixo_spls: no visible global function definition for ‘setNames’
Undefined global functions or variables:
setNames
Consider adding
importFrom("stats", "setNames")
to your NAMESPACE file.
* checking Rd files ... OK
* checking Rd metadata ... OK
* checking Rd cross-references ... OK
* checking for missing documentation entries ... OK
* checking for code/documentation mismatches ... OK
* checking Rd \usage sections ... OK
* checking Rd contents ... OK
* checking for unstated dependencies in examples ... OK
* checking contents of ‘data’ directory ... OK
* checking data for non-ASCII characters ... OK
* checking data for ASCII and uncompressed saves ... OK
* checking files in ‘vignettes’ ... OK
* checking examples ... OK
Examples with CPU (user + system) or elapsed time > 5s
user system elapsed
biplot 14.654 0.131 14.786
circosPlot 8.189 0.116 8.304
background.predict 7.131 0.096 7.226
block.splsda 6.161 0.063 6.226
block.spls 5.219 0.012 5.231
* checking for unstated dependencies in ‘tests’ ... OK
* checking tests ...
Running ‘testthat.R’
OK
* checking for unstated dependencies in vignettes ... OK
* checking package vignettes in ‘inst/doc’ ... OK
* checking running R code from vignettes ...
‘vignette.Rmd’ using ‘UTF-8’... OK
NONE
* checking re-building of vignette outputs ... OK
* checking PDF version of manual ... OK
* DONE
Status: 2 NOTEs
See
‘/home/biocbuild/bbs-3.16-bioc/meat/mixOmics.Rcheck/00check.log’
for details.
mixOmics.Rcheck/00install.out
############################################################################## ############################################################################## ### ### Running command: ### ### /home/biocbuild/bbs-3.16-bioc/R/bin/R CMD INSTALL mixOmics ### ############################################################################## ############################################################################## * installing to library ‘/home/biocbuild/bbs-3.16-bioc/R/site-library’ * installing *source* package ‘mixOmics’ ... ** using staged installation Warning in person1(given = given[[i]], family = family[[i]], middle = middle[[i]], : It is recommended to use ‘given’ instead of ‘middle’. Warning in person1(given = given[[i]], family = family[[i]], middle = middle[[i]], : It is recommended to use ‘given’ instead of ‘middle’. ** R ** data ** inst ** byte-compile and prepare package for lazy loading ** help *** installing help indices ** building package indices ** installing vignettes ** testing if installed package can be loaded from temporary location ** testing if installed package can be loaded from final location ** testing if installed package keeps a record of temporary installation path * DONE (mixOmics)
mixOmics.Rcheck/tests/testthat.Rout
R version 4.2.3 (2023-03-15) -- "Shortstop Beagle"
Copyright (C) 2023 The R Foundation for Statistical Computing
Platform: x86_64-pc-linux-gnu (64-bit)
R is free software and comes with ABSOLUTELY NO WARRANTY.
You are welcome to redistribute it under certain conditions.
Type 'license()' or 'licence()' for distribution details.
R is a collaborative project with many contributors.
Type 'contributors()' for more information and
'citation()' on how to cite R or R packages in publications.
Type 'demo()' for some demos, 'help()' for on-line help, or
'help.start()' for an HTML browser interface to help.
Type 'q()' to quit R.
> library(testthat)
> library(mixOmics)
Loading required package: MASS
Loading required package: lattice
Loading required package: ggplot2
Loaded mixOmics 6.22.0
Thank you for using mixOmics!
Tutorials: http://mixomics.org
Bookdown vignette: https://mixomicsteam.github.io/Bookdown
Questions, issues: Follow the prompts at http://mixomics.org/contact-us
Cite us: citation('mixOmics')
>
> test_check("mixOmics")
[ FAIL 0 | WARN 2 | SKIP 0 | PASS 149 ]
[ FAIL 0 | WARN 2 | SKIP 0 | PASS 149 ]
>
> proc.time()
user system elapsed
58.015 1.388 59.073
mixOmics.Rcheck/mixOmics-Ex.timings
| name | user | system | elapsed | |
| S3methods-print | 0.016 | 0.000 | 0.016 | |
| auroc | 0.886 | 0.056 | 0.942 | |
| background.predict | 7.131 | 0.096 | 7.226 | |
| biplot | 14.654 | 0.131 | 14.786 | |
| block.pls | 0.767 | 0.023 | 0.791 | |
| block.plsda | 0.681 | 0.001 | 0.681 | |
| block.spls | 5.219 | 0.012 | 5.231 | |
| block.splsda | 6.161 | 0.063 | 6.226 | |
| cim | 0.032 | 0.004 | 0.035 | |
| cimDiablo | 0.266 | 0.001 | 0.265 | |
| circosPlot | 8.189 | 0.116 | 8.304 | |
| colors | 0.031 | 0.000 | 0.031 | |
| explained_variance | 0.091 | 0.007 | 0.098 | |
| get.confusion_matrix | 0.151 | 0.005 | 0.154 | |
| image.tune.rcc | 1.708 | 0.019 | 1.727 | |
| imgCor | 0.073 | 0.000 | 0.073 | |
| impute.nipals | 0.010 | 0.000 | 0.011 | |
| ipca | 0.710 | 0.035 | 0.747 | |
| logratio-transformations | 0.061 | 0.000 | 0.062 | |
| map | 0.000 | 0.003 | 0.004 | |
| mat.rank | 0.002 | 0.000 | 0.002 | |
| mint.block.pls | 0.141 | 0.000 | 0.142 | |
| mint.block.plsda | 0.108 | 0.003 | 0.109 | |
| mint.block.spls | 0.150 | 0.000 | 0.149 | |
| mint.block.splsda | 0.129 | 0.000 | 0.129 | |
| mint.pca | 0.395 | 0.000 | 0.396 | |
| mint.pls | 0.503 | 0.000 | 0.503 | |
| mint.plsda | 0.593 | 0.000 | 0.592 | |
| mint.spls | 0.512 | 0.000 | 0.512 | |
| mint.splsda | 0.603 | 0.000 | 0.603 | |
| mixOmics | 0.639 | 0.024 | 0.663 | |
| nearZeroVar | 0.655 | 0.000 | 0.655 | |
| network | 0.007 | 0.003 | 0.011 | |
| pca | 4.186 | 0.036 | 4.222 | |
| perf | 2.637 | 0.020 | 2.657 | |
| plot.rcc | 0.012 | 0.000 | 0.012 | |
| plot.tune | 0.001 | 0.000 | 0.001 | |
| plotArrow | 3.804 | 0.043 | 3.848 | |
| plotDiablo | 0.184 | 0.004 | 0.189 | |
| plotIndiv | 0.268 | 0.000 | 0.269 | |
| plotLoadings | 0.137 | 0.000 | 0.137 | |
| plotMarkers | 0 | 0 | 0 | |
| plotVar | 0.818 | 0.007 | 0.826 | |
| pls | 0.006 | 0.000 | 0.006 | |
| plsda | 0.345 | 0.003 | 0.349 | |
| predict | 0.159 | 0.001 | 0.160 | |
| rcc | 0.003 | 0.000 | 0.003 | |
| selectVar | 0.305 | 0.051 | 0.357 | |
| sipca | 0.397 | 0.000 | 0.397 | |
| spca | 3.044 | 0.047 | 3.092 | |
| spls | 0.176 | 0.000 | 0.176 | |
| splsda | 0.372 | 0.004 | 0.376 | |
| study_split | 0.005 | 0.000 | 0.005 | |
| summary | 0.013 | 0.000 | 0.014 | |
| tune | 4.109 | 0.058 | 4.185 | |
| tune.block.splsda | 0 | 0 | 0 | |
| tune.mint.splsda | 2.052 | 0.004 | 2.055 | |
| tune.pca | 0.162 | 0.008 | 0.170 | |
| tune.rcc | 1.609 | 0.004 | 1.613 | |
| tune.spca | 0.688 | 0.000 | 0.688 | |
| tune.spls | 0 | 0 | 0 | |
| tune.splsda | 3.406 | 0.035 | 3.459 | |
| tune.splslevel | 0.767 | 0.012 | 0.779 | |
| unmap | 0.005 | 0.000 | 0.004 | |
| vip | 0.011 | 0.000 | 0.011 | |
| withinVariation | 0.850 | 0.044 | 0.893 | |
| wrapper.rgcca | 0.071 | 0.000 | 0.071 | |
| wrapper.sgcca | 0.101 | 0.000 | 0.101 | |