| Back to Multiple platform build/check report for BioC 3.16: simplified long |
|
This page was generated on 2023-04-12 11:05:41 -0400 (Wed, 12 Apr 2023).
| Hostname | OS | Arch (*) | R version | Installed pkgs |
|---|---|---|---|---|
| nebbiolo2 | Linux (Ubuntu 20.04.5 LTS) | x86_64 | 4.2.3 (2023-03-15) -- "Shortstop Beagle" | 4502 |
| palomino4 | Windows Server 2022 Datacenter | x64 | 4.2.3 (2023-03-15 ucrt) -- "Shortstop Beagle" | 4282 |
| lconway | macOS 12.5.1 Monterey | x86_64 | 4.2.3 (2023-03-15) -- "Shortstop Beagle" | 4310 |
| Click on any hostname to see more info about the system (e.g. compilers) (*) as reported by 'uname -p', except on Windows and Mac OS X | ||||
|
To the developers/maintainers of the mitch package: - Please allow up to 24 hours (and sometimes 48 hours) for your latest push to git@git.bioconductor.org:packages/mitch.git to reflect on this report. See How and When does the builder pull? When will my changes propagate? for more information. - Make sure to use the following settings in order to reproduce any error or warning you see on this page. |
| Package 1228/2183 | Hostname | OS / Arch | INSTALL | BUILD | CHECK | BUILD BIN | ||||||||
| mitch 1.10.0 (landing page) Mark Ziemann
| nebbiolo2 | Linux (Ubuntu 20.04.5 LTS) / x86_64 | OK | OK | OK | |||||||||
| palomino4 | Windows Server 2022 Datacenter / x64 | OK | OK | OK | OK | |||||||||
| lconway | macOS 12.5.1 Monterey / x86_64 | OK | OK | OK | OK | |||||||||
| Package: mitch |
| Version: 1.10.0 |
| Command: F:\biocbuild\bbs-3.16-bioc\R\bin\R.exe CMD check --no-multiarch --install=check:mitch.install-out.txt --library=F:\biocbuild\bbs-3.16-bioc\R\library --no-vignettes --timings mitch_1.10.0.tar.gz |
| StartedAt: 2023-04-11 03:28:31 -0400 (Tue, 11 Apr 2023) |
| EndedAt: 2023-04-11 03:32:33 -0400 (Tue, 11 Apr 2023) |
| EllapsedTime: 241.7 seconds |
| RetCode: 0 |
| Status: OK |
| CheckDir: mitch.Rcheck |
| Warnings: 0 |
##############################################################################
##############################################################################
###
### Running command:
###
### F:\biocbuild\bbs-3.16-bioc\R\bin\R.exe CMD check --no-multiarch --install=check:mitch.install-out.txt --library=F:\biocbuild\bbs-3.16-bioc\R\library --no-vignettes --timings mitch_1.10.0.tar.gz
###
##############################################################################
##############################################################################
* using log directory 'F:/biocbuild/bbs-3.16-bioc/meat/mitch.Rcheck'
* using R version 4.2.3 (2023-03-15 ucrt)
* using platform: x86_64-w64-mingw32 (64-bit)
* using session charset: UTF-8
* using option '--no-vignettes'
* checking for file 'mitch/DESCRIPTION' ... OK
* this is package 'mitch' version '1.10.0'
* package encoding: UTF-8
* checking package namespace information ... OK
* checking package dependencies ... OK
* checking if this is a source package ... OK
* checking if there is a namespace ... OK
* checking for hidden files and directories ... OK
* checking for portable file names ... OK
* checking whether package 'mitch' can be installed ... OK
* checking installed package size ... OK
* checking package directory ... OK
* checking 'build' directory ... OK
* checking DESCRIPTION meta-information ... OK
* checking top-level files ... OK
* checking for left-over files ... OK
* checking index information ... OK
* checking package subdirectories ... OK
* checking R files for non-ASCII characters ... OK
* checking R files for syntax errors ... OK
* checking whether the package can be loaded ... OK
* checking whether the package can be loaded with stated dependencies ... OK
* checking whether the package can be unloaded cleanly ... OK
* checking whether the namespace can be loaded with stated dependencies ... OK
* checking whether the namespace can be unloaded cleanly ... OK
* checking dependencies in R code ... OK
* checking S3 generic/method consistency ... OK
* checking replacement functions ... OK
* checking foreign function calls ... OK
* checking R code for possible problems ... OK
* checking Rd files ... OK
* checking Rd metadata ... OK
* checking Rd cross-references ... OK
* checking for missing documentation entries ... OK
* checking for code/documentation mismatches ... OK
* checking Rd \usage sections ... OK
* checking Rd contents ... OK
* checking for unstated dependencies in examples ... OK
* checking contents of 'data' directory ... OK
* checking data for non-ASCII characters ... OK
* checking data for ASCII and uncompressed saves ... OK
* checking files in 'vignettes' ... OK
* checking examples ... OK
Examples with CPU (user + system) or elapsed time > 5s
user system elapsed
mitch 48.79 3.59 55.99
mitch_report 26.50 2.48 30.66
mitch_plots 20.59 0.41 21.00
* checking for unstated dependencies in 'tests' ... OK
* checking tests ...
Running 'test-mitch.R'
OK
* checking for unstated dependencies in vignettes ... OK
* checking package vignettes in 'inst/doc' ... OK
* checking running R code from vignettes ... SKIPPED
* checking re-building of vignette outputs ... SKIPPED
* checking PDF version of manual ... OK
* DONE
Status: OK
mitch.Rcheck/00install.out
############################################################################## ############################################################################## ### ### Running command: ### ### F:\biocbuild\bbs-3.16-bioc\R\bin\R.exe CMD INSTALL mitch ### ############################################################################## ############################################################################## * installing to library 'F:/biocbuild/bbs-3.16-bioc/R/library' * installing *source* package 'mitch' ... ** using staged installation ** R ** data ** inst ** byte-compile and prepare package for lazy loading ** help *** installing help indices ** building package indices ** installing vignettes ** testing if installed package can be loaded from temporary location ** testing if installed package can be loaded from final location ** testing if installed package keeps a record of temporary installation path * DONE (mitch)
mitch.Rcheck/tests/test-mitch.Rout
R version 4.2.3 (2023-03-15 ucrt) -- "Shortstop Beagle"
Copyright (C) 2023 The R Foundation for Statistical Computing
Platform: x86_64-w64-mingw32/x64 (64-bit)
R is free software and comes with ABSOLUTELY NO WARRANTY.
You are welcome to redistribute it under certain conditions.
Type 'license()' or 'licence()' for distribution details.
R is a collaborative project with many contributors.
Type 'contributors()' for more information and
'citation()' on how to cite R or R packages in publications.
Type 'demo()' for some demos, 'help()' for on-line help, or
'help.start()' for an HTML browser interface to help.
Type 'q()' to quit R.
> library("mitch")
> library("testthat")
>
> test_that("multiplication works", {
+ expect_equal(2 * 2, 4)
+ })
Test passed 🌈
>
> # 1d
> data(rna,genesetsExample)
> y<-mitch_import(rna,DEtype="edgeR")
The input is a single dataframe; one contrast only. Converting
it to a list for you.
Note: Mean no. genes in input = 1000
Note: no. genes in output = 1000
Note: estimated proportion of input genes in output = 1
> res<-mitch_calc(y,genesetsExample,cores=2)
Note: When prioritising by significance (ie: small
p-values), large effect sizes might be missed.
> mitch_plots(res,outfile="1d.pdf")
null device
1
> if (file.exists("1d.html")) { unlink("1d.html") }
> mitch_report(res,"1d.html")
Dataset saved as " F:\biocbuild\bbs-3.16-bioc\tmpdir\Rtmp8i8atb/1d.rds ".
processing file: mitch.Rmd
output file: F:/biocbuild/bbs-3.16-bioc/meat/mitch.Rcheck/tests/mitch.knit.md
"C:/PROGRA~1/Pandoc/pandoc" +RTS -K512m -RTS "F:/biocbuild/bbs-3.16-bioc/meat/mitch.Rcheck/tests/mitch.knit.md" --to html4 --from markdown+autolink_bare_uris+tex_math_single_backslash --output pandocff2c59472a83.html --lua-filter "F:\biocbuild\bbs-3.16-bioc\R\library\rmarkdown\rmarkdown\lua\pagebreak.lua" --lua-filter "F:\biocbuild\bbs-3.16-bioc\R\library\rmarkdown\rmarkdown\lua\latex-div.lua" --self-contained --variable bs3=TRUE --section-divs --template "F:\biocbuild\bbs-3.16-bioc\R\library\rmarkdown\rmd\h\default.html" --no-highlight --variable highlightjs=1 --variable theme=bootstrap --mathjax --variable "mathjax-url=https://mathjax.rstudio.com/latest/MathJax.js?config=TeX-AMS-MML_HTMLorMML" --include-in-header "F:\biocbuild\bbs-3.16-bioc\tmpdir\Rtmp8i8atb\rmarkdown-strff2c7e7e5e7d.html"
Output created: F:\biocbuild\bbs-3.16-bioc\tmpdir\Rtmp8i8atb/mitch_report.html
[1] TRUE
>
> test_that("1d works", {
+ expect_equal( length(which(res$enrichment_result$p.adjustANOVA<0.1)) ,1)
+ expect_true(file.info("1d.pdf")$size>10000)
+ expect_true(file.info("1d.html")$size>1000000)
+ })
Test passed 🎉
>
> unlink("1d.html")
> unlink("1d.pdf")
>
>
> # 1d part 2 to make sure that saving files at a different location works
> MYPATH=paste(getwd(),"/1d.html",sep="")
> if (file.exists("1d.html")) { unlink("1d.html") }
> mitch_report(res,MYPATH)
Dataset saved as " F:\biocbuild\bbs-3.16-bioc\tmpdir\Rtmp8i8atb/1d.rds ".
processing file: mitch.Rmd
output file: F:/biocbuild/bbs-3.16-bioc/meat/mitch.Rcheck/tests/mitch.knit.md
"C:/PROGRA~1/Pandoc/pandoc" +RTS -K512m -RTS "F:/biocbuild/bbs-3.16-bioc/meat/mitch.Rcheck/tests/mitch.knit.md" --to html4 --from markdown+autolink_bare_uris+tex_math_single_backslash --output pandocff2c3c7c2ffd.html --lua-filter "F:\biocbuild\bbs-3.16-bioc\R\library\rmarkdown\rmarkdown\lua\pagebreak.lua" --lua-filter "F:\biocbuild\bbs-3.16-bioc\R\library\rmarkdown\rmarkdown\lua\latex-div.lua" --self-contained --variable bs3=TRUE --section-divs --template "F:\biocbuild\bbs-3.16-bioc\R\library\rmarkdown\rmd\h\default.html" --no-highlight --variable highlightjs=1 --variable theme=bootstrap --mathjax --variable "mathjax-url=https://mathjax.rstudio.com/latest/MathJax.js?config=TeX-AMS-MML_HTMLorMML" --include-in-header "F:\biocbuild\bbs-3.16-bioc\tmpdir\Rtmp8i8atb\rmarkdown-strff2c5be468a1.html"
Output created: F:\biocbuild\bbs-3.16-bioc\tmpdir\Rtmp8i8atb/mitch_report.html
[1] TRUE
>
> test_that("1d works", {
+ expect_true(file.info("1d.html")$size>1000000)
+ })
Test passed 😸
>
> unlink("1d.html")
>
>
>
> # 2d
> data(rna,k9a,genesetsExample)
> x<-list("rna"=rna,"k9a"=k9a)
> y<-mitch_import(x,DEtype="edgeR")
Note: Mean no. genes in input = 1000
Note: no. genes in output = 1000
Note: estimated proportion of input genes in output = 1
> res<-mitch_calc(y,genesetsExample,cores=2)
Note: When prioritising by significance (ie: small
p-values), large effect sizes might be missed.
> mitch_plots(res,outfile="2d.pdf")
null device
1
> if (file.exists("2d.html")) { unlink("2d.html") }
> mitch_report(res,"2d.html")
Dataset saved as " F:\biocbuild\bbs-3.16-bioc\tmpdir\Rtmp8i8atb/2d.rds ".
processing file: mitch.Rmd
output file: F:/biocbuild/bbs-3.16-bioc/meat/mitch.Rcheck/tests/mitch.knit.md
"C:/PROGRA~1/Pandoc/pandoc" +RTS -K512m -RTS "F:/biocbuild/bbs-3.16-bioc/meat/mitch.Rcheck/tests/mitch.knit.md" --to html4 --from markdown+autolink_bare_uris+tex_math_single_backslash --output pandocff2c8c03650.html --lua-filter "F:\biocbuild\bbs-3.16-bioc\R\library\rmarkdown\rmarkdown\lua\pagebreak.lua" --lua-filter "F:\biocbuild\bbs-3.16-bioc\R\library\rmarkdown\rmarkdown\lua\latex-div.lua" --self-contained --variable bs3=TRUE --section-divs --template "F:\biocbuild\bbs-3.16-bioc\R\library\rmarkdown\rmd\h\default.html" --no-highlight --variable highlightjs=1 --variable theme=bootstrap --mathjax --variable "mathjax-url=https://mathjax.rstudio.com/latest/MathJax.js?config=TeX-AMS-MML_HTMLorMML" --include-in-header "F:\biocbuild\bbs-3.16-bioc\tmpdir\Rtmp8i8atb\rmarkdown-strff2c617d336d.html"
Output created: F:\biocbuild\bbs-3.16-bioc\tmpdir\Rtmp8i8atb/mitch_report.html
[1] TRUE
>
> test_that("2d works", {
+ expect_equal( length(which(res$enrichment_result$p.adjustMANOVA<0.1)) ,1)
+ expect_true(file.info("2d.pdf")$size>100000)
+ expect_true(file.info("2d.html")$size>1000000)
+ })
Test passed 🌈
>
> unlink("2d.html")
> unlink("2d.pdf")
>
> # 3d
> data(rna,k9a,k36a,genesetsExample)
> x<-list("rna"=rna,"k9a"=k9a,"k36a"=k36a)
> y<-mitch_import(x,DEtype="edgeR")
Note: Mean no. genes in input = 1000
Note: no. genes in output = 1000
Note: estimated proportion of input genes in output = 1
> res<-mitch_calc(y,genesetsExample,cores=2)
Note: When prioritising by significance (ie: small
p-values), large effect sizes might be missed.
> mitch_plots(res,outfile="3d.pdf")
null device
1
There were 16 warnings (use warnings() to see them)
> if (file.exists("3d.html")) { unlink("3d.html") }
> mitch_report(res,"3d.html")
Dataset saved as " F:\biocbuild\bbs-3.16-bioc\tmpdir\Rtmp8i8atb/3d.rds ".
processing file: mitch.Rmd
output file: F:/biocbuild/bbs-3.16-bioc/meat/mitch.Rcheck/tests/mitch.knit.md
"C:/PROGRA~1/Pandoc/pandoc" +RTS -K512m -RTS "F:/biocbuild/bbs-3.16-bioc/meat/mitch.Rcheck/tests/mitch.knit.md" --to html4 --from markdown+autolink_bare_uris+tex_math_single_backslash --output pandocff2c252f2f63.html --lua-filter "F:\biocbuild\bbs-3.16-bioc\R\library\rmarkdown\rmarkdown\lua\pagebreak.lua" --lua-filter "F:\biocbuild\bbs-3.16-bioc\R\library\rmarkdown\rmarkdown\lua\latex-div.lua" --self-contained --variable bs3=TRUE --section-divs --template "F:\biocbuild\bbs-3.16-bioc\R\library\rmarkdown\rmd\h\default.html" --no-highlight --variable highlightjs=1 --variable theme=bootstrap --mathjax --variable "mathjax-url=https://mathjax.rstudio.com/latest/MathJax.js?config=TeX-AMS-MML_HTMLorMML" --include-in-header "F:\biocbuild\bbs-3.16-bioc\tmpdir\Rtmp8i8atb\rmarkdown-strff2c275260a1.html"
Output created: F:\biocbuild\bbs-3.16-bioc\tmpdir\Rtmp8i8atb/mitch_report.html
[1] TRUE
>
> test_that("3d works", {
+ expect_equal( length(which(res$enrichment_result$p.adjustMANOVA<0.1)) ,1)
+ expect_true(file.info("3d.pdf")$size>100000)
+ expect_true(file.info("3d.html")$size>1000000)
+ })
Test passed 😸
>
> unlink("3d.html")
> unlink("3d.pdf")
>
>
>
> proc.time()
user system elapsed
62.82 6.82 77.95
mitch.Rcheck/mitch-Ex.timings
| name | user | system | elapsed | |
| genesetsExample | 0 | 0 | 0 | |
| gmt_import | 0 | 0 | 0 | |
| k36a | 0.00 | 0.02 | 0.01 | |
| k9a | 0 | 0 | 0 | |
| mitch | 48.79 | 3.59 | 55.99 | |
| mitch_calc | 0.19 | 0.02 | 0.20 | |
| mitch_import | 0.02 | 0.01 | 0.03 | |
| mitch_plots | 20.59 | 0.41 | 21.00 | |
| mitch_report | 26.50 | 2.48 | 30.66 | |
| myImportedData | 0 | 0 | 0 | |
| myList | 0.02 | 0.00 | 0.01 | |
| resExample | 0.01 | 0.00 | 0.02 | |
| rna | 0 | 0 | 0 | |