| Back to Multiple platform build/check report for BioC 3.16: simplified long |
|
This page was generated on 2023-04-12 11:05:10 -0400 (Wed, 12 Apr 2023).
| Hostname | OS | Arch (*) | R version | Installed pkgs |
|---|---|---|---|---|
| nebbiolo2 | Linux (Ubuntu 20.04.5 LTS) | x86_64 | 4.2.3 (2023-03-15) -- "Shortstop Beagle" | 4502 |
| palomino4 | Windows Server 2022 Datacenter | x64 | 4.2.3 (2023-03-15 ucrt) -- "Shortstop Beagle" | 4282 |
| lconway | macOS 12.5.1 Monterey | x86_64 | 4.2.3 (2023-03-15) -- "Shortstop Beagle" | 4310 |
| Click on any hostname to see more info about the system (e.g. compilers) (*) as reported by 'uname -p', except on Windows and Mac OS X | ||||
|
To the developers/maintainers of the minfi package: - Please allow up to 24 hours (and sometimes 48 hours) for your latest push to git@git.bioconductor.org:packages/minfi.git to reflect on this report. See How and When does the builder pull? When will my changes propagate? for more information. - Make sure to use the following settings in order to reproduce any error or warning you see on this page. |
| Package 1208/2183 | Hostname | OS / Arch | INSTALL | BUILD | CHECK | BUILD BIN | ||||||||
| minfi 1.44.0 (landing page) Kasper Daniel Hansen
| nebbiolo2 | Linux (Ubuntu 20.04.5 LTS) / x86_64 | OK | OK | OK | |||||||||
| palomino4 | Windows Server 2022 Datacenter / x64 | OK | OK | OK | OK | |||||||||
| lconway | macOS 12.5.1 Monterey / x86_64 | OK | OK | OK | OK | |||||||||
| Package: minfi |
| Version: 1.44.0 |
| Command: /home/biocbuild/bbs-3.16-bioc/R/bin/R CMD check --install=check:minfi.install-out.txt --library=/home/biocbuild/bbs-3.16-bioc/R/site-library --timings minfi_1.44.0.tar.gz |
| StartedAt: 2023-04-10 21:59:33 -0400 (Mon, 10 Apr 2023) |
| EndedAt: 2023-04-10 22:08:56 -0400 (Mon, 10 Apr 2023) |
| EllapsedTime: 562.8 seconds |
| RetCode: 0 |
| Status: OK |
| CheckDir: minfi.Rcheck |
| Warnings: 0 |
##############################################################################
##############################################################################
###
### Running command:
###
### /home/biocbuild/bbs-3.16-bioc/R/bin/R CMD check --install=check:minfi.install-out.txt --library=/home/biocbuild/bbs-3.16-bioc/R/site-library --timings minfi_1.44.0.tar.gz
###
##############################################################################
##############################################################################
* using log directory ‘/home/biocbuild/bbs-3.16-bioc/meat/minfi.Rcheck’
* using R version 4.2.3 (2023-03-15)
* using platform: x86_64-pc-linux-gnu (64-bit)
* using session charset: UTF-8
* checking for file ‘minfi/DESCRIPTION’ ... OK
* this is package ‘minfi’ version ‘1.44.0’
* checking package namespace information ... OK
* checking package dependencies ... OK
* checking if this is a source package ... OK
* checking if there is a namespace ... OK
* checking for hidden files and directories ... OK
* checking for portable file names ... OK
* checking for sufficient/correct file permissions ... OK
* checking whether package ‘minfi’ can be installed ... OK
* checking installed package size ... OK
* checking package directory ... OK
* checking ‘build’ directory ... OK
* checking DESCRIPTION meta-information ... OK
* checking top-level files ... OK
* checking for left-over files ... OK
* checking index information ... OK
* checking package subdirectories ... OK
* checking R files for non-ASCII characters ... OK
* checking R files for syntax errors ... OK
* checking whether the package can be loaded ... OK
* checking whether the package can be loaded with stated dependencies ... OK
* checking whether the package can be unloaded cleanly ... OK
* checking whether the namespace can be loaded with stated dependencies ... OK
* checking whether the namespace can be unloaded cleanly ... OK
* checking loading without being on the library search path ... OK
* checking dependencies in R code ... NOTE
Unexported objects imported by ':::' calls:
‘DelayedArray:::get_verbose_block_processing’
‘DelayedArray:::normarg_grid’ ‘bumphunter:::.getEstimate’
See the note in ?`:::` about the use of this operator.
There are ::: calls to the package's namespace in its code. A package
almost never needs to use ::: for its own objects:
‘.guessArrayTypes’
* checking S3 generic/method consistency ... OK
* checking replacement functions ... OK
* checking foreign function calls ... OK
* checking R code for possible problems ... NOTE
Found the following possibly unsafe calls:
File ‘minfi/R/IlluminaMethylationManifest-class.R’:
unlockBinding(name, env = object@data)
* checking Rd files ... OK
* checking Rd metadata ... OK
* checking Rd cross-references ... OK
* checking for missing documentation entries ... OK
* checking for code/documentation mismatches ... OK
* checking Rd \usage sections ... OK
* checking Rd contents ... OK
* checking for unstated dependencies in examples ... OK
* checking files in ‘vignettes’ ... OK
* checking examples ... OK
Examples with CPU (user + system) or elapsed time > 5s
user system elapsed
combineArrays 63.957 3.368 67.352
bumphunter 26.248 1.495 27.744
read.metharray.exp 7.605 0.063 7.669
read.metharray 5.069 0.176 5.246
* checking for unstated dependencies in ‘tests’ ... OK
* checking tests ...
Running ‘runTests.R’
OK
* checking for unstated dependencies in vignettes ... OK
* checking package vignettes in ‘inst/doc’ ... OK
* checking running R code from vignettes ...
‘minfi.Rmd’ using ‘UTF-8’... OK
NONE
* checking re-building of vignette outputs ... OK
* checking PDF version of manual ... OK
* DONE
Status: 2 NOTEs
See
‘/home/biocbuild/bbs-3.16-bioc/meat/minfi.Rcheck/00check.log’
for details.
minfi.Rcheck/00install.out
############################################################################## ############################################################################## ### ### Running command: ### ### /home/biocbuild/bbs-3.16-bioc/R/bin/R CMD INSTALL minfi ### ############################################################################## ############################################################################## * installing to library ‘/home/biocbuild/bbs-3.16-bioc/R/site-library’ * installing *source* package ‘minfi’ ... ** using staged installation ** R ** inst ** byte-compile and prepare package for lazy loading ** help *** installing help indices ** building package indices ** installing vignettes ** testing if installed package can be loaded from temporary location ** testing if installed package can be loaded from final location ** testing if installed package keeps a record of temporary installation path * DONE (minfi)
minfi.Rcheck/tests/runTests.Rout
R version 4.2.3 (2023-03-15) -- "Shortstop Beagle"
Copyright (C) 2023 The R Foundation for Statistical Computing
Platform: x86_64-pc-linux-gnu (64-bit)
R is free software and comes with ABSOLUTELY NO WARRANTY.
You are welcome to redistribute it under certain conditions.
Type 'license()' or 'licence()' for distribution details.
R is a collaborative project with many contributors.
Type 'contributors()' for more information and
'citation()' on how to cite R or R packages in publications.
Type 'demo()' for some demos, 'help()' for on-line help, or
'help.start()' for an HTML browser interface to help.
Type 'q()' to quit R.
> require("minfi") || stop("unable to load minfi")
Loading required package: minfi
Loading required package: BiocGenerics
Attaching package: 'BiocGenerics'
The following objects are masked from 'package:stats':
IQR, mad, sd, var, xtabs
The following objects are masked from 'package:base':
Filter, Find, Map, Position, Reduce, anyDuplicated, aperm, append,
as.data.frame, basename, cbind, colnames, dirname, do.call,
duplicated, eval, evalq, get, grep, grepl, intersect, is.unsorted,
lapply, mapply, match, mget, order, paste, pmax, pmax.int, pmin,
pmin.int, rank, rbind, rownames, sapply, setdiff, sort, table,
tapply, union, unique, unsplit, which.max, which.min
Loading required package: GenomicRanges
Loading required package: stats4
Loading required package: S4Vectors
Attaching package: 'S4Vectors'
The following objects are masked from 'package:base':
I, expand.grid, unname
Loading required package: IRanges
Loading required package: GenomeInfoDb
Loading required package: SummarizedExperiment
Loading required package: MatrixGenerics
Loading required package: matrixStats
Attaching package: 'MatrixGenerics'
The following objects are masked from 'package:matrixStats':
colAlls, colAnyNAs, colAnys, colAvgsPerRowSet, colCollapse,
colCounts, colCummaxs, colCummins, colCumprods, colCumsums,
colDiffs, colIQRDiffs, colIQRs, colLogSumExps, colMadDiffs,
colMads, colMaxs, colMeans2, colMedians, colMins, colOrderStats,
colProds, colQuantiles, colRanges, colRanks, colSdDiffs, colSds,
colSums2, colTabulates, colVarDiffs, colVars, colWeightedMads,
colWeightedMeans, colWeightedMedians, colWeightedSds,
colWeightedVars, rowAlls, rowAnyNAs, rowAnys, rowAvgsPerColSet,
rowCollapse, rowCounts, rowCummaxs, rowCummins, rowCumprods,
rowCumsums, rowDiffs, rowIQRDiffs, rowIQRs, rowLogSumExps,
rowMadDiffs, rowMads, rowMaxs, rowMeans2, rowMedians, rowMins,
rowOrderStats, rowProds, rowQuantiles, rowRanges, rowRanks,
rowSdDiffs, rowSds, rowSums2, rowTabulates, rowVarDiffs, rowVars,
rowWeightedMads, rowWeightedMeans, rowWeightedMedians,
rowWeightedSds, rowWeightedVars
Loading required package: Biobase
Welcome to Bioconductor
Vignettes contain introductory material; view with
'browseVignettes()'. To cite Bioconductor, see
'citation("Biobase")', and for packages 'citation("pkgname")'.
Attaching package: 'Biobase'
The following object is masked from 'package:MatrixGenerics':
rowMedians
The following objects are masked from 'package:matrixStats':
anyMissing, rowMedians
Loading required package: Biostrings
Loading required package: XVector
Attaching package: 'Biostrings'
The following object is masked from 'package:base':
strsplit
Loading required package: bumphunter
Loading required package: foreach
Loading required package: iterators
Loading required package: parallel
Loading required package: locfit
locfit 1.5-9.7 2023-01-02
Setting options('download.file.method.GEOquery'='auto')
Setting options('GEOquery.inmemory.gpl'=FALSE)
[1] TRUE
> BiocGenerics:::testPackage("minfi")
Loading required package: minfiData
Loading required package: IlluminaHumanMethylation450kmanifest
Loading required package: IlluminaHumanMethylation450kanno.ilmn12.hg19
Loading required package: digest
Loading required package: DelayedArray
Loading required package: Matrix
Attaching package: 'Matrix'
The following object is masked from 'package:S4Vectors':
expand
Attaching package: 'DelayedArray'
The following objects are masked from 'package:base':
apply, rowsum, scale, sweep
RUNIT TEST PROTOCOL -- Mon Apr 10 22:07:55 2023
***********************************************
Number of test functions: 10
Number of errors: 0
Number of failures: 0
1 Test Suite :
minfi RUnit Tests - 10 test functions, 0 errors, 0 failures
Number of test functions: 10
Number of errors: 0
Number of failures: 0
>
> proc.time()
user system elapsed
43.192 1.947 45.126
minfi.Rcheck/minfi-Ex.timings
| name | user | system | elapsed | |
| GenomicMethylSet-class | 0.002 | 0.001 | 0.002 | |
| GenomicRatioSet-class | 0.001 | 0.000 | 0.000 | |
| IlluminaMethylationManifest-class | 4.114 | 0.140 | 4.255 | |
| MethylSet-class | 0.001 | 0.000 | 0.000 | |
| RGChannelSet-class | 0.001 | 0.000 | 0.000 | |
| RatioSet-class | 0.001 | 0.000 | 0.000 | |
| bumphunter | 26.248 | 1.495 | 27.744 | |
| combineArrays | 63.957 | 3.368 | 67.352 | |
| compartments | 1.665 | 0.272 | 1.938 | |
| controlStripPlot | 2.034 | 0.084 | 2.118 | |
| convertArray | 1.27 | 0.00 | 1.27 | |
| densityBeanPlot | 1.986 | 0.088 | 2.073 | |
| densityPlot | 3.172 | 0.016 | 3.188 | |
| detectionP | 0.356 | 0.008 | 0.363 | |
| dmpFinder | 0.098 | 0.004 | 0.103 | |
| estimateCellCounts | 0 | 0 | 0 | |
| fixMethOutliers | 1.358 | 0.004 | 1.362 | |
| gaphunter | 0.087 | 0.000 | 0.087 | |
| getAnnotation | 0.603 | 0.000 | 0.603 | |
| getGenomicRatioSetFromGEO | 0 | 0 | 0 | |
| getQC | 0.206 | 0.000 | 0.206 | |
| getSex | 0.774 | 0.000 | 0.774 | |
| logit2 | 0 | 0 | 0 | |
| makeGenomicRatioSetFromMatrix | 0.969 | 0.012 | 0.981 | |
| mapToGenome-methods | 0.208 | 0.004 | 0.212 | |
| mdsPlot | 0.167 | 0.004 | 0.171 | |
| minfiQC | 1.741 | 0.000 | 1.741 | |
| plotBetasByType | 0.001 | 0.000 | 0.001 | |
| plotCpg | 0.145 | 0.007 | 0.153 | |
| preprocessFunnorm | 3.106 | 0.044 | 3.149 | |
| preprocessIllumina | 3.039 | 0.104 | 3.143 | |
| preprocessNoob | 0.737 | 0.012 | 0.749 | |
| preprocessQuantile | 0.744 | 0.001 | 0.745 | |
| preprocessRaw | 2.460 | 0.091 | 2.552 | |
| preprocessSwan | 0.489 | 0.005 | 0.493 | |
| qcReport | 0.041 | 0.000 | 0.042 | |
| ratioConvert-methods | 0.063 | 0.000 | 0.064 | |
| read.metharray | 5.069 | 0.176 | 5.246 | |
| read.metharray.exp | 7.605 | 0.063 | 7.669 | |
| read.metharray.sheet | 0.051 | 0.003 | 0.056 | |
| readGEORawFile | 0 | 0 | 0 | |
| readTCGA | 0 | 0 | 0 | |
| subsetByLoci | 0.630 | 0.007 | 0.638 | |
| utils | 0.103 | 0.000 | 0.103 | |