| Back to Multiple platform build/check report for BioC 3.16: simplified long |
|
This page was generated on 2023-04-12 11:06:15 -0400 (Wed, 12 Apr 2023).
| Hostname | OS | Arch (*) | R version | Installed pkgs |
|---|---|---|---|---|
| nebbiolo2 | Linux (Ubuntu 20.04.5 LTS) | x86_64 | 4.2.3 (2023-03-15) -- "Shortstop Beagle" | 4502 |
| palomino4 | Windows Server 2022 Datacenter | x64 | 4.2.3 (2023-03-15 ucrt) -- "Shortstop Beagle" | 4282 |
| lconway | macOS 12.5.1 Monterey | x86_64 | 4.2.3 (2023-03-15) -- "Shortstop Beagle" | 4310 |
| Click on any hostname to see more info about the system (e.g. compilers) (*) as reported by 'uname -p', except on Windows and Mac OS X | ||||
|
To the developers/maintainers of the microbiomeExplorer package: - Please allow up to 24 hours (and sometimes 48 hours) for your latest push to git@git.bioconductor.org:packages/microbiomeExplorer.git to reflect on this report. See How and When does the builder pull? When will my changes propagate? for more information. - Make sure to use the following settings in order to reproduce any error or warning you see on this page. |
| Package 1195/2183 | Hostname | OS / Arch | INSTALL | BUILD | CHECK | BUILD BIN | ||||||||
| microbiomeExplorer 1.8.0 (landing page) Janina Reeder
| nebbiolo2 | Linux (Ubuntu 20.04.5 LTS) / x86_64 | OK | OK | OK | |||||||||
| palomino4 | Windows Server 2022 Datacenter / x64 | OK | OK | OK | OK | |||||||||
| lconway | macOS 12.5.1 Monterey / x86_64 | OK | OK | OK | OK | |||||||||
| Package: microbiomeExplorer |
| Version: 1.8.0 |
| Command: /Library/Frameworks/R.framework/Resources/bin/R CMD check --install=check:microbiomeExplorer.install-out.txt --library=/Library/Frameworks/R.framework/Resources/library --no-vignettes --timings microbiomeExplorer_1.8.0.tar.gz |
| StartedAt: 2023-04-10 21:12:10 -0400 (Mon, 10 Apr 2023) |
| EndedAt: 2023-04-10 21:13:52 -0400 (Mon, 10 Apr 2023) |
| EllapsedTime: 101.6 seconds |
| RetCode: 0 |
| Status: OK |
| CheckDir: microbiomeExplorer.Rcheck |
| Warnings: 0 |
##############################################################################
##############################################################################
###
### Running command:
###
### /Library/Frameworks/R.framework/Resources/bin/R CMD check --install=check:microbiomeExplorer.install-out.txt --library=/Library/Frameworks/R.framework/Resources/library --no-vignettes --timings microbiomeExplorer_1.8.0.tar.gz
###
##############################################################################
##############################################################################
* using log directory ‘/Users/biocbuild/bbs-3.16-bioc/meat/microbiomeExplorer.Rcheck’
* using R version 4.2.3 (2023-03-15)
* using platform: x86_64-apple-darwin17.0 (64-bit)
* using session charset: UTF-8
* using option ‘--no-vignettes’
* checking for file ‘microbiomeExplorer/DESCRIPTION’ ... OK
* checking extension type ... Package
* this is package ‘microbiomeExplorer’ version ‘1.8.0’
* package encoding: UTF-8
* checking package namespace information ... OK
* checking package dependencies ... OK
* checking if this is a source package ... OK
* checking if there is a namespace ... OK
* checking for hidden files and directories ... OK
* checking for portable file names ... OK
* checking for sufficient/correct file permissions ... OK
* checking whether package ‘microbiomeExplorer’ can be installed ... OK
* checking installed package size ... NOTE
installed size is 7.6Mb
sub-directories of 1Mb or more:
extdata 4.1Mb
shiny 2.9Mb
* checking package directory ... OK
* checking ‘build’ directory ... OK
* checking DESCRIPTION meta-information ... OK
* checking top-level files ... OK
* checking for left-over files ... OK
* checking index information ... OK
* checking package subdirectories ... OK
* checking R files for non-ASCII characters ... OK
* checking R files for syntax errors ... OK
* checking whether the package can be loaded ... OK
* checking whether the package can be loaded with stated dependencies ... OK
* checking whether the package can be unloaded cleanly ... OK
* checking whether the namespace can be loaded with stated dependencies ... OK
* checking whether the namespace can be unloaded cleanly ... OK
* checking dependencies in R code ... OK
* checking S3 generic/method consistency ... OK
* checking replacement functions ... OK
* checking foreign function calls ... OK
* checking R code for possible problems ... OK
* checking Rd files ... OK
* checking Rd metadata ... OK
* checking Rd cross-references ... OK
* checking for missing documentation entries ... OK
* checking for code/documentation mismatches ... OK
* checking Rd \usage sections ... OK
* checking Rd contents ... OK
* checking for unstated dependencies in examples ... OK
* checking files in ‘vignettes’ ... OK
* checking examples ... OK
* checking for unstated dependencies in ‘tests’ ... OK
* checking tests ...
Running ‘testthat.R’
OK
* checking for unstated dependencies in vignettes ... OK
* checking package vignettes in ‘inst/doc’ ... OK
* checking running R code from vignettes ... SKIPPED
* checking re-building of vignette outputs ... SKIPPED
* checking PDF version of manual ... OK
* DONE
Status: 1 NOTE
See
‘/Users/biocbuild/bbs-3.16-bioc/meat/microbiomeExplorer.Rcheck/00check.log’
for details.
microbiomeExplorer.Rcheck/00install.out
############################################################################## ############################################################################## ### ### Running command: ### ### /Library/Frameworks/R.framework/Resources/bin/R CMD INSTALL microbiomeExplorer ### ############################################################################## ############################################################################## * installing to library ‘/Library/Frameworks/R.framework/Versions/4.2/Resources/library’ * installing *source* package ‘microbiomeExplorer’ ... ** using staged installation ** R ** inst ** byte-compile and prepare package for lazy loading ** help *** installing help indices ** building package indices ** installing vignettes ** testing if installed package can be loaded from temporary location ** testing if installed package can be loaded from final location ** testing if installed package keeps a record of temporary installation path * DONE (microbiomeExplorer)
microbiomeExplorer.Rcheck/tests/testthat.Rout
R version 4.2.3 (2023-03-15) -- "Shortstop Beagle"
Copyright (C) 2023 The R Foundation for Statistical Computing
Platform: x86_64-apple-darwin17.0 (64-bit)
R is free software and comes with ABSOLUTELY NO WARRANTY.
You are welcome to redistribute it under certain conditions.
Type 'license()' or 'licence()' for distribution details.
R is a collaborative project with many contributors.
Type 'contributors()' for more information and
'citation()' on how to cite R or R packages in publications.
Type 'demo()' for some demos, 'help()' for on-line help, or
'help.start()' for an HTML browser interface to help.
Type 'q()' to quit R.
> library(testthat)
> library(microbiomeExplorer)
Loading required package: shiny
Loading required package: magrittr
Attaching package: 'magrittr'
The following objects are masked from 'package:testthat':
equals, is_less_than, not
Loading required package: metagenomeSeq
Loading required package: Biobase
Loading required package: BiocGenerics
Attaching package: 'BiocGenerics'
The following objects are masked from 'package:stats':
IQR, mad, sd, var, xtabs
The following objects are masked from 'package:base':
Filter, Find, Map, Position, Reduce, anyDuplicated, aperm, append,
as.data.frame, basename, cbind, colnames, dirname, do.call,
duplicated, eval, evalq, get, grep, grepl, intersect, is.unsorted,
lapply, mapply, match, mget, order, paste, pmax, pmax.int, pmin,
pmin.int, rank, rbind, rownames, sapply, setdiff, sort, table,
tapply, union, unique, unsplit, which.max, which.min
Welcome to Bioconductor
Vignettes contain introductory material; view with
'browseVignettes()'. To cite Bioconductor, see
'citation("Biobase")', and for packages 'citation("pkgname")'.
Loading required package: limma
Attaching package: 'limma'
The following object is masked from 'package:BiocGenerics':
plotMA
Loading required package: glmnet
Loading required package: Matrix
Loaded glmnet 4.1-7
Loading required package: RColorBrewer
>
> test_check("microbiomeExplorer")
[ FAIL 0 | WARN 2 | SKIP 1 | PASS 61 ]
══ Skipped tests ═══════════════════════════════════════════════════════════════
• On CRAN (1)
[ FAIL 0 | WARN 2 | SKIP 1 | PASS 61 ]
>
> proc.time()
user system elapsed
7.271 0.628 7.929
microbiomeExplorer.Rcheck/microbiomeExplorer-Ex.timings
| name | user | system | elapsed | |
| aggFeatures | 0.399 | 0.019 | 0.420 | |
| aggregationTabUI | 0.034 | 0.005 | 0.040 | |
| calculatePCAs | 0.272 | 0.038 | 0.310 | |
| computeDistMat | 0.198 | 0.078 | 0.276 | |
| corrAnalysisUI | 0.749 | 0.076 | 0.828 | |
| corrFeature | 0.771 | 0.045 | 0.819 | |
| corrPhenotype | 0.335 | 0.032 | 0.369 | |
| dataInputUI | 0.048 | 0.001 | 0.049 | |
| diffAnalysisUI | 0.035 | 0.001 | 0.036 | |
| featureAnalysisUI | 0.035 | 0.001 | 0.036 | |
| featureTableUI | 0.016 | 0.001 | 0.017 | |
| filterByPheno | 0.155 | 0.002 | 0.157 | |
| filterMEData | 1.085 | 0.046 | 1.148 | |
| interAnalysisUI | 0.099 | 0.003 | 0.101 | |
| intraAnalysisUI | 0.089 | 0.002 | 0.093 | |
| longAnalysisUI | 0.044 | 0.001 | 0.046 | |
| makeQCPlot | 0.181 | 0.024 | 0.205 | |
| normalizeData | 0.679 | 0.073 | 0.754 | |
| phenotypeTableUI | 0.019 | 0.000 | 0.020 | |
| plotAbundance | 0.445 | 0.055 | 0.501 | |
| plotAlpha | 0.336 | 0.036 | 0.373 | |
| plotAvgAbundance | 0.391 | 0.035 | 0.426 | |
| plotBeta | 0.487 | 0.042 | 0.530 | |
| plotHeatmap | 1.103 | 0.051 | 1.156 | |
| plotLongFeature | 0.357 | 0.036 | 0.398 | |
| plotSingleFeature | 0.312 | 0.033 | 0.347 | |
| plotlyHistogram | 0.205 | 0.032 | 0.238 | |
| plotlySampleBarplot | 0.139 | 0.031 | 0.170 | |
| replaceWithUnknown | 0.140 | 0.103 | 0.249 | |
| reportListUI | 0.024 | 0.000 | 0.024 | |
| rollDownFeatures | 0.125 | 0.003 | 0.129 | |
| runDiffTest | 0.552 | 0.011 | 0.564 | |