| Back to Multiple platform build/check report for BioC 3.16: simplified long |
|
This page was generated on 2023-04-12 11:06:15 -0400 (Wed, 12 Apr 2023).
| Hostname | OS | Arch (*) | R version | Installed pkgs |
|---|---|---|---|---|
| nebbiolo2 | Linux (Ubuntu 20.04.5 LTS) | x86_64 | 4.2.3 (2023-03-15) -- "Shortstop Beagle" | 4502 |
| palomino4 | Windows Server 2022 Datacenter | x64 | 4.2.3 (2023-03-15 ucrt) -- "Shortstop Beagle" | 4282 |
| lconway | macOS 12.5.1 Monterey | x86_64 | 4.2.3 (2023-03-15) -- "Shortstop Beagle" | 4310 |
| Click on any hostname to see more info about the system (e.g. compilers) (*) as reported by 'uname -p', except on Windows and Mac OS X | ||||
|
To the developers/maintainers of the microbiome package: - Please allow up to 24 hours (and sometimes 48 hours) for your latest push to git@git.bioconductor.org:packages/microbiome.git to reflect on this report. See How and When does the builder pull? When will my changes propagate? for more information. - Make sure to use the following settings in order to reproduce any error or warning you see on this page. |
| Package 1193/2183 | Hostname | OS / Arch | INSTALL | BUILD | CHECK | BUILD BIN | ||||||||
| microbiome 1.20.0 (landing page) Leo Lahti
| nebbiolo2 | Linux (Ubuntu 20.04.5 LTS) / x86_64 | OK | OK | OK | |||||||||
| palomino4 | Windows Server 2022 Datacenter / x64 | OK | OK | OK | OK | |||||||||
| lconway | macOS 12.5.1 Monterey / x86_64 | OK | OK | OK | OK | |||||||||
| Package: microbiome |
| Version: 1.20.0 |
| Command: /Library/Frameworks/R.framework/Resources/bin/R CMD check --install=check:microbiome.install-out.txt --library=/Library/Frameworks/R.framework/Resources/library --no-vignettes --timings microbiome_1.20.0.tar.gz |
| StartedAt: 2023-04-10 21:12:04 -0400 (Mon, 10 Apr 2023) |
| EndedAt: 2023-04-10 21:15:07 -0400 (Mon, 10 Apr 2023) |
| EllapsedTime: 182.3 seconds |
| RetCode: 0 |
| Status: OK |
| CheckDir: microbiome.Rcheck |
| Warnings: 0 |
##############################################################################
##############################################################################
###
### Running command:
###
### /Library/Frameworks/R.framework/Resources/bin/R CMD check --install=check:microbiome.install-out.txt --library=/Library/Frameworks/R.framework/Resources/library --no-vignettes --timings microbiome_1.20.0.tar.gz
###
##############################################################################
##############################################################################
* using log directory ‘/Users/biocbuild/bbs-3.16-bioc/meat/microbiome.Rcheck’
* using R version 4.2.3 (2023-03-15)
* using platform: x86_64-apple-darwin17.0 (64-bit)
* using session charset: UTF-8
* using option ‘--no-vignettes’
* checking for file ‘microbiome/DESCRIPTION’ ... OK
* checking extension type ... Package
* this is package ‘microbiome’ version ‘1.20.0’
* package encoding: UTF-8
* checking package namespace information ... OK
* checking package dependencies ... OK
* checking if this is a source package ... OK
* checking if there is a namespace ... OK
* checking for hidden files and directories ... OK
* checking for portable file names ... OK
* checking for sufficient/correct file permissions ... OK
* checking whether package ‘microbiome’ can be installed ... OK
* checking installed package size ... OK
* checking package directory ... OK
* checking ‘build’ directory ... OK
* checking DESCRIPTION meta-information ... OK
* checking top-level files ... OK
* checking for left-over files ... OK
* checking index information ... OK
* checking package subdirectories ... OK
* checking R files for non-ASCII characters ... OK
* checking R files for syntax errors ... OK
* checking whether the package can be loaded ... OK
* checking whether the package can be loaded with stated dependencies ... OK
* checking whether the package can be unloaded cleanly ... OK
* checking whether the namespace can be loaded with stated dependencies ... OK
* checking whether the namespace can be unloaded cleanly ... OK
* checking dependencies in R code ... OK
* checking S3 generic/method consistency ... OK
* checking replacement functions ... OK
* checking foreign function calls ... OK
* checking R code for possible problems ... OK
* checking Rd files ... OK
* checking Rd metadata ... OK
* checking Rd cross-references ... OK
* checking for missing documentation entries ... OK
* checking for code/documentation mismatches ... OK
* checking Rd \usage sections ... OK
* checking Rd contents ... OK
* checking for unstated dependencies in examples ... OK
* checking contents of ‘data’ directory ... OK
* checking data for non-ASCII characters ... OK
* checking data for ASCII and uncompressed saves ... OK
* checking files in ‘vignettes’ ... OK
* checking examples ... OK
Examples with CPU (user + system) or elapsed time > 5s
user system elapsed
overlap 15.111 1.859 17.11
* checking for unstated dependencies in ‘tests’ ... OK
* checking tests ...
Running ‘testthat.R’
OK
* checking for unstated dependencies in vignettes ... OK
* checking package vignettes in ‘inst/doc’ ... OK
* checking running R code from vignettes ... SKIPPED
* checking re-building of vignette outputs ... SKIPPED
* checking PDF version of manual ... OK
* DONE
Status: OK
microbiome.Rcheck/00install.out
############################################################################## ############################################################################## ### ### Running command: ### ### /Library/Frameworks/R.framework/Resources/bin/R CMD INSTALL microbiome ### ############################################################################## ############################################################################## * installing to library ‘/Library/Frameworks/R.framework/Versions/4.2/Resources/library’ * installing *source* package ‘microbiome’ ... ** using staged installation ** R ** data ** inst ** byte-compile and prepare package for lazy loading ** help *** installing help indices ** building package indices ** installing vignettes ** testing if installed package can be loaded from temporary location ** testing if installed package can be loaded from final location ** testing if installed package keeps a record of temporary installation path * DONE (microbiome)
microbiome.Rcheck/tests/testthat.Rout
R version 4.2.3 (2023-03-15) -- "Shortstop Beagle"
Copyright (C) 2023 The R Foundation for Statistical Computing
Platform: x86_64-apple-darwin17.0 (64-bit)
R is free software and comes with ABSOLUTELY NO WARRANTY.
You are welcome to redistribute it under certain conditions.
Type 'license()' or 'licence()' for distribution details.
R is a collaborative project with many contributors.
Type 'contributors()' for more information and
'citation()' on how to cite R or R packages in publications.
Type 'demo()' for some demos, 'help()' for on-line help, or
'help.start()' for an HTML browser interface to help.
Type 'q()' to quit R.
> library(testthat)
> test_check("microbiome")
Loading required package: microbiome
Loading required package: phyloseq
Loading required package: ggplot2
microbiome R package (microbiome.github.com)
Copyright (C) 2011-2022 Leo Lahti,
Sudarshan Shetty et al. <microbiome.github.io>
Attaching package: 'microbiome'
The following object is masked from 'package:ggplot2':
alpha
The following object is masked from 'package:base':
transform
[ FAIL 0 | WARN 3 | SKIP 1 | PASS 83 ]
══ Skipped tests ═══════════════════════════════════════════════════════════════
• On Bioconductor (1)
[ FAIL 0 | WARN 3 | SKIP 1 | PASS 83 ]
>
> proc.time()
user system elapsed
10.856 0.651 11.533
microbiome.Rcheck/microbiome-Ex.timings
| name | user | system | elapsed | |
| TibbleUtilites | 0.664 | 0.006 | 0.673 | |
| abundances | 0.007 | 0.002 | 0.010 | |
| add_besthit | 0 | 0 | 0 | |
| add_refseq | 0.000 | 0.001 | 0.000 | |
| aggregate_rare | 0.306 | 0.014 | 0.321 | |
| aggregate_taxa | 0.110 | 0.006 | 0.116 | |
| alpha | 0.011 | 0.002 | 0.013 | |
| associate | 0.027 | 0.001 | 0.028 | |
| baseline | 0.038 | 0.001 | 0.039 | |
| bimodality | 0.001 | 0.000 | 0.001 | |
| bimodality_sarle | 0.000 | 0.001 | 0.000 | |
| boxplot_abundance | 0.077 | 0.004 | 0.080 | |
| boxplot_alpha | 0.313 | 0.022 | 0.336 | |
| chunk_reorder | 0 | 0 | 0 | |
| cmat2table | 0.092 | 0.002 | 0.094 | |
| collapse_replicates | 0.037 | 0.002 | 0.040 | |
| core | 0.036 | 0.002 | 0.038 | |
| core_abundance | 0.031 | 0.001 | 0.032 | |
| core_matrix | 0 | 0 | 0 | |
| core_members | 0.009 | 0.002 | 0.011 | |
| coverage | 0.021 | 0.003 | 0.024 | |
| default_colors | 0 | 0 | 0 | |
| densityplot | 0 | 0 | 0 | |
| divergence | 0.411 | 0.003 | 0.415 | |
| diversity | 0.010 | 0.002 | 0.013 | |
| dominance | 0.007 | 0.001 | 0.008 | |
| dominant | 0.007 | 0.001 | 0.008 | |
| estimate_stability | 0 | 0 | 0 | |
| evenness | 0.007 | 0.001 | 0.009 | |
| find_optima | 0 | 0 | 0 | |
| gktau | 0.013 | 0.002 | 0.014 | |
| group_age | 0.021 | 0.001 | 0.023 | |
| group_bmi | 0.000 | 0.001 | 0.000 | |
| heat | 0.047 | 0.002 | 0.049 | |
| hotplot | 0.255 | 0.008 | 0.265 | |
| inequality | 0.022 | 0.003 | 0.025 | |
| intermediate_stability | 0.394 | 0.003 | 0.398 | |
| is_compositional | 0.048 | 0.001 | 0.049 | |
| log_modulo_skewness | 0.089 | 0.003 | 0.092 | |
| low_abundance | 0.081 | 0.003 | 0.084 | |
| map_levels | 0.034 | 0.001 | 0.035 | |
| merge_taxa2 | 0.019 | 0.001 | 0.020 | |
| meta | 0.005 | 0.000 | 0.006 | |
| microbiome-package | 0.008 | 0.000 | 0.009 | |
| multimodality | 0 | 0 | 0 | |
| neat | 0.053 | 0.002 | 0.055 | |
| neatsort | 0.105 | 0.003 | 0.108 | |
| overlap | 15.111 | 1.859 | 17.110 | |
| plot_atlas | 0.037 | 0.001 | 0.038 | |
| plot_composition | 0.195 | 0.002 | 0.199 | |
| plot_core | 0.066 | 0.003 | 0.070 | |
| plot_density | 0.044 | 0.001 | 0.046 | |
| plot_frequencies | 0.026 | 0.002 | 0.028 | |
| plot_landscape | 0.751 | 0.024 | 0.780 | |
| plot_regression | 0.154 | 0.003 | 0.157 | |
| plot_taxa_prevalence | 0.263 | 0.005 | 0.269 | |
| plot_tipping | 0.089 | 0.003 | 0.092 | |
| potential_analysis | 0.039 | 0.002 | 0.042 | |
| potential_univariate | 0.000 | 0.000 | 0.001 | |
| prevalence | 0.013 | 0.002 | 0.014 | |
| psmelt2 | 0.091 | 0.007 | 0.098 | |
| quiet | 0.001 | 0.001 | 0.001 | |
| rare | 0.024 | 0.003 | 0.026 | |
| rare_abundance | 0.065 | 0.007 | 0.072 | |
| rare_members | 0.010 | 0.001 | 0.012 | |
| rarity | 0.066 | 0.002 | 0.069 | |
| read_biom2phyloseq | 0.001 | 0.000 | 0.000 | |
| read_csv2phyloseq | 0 | 0 | 0 | |
| read_mothur2phyloseq | 0.000 | 0.001 | 0.000 | |
| read_phyloseq | 0 | 0 | 0 | |
| readcount | 0.005 | 0.001 | 0.007 | |
| remove_samples | 0.012 | 0.001 | 0.013 | |
| remove_taxa | 0.013 | 0.001 | 0.013 | |
| richness | 0.007 | 0.001 | 0.008 | |
| spreadplot | 0.048 | 0.002 | 0.050 | |
| summarize_phyloseq | 0.015 | 0.002 | 0.016 | |
| taxa | 0.006 | 0.002 | 0.007 | |
| time_normalize | 0.031 | 0.002 | 0.033 | |
| time_sort | 0.082 | 0.001 | 0.084 | |
| timesplit | 0.086 | 0.001 | 0.087 | |
| top | 0.006 | 0.002 | 0.007 | |
| top_taxa | 0.007 | 0.001 | 0.008 | |
| transform | 0.309 | 0.017 | 0.328 | |
| ztransform | 0 | 0 | 0 | |