| Back to Multiple platform build/check report for BioC 3.16: simplified long |
|
This page was generated on 2023-04-12 11:05:10 -0400 (Wed, 12 Apr 2023).
| Hostname | OS | Arch (*) | R version | Installed pkgs |
|---|---|---|---|---|
| nebbiolo2 | Linux (Ubuntu 20.04.5 LTS) | x86_64 | 4.2.3 (2023-03-15) -- "Shortstop Beagle" | 4502 |
| palomino4 | Windows Server 2022 Datacenter | x64 | 4.2.3 (2023-03-15 ucrt) -- "Shortstop Beagle" | 4282 |
| lconway | macOS 12.5.1 Monterey | x86_64 | 4.2.3 (2023-03-15) -- "Shortstop Beagle" | 4310 |
| Click on any hostname to see more info about the system (e.g. compilers) (*) as reported by 'uname -p', except on Windows and Mac OS X | ||||
|
To the developers/maintainers of the methylMnM package: - Please allow up to 24 hours (and sometimes 48 hours) for your latest push to git@git.bioconductor.org:packages/methylMnM.git to reflect on this report. See How and When does the builder pull? When will my changes propagate? for more information. - Make sure to use the following settings in order to reproduce any error or warning you see on this page. |
| Package 1176/2183 | Hostname | OS / Arch | INSTALL | BUILD | CHECK | BUILD BIN | ||||||||
| methylMnM 1.36.0 (landing page) Yan Zhou
| nebbiolo2 | Linux (Ubuntu 20.04.5 LTS) / x86_64 | OK | OK | OK | |||||||||
| palomino4 | Windows Server 2022 Datacenter / x64 | OK | OK | OK | OK | |||||||||
| lconway | macOS 12.5.1 Monterey / x86_64 | OK | OK | OK | OK | |||||||||
| Package: methylMnM |
| Version: 1.36.0 |
| Command: /home/biocbuild/bbs-3.16-bioc/R/bin/R CMD check --install=check:methylMnM.install-out.txt --library=/home/biocbuild/bbs-3.16-bioc/R/site-library --timings methylMnM_1.36.0.tar.gz |
| StartedAt: 2023-04-10 21:53:37 -0400 (Mon, 10 Apr 2023) |
| EndedAt: 2023-04-10 21:55:32 -0400 (Mon, 10 Apr 2023) |
| EllapsedTime: 114.7 seconds |
| RetCode: 0 |
| Status: OK |
| CheckDir: methylMnM.Rcheck |
| Warnings: 0 |
##############################################################################
##############################################################################
###
### Running command:
###
### /home/biocbuild/bbs-3.16-bioc/R/bin/R CMD check --install=check:methylMnM.install-out.txt --library=/home/biocbuild/bbs-3.16-bioc/R/site-library --timings methylMnM_1.36.0.tar.gz
###
##############################################################################
##############################################################################
* using log directory ‘/home/biocbuild/bbs-3.16-bioc/meat/methylMnM.Rcheck’
* using R version 4.2.3 (2023-03-15)
* using platform: x86_64-pc-linux-gnu (64-bit)
* using session charset: UTF-8
* checking for file ‘methylMnM/DESCRIPTION’ ... OK
* checking extension type ... Package
* this is package ‘methylMnM’ version ‘1.36.0’
* checking package namespace information ... OK
* checking package dependencies ... OK
* checking if this is a source package ... OK
* checking if there is a namespace ... OK
* checking for hidden files and directories ... OK
* checking for portable file names ... OK
* checking for sufficient/correct file permissions ... OK
* checking whether package ‘methylMnM’ can be installed ... OK
* checking installed package size ... NOTE
installed size is 47.7Mb
sub-directories of 1Mb or more:
extdata 47.4Mb
* checking package directory ... OK
* checking ‘build’ directory ... OK
* checking DESCRIPTION meta-information ... OK
* checking top-level files ... OK
* checking for left-over files ... OK
* checking index information ... OK
* checking package subdirectories ... OK
* checking R files for non-ASCII characters ... OK
* checking R files for syntax errors ... OK
* checking whether the package can be loaded ... OK
* checking whether the package can be loaded with stated dependencies ... OK
* checking whether the package can be unloaded cleanly ... OK
* checking whether the namespace can be loaded with stated dependencies ... OK
* checking whether the namespace can be unloaded cleanly ... OK
* checking loading without being on the library search path ... OK
* checking dependencies in R code ... NOTE
'library' or 'require' calls to packages already attached by Depends:
‘edgeR’ ‘statmod’
Please remove these calls from your code.
Packages in Depends field not imported from:
‘edgeR’ ‘statmod’
These packages need to be imported from (in the NAMESPACE file)
for when this namespace is loaded but not attached.
* checking S3 generic/method consistency ... OK
* checking replacement functions ... OK
* checking foreign function calls ... OK
* checking R code for possible problems ... NOTE
CNVnormal: no visible global function definition for ‘read.table’
MnM.qvalue: no visible global function definition for ‘read.table’
MnM.qvalue: no visible global function definition for ‘write.table’
MnM.selectDMR: no visible global function definition for ‘quantile’
MnM.test: no visible global function definition for ‘read.table’
MnM.test: no visible global function definition for ‘calcNormFactors’
MnM.test: no visible global function definition for ‘sage.test’
MnM.test: no visible global function definition for ‘lm’
MnM.test: no visible global function definition for ‘write.table’
countMREbin: no visible global function definition for ‘read.table’
countMREbin: no visible global function definition for ‘count.fields’
countMREbin: no visible global function definition for ‘write.table’
countMREcpgbin: no visible global function definition for ‘read.table’
countMREcpgbin: no visible global function definition for
‘count.fields’
countMREcpgbin: no visible global function definition for ‘write.table’
countMeDIPbin: no visible global function definition for ‘read.table’
countMeDIPbin: no visible global function definition for ‘count.fields’
countMeDIPbin: no visible global function definition for ‘write.table’
countcpgbin: no visible global function definition for ‘read.table’
countcpgbin: no visible global function definition for ‘count.fields’
countcpgbin: no visible global function definition for ‘write.table’
normpdf: no visible global function definition for ‘pnorm’
removeblacklist: no visible global function definition for ‘read.table’
Undefined global functions or variables:
calcNormFactors count.fields lm pnorm quantile read.table sage.test
write.table
Consider adding
importFrom("stats", "lm", "pnorm", "quantile")
importFrom("utils", "count.fields", "read.table", "write.table")
to your NAMESPACE file.
* checking Rd files ... OK
* checking Rd metadata ... OK
* checking Rd cross-references ... OK
* checking for missing documentation entries ... OK
* checking for code/documentation mismatches ... OK
* checking Rd \usage sections ... OK
* checking Rd contents ... OK
* checking for unstated dependencies in examples ... OK
* checking line endings in C/C++/Fortran sources/headers ... OK
* checking compiled code ... NOTE
Note: information on .o files is not available
File ‘/home/biocbuild/bbs-3.16-bioc/R/site-library/methylMnM/libs/methylMnM.so’:
Found ‘__printf_chk’, possibly from ‘printf’ (C)
Compiled code should not call entry points which might terminate R nor
write to stdout/stderr instead of to the console, nor use Fortran I/O
nor system RNGs. The detected symbols are linked into the code but
might come from libraries and not actually be called.
See ‘Writing portable packages’ in the ‘Writing R Extensions’ manual.
* checking files in ‘vignettes’ ... OK
* checking examples ... OK
* checking for unstated dependencies in vignettes ... OK
* checking package vignettes in ‘inst/doc’ ... OK
* checking running R code from vignettes ...
‘methylMnM.Rnw’... OK
OK
* checking re-building of vignette outputs ... OK
* checking PDF version of manual ... OK
* DONE
Status: 4 NOTEs
See
‘/home/biocbuild/bbs-3.16-bioc/meat/methylMnM.Rcheck/00check.log’
for details.
methylMnM.Rcheck/00install.out
############################################################################## ############################################################################## ### ### Running command: ### ### /home/biocbuild/bbs-3.16-bioc/R/bin/R CMD INSTALL methylMnM ### ############################################################################## ############################################################################## * installing to library ‘/home/biocbuild/bbs-3.16-bioc/R/site-library’ * installing *source* package ‘methylMnM’ ... ** using staged installation ** libs gcc -I"/home/biocbuild/bbs-3.16-bioc/R/include" -DNDEBUG -I/usr/local/include -fpic -g -O2 -Wall -c CpGcount.c -o CpGcount.o gcc -I"/home/biocbuild/bbs-3.16-bioc/R/include" -DNDEBUG -I/usr/local/include -fpic -g -O2 -Wall -c calculatecount.c -o calculatecount.o gcc -I"/home/biocbuild/bbs-3.16-bioc/R/include" -DNDEBUG -I/usr/local/include -fpic -g -O2 -Wall -c calculatecount1.c -o calculatecount1.o gcc -I"/home/biocbuild/bbs-3.16-bioc/R/include" -DNDEBUG -I/usr/local/include -fpic -g -O2 -Wall -c calculatecountneg.c -o calculatecountneg.o gcc -I"/home/biocbuild/bbs-3.16-bioc/R/include" -DNDEBUG -I/usr/local/include -fpic -g -O2 -Wall -c pmultinom.c -o pmultinom.o gcc -I"/home/biocbuild/bbs-3.16-bioc/R/include" -DNDEBUG -I/usr/local/include -fpic -g -O2 -Wall -c pvalueclassify.c -o pvalueclassify.o gcc -I"/home/biocbuild/bbs-3.16-bioc/R/include" -DNDEBUG -I/usr/local/include -fpic -g -O2 -Wall -c register.c -o register.o gcc -shared -L/home/biocbuild/bbs-3.16-bioc/R/lib -L/usr/local/lib -o methylMnM.so CpGcount.o calculatecount.o calculatecount1.o calculatecountneg.o pmultinom.o pvalueclassify.o register.o -L/home/biocbuild/bbs-3.16-bioc/R/lib -lR installing to /home/biocbuild/bbs-3.16-bioc/R/site-library/00LOCK-methylMnM/00new/methylMnM/libs ** R ** inst ** byte-compile and prepare package for lazy loading ** help *** installing help indices ** building package indices ** installing vignettes ** testing if installed package can be loaded from temporary location ** checking absolute paths in shared objects and dynamic libraries ** testing if installed package can be loaded from final location ** testing if installed package keeps a record of temporary installation path * DONE (methylMnM)
methylMnM.Rcheck/methylMnM-Ex.timings
| name | user | system | elapsed | |
| CNVnormal | 0.01 | 0.00 | 0.01 | |
| MnM.qvalue | 0.009 | 0.000 | 0.010 | |
| MnM.selectDMR | 0.007 | 0.000 | 0.007 | |
| MnM.test | 0.021 | 0.000 | 0.021 | |
| calcFactornew | 0.002 | 0.000 | 0.002 | |
| calculatecount | 0.000 | 0.000 | 0.001 | |
| calculatecount1 | 0 | 0 | 0 | |
| calculatecountneg | 0.001 | 0.000 | 0.000 | |
| countMREbin | 0.894 | 0.068 | 0.962 | |
| countMREcpgbin | 1.331 | 0.028 | 1.359 | |
| countMeDIPbin | 1.205 | 0.012 | 1.217 | |
| countcpgbin | 1.052 | 0.004 | 1.055 | |
| cpgcount | 0.001 | 0.000 | 0.000 | |
| normpdf | 0.001 | 0.000 | 0.000 | |
| normpdf1 | 0 | 0 | 0 | |
| pmultinom | 0.424 | 0.000 | 0.425 | |
| qvalue.rank | 0.000 | 0.000 | 0.001 | |
| removeblacklist | 0.004 | 0.000 | 0.004 | |