| Back to Multiple platform build/check report for BioC 3.16: simplified long |
|
This page was generated on 2023-04-12 11:06:14 -0400 (Wed, 12 Apr 2023).
| Hostname | OS | Arch (*) | R version | Installed pkgs |
|---|---|---|---|---|
| nebbiolo2 | Linux (Ubuntu 20.04.5 LTS) | x86_64 | 4.2.3 (2023-03-15) -- "Shortstop Beagle" | 4502 |
| palomino4 | Windows Server 2022 Datacenter | x64 | 4.2.3 (2023-03-15 ucrt) -- "Shortstop Beagle" | 4282 |
| lconway | macOS 12.5.1 Monterey | x86_64 | 4.2.3 (2023-03-15) -- "Shortstop Beagle" | 4310 |
| Click on any hostname to see more info about the system (e.g. compilers) (*) as reported by 'uname -p', except on Windows and Mac OS X | ||||
|
To the developers/maintainers of the methrix package: - Please allow up to 24 hours (and sometimes 48 hours) for your latest push to git@git.bioconductor.org:packages/methrix.git to reflect on this report. See How and When does the builder pull? When will my changes propagate? for more information. - Make sure to use the following settings in order to reproduce any error or warning you see on this page. |
| Package 1167/2183 | Hostname | OS / Arch | INSTALL | BUILD | CHECK | BUILD BIN | ||||||||
| methrix 1.12.0 (landing page) Anand Mayakonda
| nebbiolo2 | Linux (Ubuntu 20.04.5 LTS) / x86_64 | OK | OK | OK | |||||||||
| palomino4 | Windows Server 2022 Datacenter / x64 | OK | OK | OK | OK | |||||||||
| lconway | macOS 12.5.1 Monterey / x86_64 | OK | OK | OK | OK | |||||||||
| Package: methrix |
| Version: 1.12.0 |
| Command: /Library/Frameworks/R.framework/Resources/bin/R CMD check --install=check:methrix.install-out.txt --library=/Library/Frameworks/R.framework/Resources/library --no-vignettes --timings methrix_1.12.0.tar.gz |
| StartedAt: 2023-04-10 21:07:57 -0400 (Mon, 10 Apr 2023) |
| EndedAt: 2023-04-10 21:12:35 -0400 (Mon, 10 Apr 2023) |
| EllapsedTime: 277.8 seconds |
| RetCode: 0 |
| Status: OK |
| CheckDir: methrix.Rcheck |
| Warnings: 0 |
##############################################################################
##############################################################################
###
### Running command:
###
### /Library/Frameworks/R.framework/Resources/bin/R CMD check --install=check:methrix.install-out.txt --library=/Library/Frameworks/R.framework/Resources/library --no-vignettes --timings methrix_1.12.0.tar.gz
###
##############################################################################
##############################################################################
* using log directory ‘/Users/biocbuild/bbs-3.16-bioc/meat/methrix.Rcheck’
* using R version 4.2.3 (2023-03-15)
* using platform: x86_64-apple-darwin17.0 (64-bit)
* using session charset: UTF-8
* using option ‘--no-vignettes’
* checking for file ‘methrix/DESCRIPTION’ ... OK
* this is package ‘methrix’ version ‘1.12.0’
* package encoding: UTF-8
* checking package namespace information ... OK
* checking package dependencies ... OK
* checking if this is a source package ... OK
* checking if there is a namespace ... OK
* checking for hidden files and directories ... OK
* checking for portable file names ... OK
* checking for sufficient/correct file permissions ... OK
* checking whether package ‘methrix’ can be installed ... OK
* checking installed package size ... OK
* checking package directory ... OK
* checking ‘build’ directory ... OK
* checking DESCRIPTION meta-information ... OK
* checking top-level files ... OK
* checking for left-over files ... OK
* checking index information ... OK
* checking package subdirectories ... OK
* checking R files for non-ASCII characters ... OK
* checking R files for syntax errors ... OK
* checking whether the package can be loaded ... OK
* checking whether the package can be loaded with stated dependencies ... OK
* checking whether the package can be unloaded cleanly ... OK
* checking whether the namespace can be loaded with stated dependencies ... OK
* checking whether the namespace can be unloaded cleanly ... OK
* checking dependencies in R code ... OK
* checking S3 generic/method consistency ... OK
* checking replacement functions ... OK
* checking foreign function calls ... OK
* checking R code for possible problems ... NOTE
convert_HDF5_methrix: no visible global function definition for
‘metadata’
convert_methrix: no visible global function definition for ‘metadata’
extract_CPGs: no visible global function definition for
‘standardChromosomes’
get_region_summary: no visible binding for global variable ‘..keep’
get_stats: no visible global function definition for ‘metadata’
is_h5: no visible global function definition for ‘metadata’
methrix_pca: no visible global function definition for ‘barplot’
methrix_pca: no visible global function definition for ‘points’
methrix_report: no visible global function definition for ‘metadata’
remove_snps: no visible global function definition for ‘metadata’
remove_snps: no visible global function definition for
‘seqlevelsStyle<-’
write_bigwigs: no visible global function definition for ‘metadata’
write_bigwigs: no visible global function definition for ‘seqlengths<-’
write_bigwigs: no visible global function definition for ‘seqlengths’
show,methrix: no visible global function definition for ‘metadata’
Undefined global functions or variables:
..keep barplot metadata points seqlengths seqlengths<-
seqlevelsStyle<- standardChromosomes
Consider adding
importFrom("graphics", "barplot", "points")
to your NAMESPACE file.
* checking Rd files ... OK
* checking Rd metadata ... OK
* checking Rd cross-references ... OK
* checking for missing documentation entries ... OK
* checking for code/documentation mismatches ... OK
* checking Rd \usage sections ... OK
* checking Rd contents ... OK
* checking for unstated dependencies in examples ... OK
* checking contents of ‘data’ directory ... OK
* checking data for non-ASCII characters ... OK
* checking data for ASCII and uncompressed saves ... OK
* checking files in ‘vignettes’ ... OK
* checking examples ... OK
Examples with CPU (user + system) or elapsed time > 5s
user system elapsed
remove_snps 5.271 0.291 5.888
* checking for unstated dependencies in ‘tests’ ... OK
* checking tests ...
Running ‘testthat.R’
OK
* checking for unstated dependencies in vignettes ... OK
* checking package vignettes in ‘inst/doc’ ... OK
* checking running R code from vignettes ... SKIPPED
* checking re-building of vignette outputs ... SKIPPED
* checking PDF version of manual ... OK
* DONE
Status: 1 NOTE
See
‘/Users/biocbuild/bbs-3.16-bioc/meat/methrix.Rcheck/00check.log’
for details.
methrix.Rcheck/00install.out
############################################################################## ############################################################################## ### ### Running command: ### ### /Library/Frameworks/R.framework/Resources/bin/R CMD INSTALL methrix ### ############################################################################## ############################################################################## * installing to library ‘/Library/Frameworks/R.framework/Versions/4.2/Resources/library’ * installing *source* package ‘methrix’ ... ** using staged installation ** R ** data ** inst ** byte-compile and prepare package for lazy loading ** help *** installing help indices ** building package indices ** installing vignettes ** testing if installed package can be loaded from temporary location ** testing if installed package can be loaded from final location ** testing if installed package keeps a record of temporary installation path * DONE (methrix)
methrix.Rcheck/tests/testthat.Rout
R version 4.2.3 (2023-03-15) -- "Shortstop Beagle"
Copyright (C) 2023 The R Foundation for Statistical Computing
Platform: x86_64-apple-darwin17.0 (64-bit)
R is free software and comes with ABSOLUTELY NO WARRANTY.
You are welcome to redistribute it under certain conditions.
Type 'license()' or 'licence()' for distribution details.
R is a collaborative project with many contributors.
Type 'contributors()' for more information and
'citation()' on how to cite R or R packages in publications.
Type 'demo()' for some demos, 'help()' for on-line help, or
'help.start()' for an HTML browser interface to help.
Type 'q()' to quit R.
> library(testthat)
> library(methrix)
Loading required package: data.table
Loading required package: SummarizedExperiment
Loading required package: MatrixGenerics
Loading required package: matrixStats
Attaching package: 'MatrixGenerics'
The following objects are masked from 'package:matrixStats':
colAlls, colAnyNAs, colAnys, colAvgsPerRowSet, colCollapse,
colCounts, colCummaxs, colCummins, colCumprods, colCumsums,
colDiffs, colIQRDiffs, colIQRs, colLogSumExps, colMadDiffs,
colMads, colMaxs, colMeans2, colMedians, colMins, colOrderStats,
colProds, colQuantiles, colRanges, colRanks, colSdDiffs, colSds,
colSums2, colTabulates, colVarDiffs, colVars, colWeightedMads,
colWeightedMeans, colWeightedMedians, colWeightedSds,
colWeightedVars, rowAlls, rowAnyNAs, rowAnys, rowAvgsPerColSet,
rowCollapse, rowCounts, rowCummaxs, rowCummins, rowCumprods,
rowCumsums, rowDiffs, rowIQRDiffs, rowIQRs, rowLogSumExps,
rowMadDiffs, rowMads, rowMaxs, rowMeans2, rowMedians, rowMins,
rowOrderStats, rowProds, rowQuantiles, rowRanges, rowRanks,
rowSdDiffs, rowSds, rowSums2, rowTabulates, rowVarDiffs, rowVars,
rowWeightedMads, rowWeightedMeans, rowWeightedMedians,
rowWeightedSds, rowWeightedVars
Loading required package: GenomicRanges
Loading required package: stats4
Loading required package: BiocGenerics
Attaching package: 'BiocGenerics'
The following objects are masked from 'package:stats':
IQR, mad, sd, var, xtabs
The following objects are masked from 'package:base':
Filter, Find, Map, Position, Reduce, anyDuplicated, aperm, append,
as.data.frame, basename, cbind, colnames, dirname, do.call,
duplicated, eval, evalq, get, grep, grepl, intersect, is.unsorted,
lapply, mapply, match, mget, order, paste, pmax, pmax.int, pmin,
pmin.int, rank, rbind, rownames, sapply, setdiff, sort, table,
tapply, union, unique, unsplit, which.max, which.min
Loading required package: S4Vectors
Attaching package: 'S4Vectors'
The following objects are masked from 'package:data.table':
first, second
The following objects are masked from 'package:base':
I, expand.grid, unname
Loading required package: IRanges
Attaching package: 'IRanges'
The following object is masked from 'package:data.table':
shift
Loading required package: GenomeInfoDb
Loading required package: Biobase
Welcome to Bioconductor
Vignettes contain introductory material; view with
'browseVignettes()'. To cite Bioconductor, see
'citation("Biobase")', and for packages 'citation("pkgname")'.
Attaching package: 'Biobase'
The following object is masked from 'package:MatrixGenerics':
rowMedians
The following objects are masked from 'package:matrixStats':
anyMissing, rowMedians
>
> test_check("methrix")
[ FAIL 0 | WARN 0 | SKIP 0 | PASS 86 ]
>
> proc.time()
user system elapsed
27.463 1.018 28.554
methrix.Rcheck/methrix-Ex.timings
| name | user | system | elapsed | |
| convert_HDF5_methrix | 0.320 | 0.059 | 0.389 | |
| convert_methrix | 0.149 | 0.034 | 0.184 | |
| coverage_filter | 0.753 | 0.004 | 0.757 | |
| extract_CPGs | 0 | 0 | 0 | |
| get_matrix | 0.150 | 0.017 | 0.168 | |
| get_region_summary | 0.138 | 0.004 | 0.142 | |
| get_stats | 0.907 | 0.008 | 0.918 | |
| load_HDF5_methrix | 0.323 | 0.038 | 0.362 | |
| mask_methrix | 0.071 | 0.002 | 0.073 | |
| methrix2bsseq | 0 | 0 | 0 | |
| methrix_data | 0.005 | 0.002 | 0.007 | |
| methrix_pca | 0.766 | 0.006 | 0.775 | |
| methrix_report | 0 | 0 | 0 | |
| order_by_sd | 0.010 | 0.002 | 0.013 | |
| plot_coverage | 0.960 | 0.009 | 0.970 | |
| plot_density | 1.698 | 0.008 | 1.708 | |
| plot_pca | 0.873 | 0.006 | 0.881 | |
| plot_stats | 1.305 | 0.008 | 1.316 | |
| plot_violin | 1.101 | 0.011 | 1.115 | |
| read_bedgraphs | 0 | 0 | 0 | |
| region_filter | 0.019 | 0.002 | 0.022 | |
| remove_snps | 5.271 | 0.291 | 5.888 | |
| remove_uncovered | 1.007 | 0.004 | 1.013 | |
| save_HDF5_methrix | 0.328 | 0.038 | 0.367 | |
| subset_methrix | 0.011 | 0.003 | 0.014 | |
| write_bedgraphs | 0.195 | 0.014 | 0.210 | |
| write_bigwigs | 0.313 | 0.010 | 0.325 | |