| Back to Multiple platform build/check report for BioC 3.16: simplified long |
|
This page was generated on 2023-04-12 11:05:40 -0400 (Wed, 12 Apr 2023).
| Hostname | OS | Arch (*) | R version | Installed pkgs |
|---|---|---|---|---|
| nebbiolo2 | Linux (Ubuntu 20.04.5 LTS) | x86_64 | 4.2.3 (2023-03-15) -- "Shortstop Beagle" | 4502 |
| palomino4 | Windows Server 2022 Datacenter | x64 | 4.2.3 (2023-03-15 ucrt) -- "Shortstop Beagle" | 4282 |
| lconway | macOS 12.5.1 Monterey | x86_64 | 4.2.3 (2023-03-15) -- "Shortstop Beagle" | 4310 |
| Click on any hostname to see more info about the system (e.g. compilers) (*) as reported by 'uname -p', except on Windows and Mac OS X | ||||
|
To the developers/maintainers of the methInheritSim package: - Please allow up to 24 hours (and sometimes 48 hours) for your latest push to git@git.bioconductor.org:packages/methInheritSim.git to reflect on this report. See How and When does the builder pull? When will my changes propagate? for more information. - Make sure to use the following settings in order to reproduce any error or warning you see on this page. |
| Package 1164/2183 | Hostname | OS / Arch | INSTALL | BUILD | CHECK | BUILD BIN | ||||||||
| methInheritSim 1.20.0 (landing page) Pascal Belleau
| nebbiolo2 | Linux (Ubuntu 20.04.5 LTS) / x86_64 | OK | OK | OK | |||||||||
| palomino4 | Windows Server 2022 Datacenter / x64 | OK | OK | OK | OK | |||||||||
| lconway | macOS 12.5.1 Monterey / x86_64 | OK | OK | OK | OK | |||||||||
| Package: methInheritSim |
| Version: 1.20.0 |
| Command: F:\biocbuild\bbs-3.16-bioc\R\bin\R.exe CMD check --no-multiarch --install=check:methInheritSim.install-out.txt --library=F:\biocbuild\bbs-3.16-bioc\R\library --no-vignettes --timings methInheritSim_1.20.0.tar.gz |
| StartedAt: 2023-04-11 03:11:39 -0400 (Tue, 11 Apr 2023) |
| EndedAt: 2023-04-11 03:16:22 -0400 (Tue, 11 Apr 2023) |
| EllapsedTime: 283.6 seconds |
| RetCode: 0 |
| Status: OK |
| CheckDir: methInheritSim.Rcheck |
| Warnings: 0 |
##############################################################################
##############################################################################
###
### Running command:
###
### F:\biocbuild\bbs-3.16-bioc\R\bin\R.exe CMD check --no-multiarch --install=check:methInheritSim.install-out.txt --library=F:\biocbuild\bbs-3.16-bioc\R\library --no-vignettes --timings methInheritSim_1.20.0.tar.gz
###
##############################################################################
##############################################################################
* using log directory 'F:/biocbuild/bbs-3.16-bioc/meat/methInheritSim.Rcheck'
* using R version 4.2.3 (2023-03-15 ucrt)
* using platform: x86_64-w64-mingw32 (64-bit)
* using session charset: UTF-8
* using option '--no-vignettes'
* checking for file 'methInheritSim/DESCRIPTION' ... OK
* checking extension type ... Package
* this is package 'methInheritSim' version '1.20.0'
* package encoding: UTF-8
* checking package namespace information ... OK
* checking package dependencies ... OK
* checking if this is a source package ... OK
* checking if there is a namespace ... OK
* checking for hidden files and directories ... NOTE
Found the following hidden files and directories:
.travis.yml
These were most likely included in error. See section 'Package
structure' in the 'Writing R Extensions' manual.
* checking for portable file names ... OK
* checking whether package 'methInheritSim' can be installed ... OK
* checking installed package size ... OK
* checking package directory ... OK
* checking 'build' directory ... OK
* checking DESCRIPTION meta-information ... OK
* checking top-level files ... OK
* checking for left-over files ... OK
* checking index information ... OK
* checking package subdirectories ... OK
* checking R files for non-ASCII characters ... OK
* checking R files for syntax errors ... OK
* checking whether the package can be loaded ... OK
* checking whether the package can be loaded with stated dependencies ... OK
* checking whether the package can be unloaded cleanly ... OK
* checking whether the namespace can be loaded with stated dependencies ... OK
* checking whether the namespace can be unloaded cleanly ... OK
* checking dependencies in R code ... OK
* checking S3 generic/method consistency ... OK
* checking replacement functions ... OK
* checking foreign function calls ... OK
* checking R code for possible problems ... OK
* checking Rd files ... OK
* checking Rd metadata ... OK
* checking Rd cross-references ... OK
* checking for missing documentation entries ... OK
* checking for code/documentation mismatches ... OK
* checking Rd \usage sections ... OK
* checking Rd contents ... OK
* checking for unstated dependencies in examples ... OK
* checking contents of 'data' directory ... OK
* checking data for non-ASCII characters ... OK
* checking data for ASCII and uncompressed saves ... OK
* checking files in 'vignettes' ... OK
* checking examples ... OK
Examples with CPU (user + system) or elapsed time > 5s
user system elapsed
samplesForChrSynthetic 10.78 0.11 10.94
runSim 5.27 0.12 5.42
* checking for unstated dependencies in 'tests' ... OK
* checking tests ...
Running 'runTests.R'
OK
* checking for unstated dependencies in vignettes ... OK
* checking package vignettes in 'inst/doc' ... OK
* checking running R code from vignettes ... SKIPPED
* checking re-building of vignette outputs ... SKIPPED
* checking PDF version of manual ... OK
* DONE
Status: 1 NOTE
See
'F:/biocbuild/bbs-3.16-bioc/meat/methInheritSim.Rcheck/00check.log'
for details.
methInheritSim.Rcheck/00install.out
############################################################################## ############################################################################## ### ### Running command: ### ### F:\biocbuild\bbs-3.16-bioc\R\bin\R.exe CMD INSTALL methInheritSim ### ############################################################################## ############################################################################## * installing to library 'F:/biocbuild/bbs-3.16-bioc/R/library' * installing *source* package 'methInheritSim' ... ** using staged installation ** R ** data ** inst ** byte-compile and prepare package for lazy loading ** help *** installing help indices ** building package indices ** installing vignettes ** testing if installed package can be loaded from temporary location ** testing if installed package can be loaded from final location ** testing if installed package keeps a record of temporary installation path * DONE (methInheritSim)
methInheritSim.Rcheck/tests/runTests.Rout
R version 4.2.3 (2023-03-15 ucrt) -- "Shortstop Beagle"
Copyright (C) 2023 The R Foundation for Statistical Computing
Platform: x86_64-w64-mingw32/x64 (64-bit)
R is free software and comes with ABSOLUTELY NO WARRANTY.
You are welcome to redistribute it under certain conditions.
Type 'license()' or 'licence()' for distribution details.
R is a collaborative project with many contributors.
Type 'contributors()' for more information and
'citation()' on how to cite R or R packages in publications.
Type 'demo()' for some demos, 'help()' for on-line help, or
'help.start()' for an HTML browser interface to help.
Type 'q()' to quit R.
> ## Run all tests presnt in the package
> BiocGenerics:::testPackage("methInheritSim")
Loading required package: stats4
Loading required package: BiocGenerics
Attaching package: 'BiocGenerics'
The following objects are masked from 'package:stats':
IQR, mad, sd, var, xtabs
The following objects are masked from 'package:base':
Filter, Find, Map, Position, Reduce, anyDuplicated, aperm, append,
as.data.frame, basename, cbind, colnames, dirname, do.call,
duplicated, eval, evalq, get, grep, grepl, intersect, is.unsorted,
lapply, mapply, match, mget, order, paste, pmax, pmax.int, pmin,
pmin.int, rank, rbind, rownames, sapply, setdiff, sort, table,
tapply, union, unique, unsplit, which.max, which.min
Loading required package: S4Vectors
Attaching package: 'S4Vectors'
The following objects are masked from 'package:base':
I, expand.grid, unname
Loading required package: IRanges
Attaching package: 'IRanges'
The following object is masked from 'package:grDevices':
windows
Loading required package: GenomeInfoDb
uniting...
two groups detected:
will calculate methylation difference as the difference of
treatment (group: 1) - control (group: 0)
uniting...
two groups detected:
will calculate methylation difference as the difference of
treatment (group: 1) - control (group: 0)
uniting...
two groups detected:
will calculate methylation difference as the difference of
treatment (group: 1) - control (group: 0)
uniting...
two groups detected:
will calculate methylation difference as the difference of
treatment (group: 1) - control (group: 0)
uniting...
two groups detected:
will calculate methylation difference as the difference of
treatment (group: 1) - control (group: 0)
uniting...
two groups detected:
will calculate methylation difference as the difference of
treatment (group: 1) - control (group: 0)
uniting...
two groups detected:
will calculate methylation difference as the difference of
treatment (group: 1) - control (group: 0)
uniting...
two groups detected:
will calculate methylation difference as the difference of
treatment (group: 1) - control (group: 0)
uniting...
two groups detected:
will calculate methylation difference as the difference of
treatment (group: 1) - control (group: 0)
uniting...
two groups detected:
will calculate methylation difference as the difference of
treatment (group: 1) - control (group: 0)
uniting...
two groups detected:
will calculate methylation difference as the difference of
treatment (group: 1) - control (group: 0)
RUNIT TEST PROTOCOL -- Tue Apr 11 03:16:11 2023
***********************************************
Number of test functions: 104
Number of errors: 0
Number of failures: 0
1 Test Suite :
methInheritSim RUnit Tests - 104 test functions, 0 errors, 0 failures
Number of test functions: 104
Number of errors: 0
Number of failures: 0
>
> proc.time()
user system elapsed
26.20 0.96 27.14
methInheritSim.Rcheck/methInheritSim-Ex.timings
| name | user | system | elapsed | |
| calculateNbDiffCase | 0 | 0 | 0 | |
| createSampleID | 0 | 0 | 0 | |
| dataSimExample | 0.07 | 0.02 | 0.08 | |
| estBetaAlpha | 0 | 0 | 0 | |
| estBetaBeta | 0 | 0 | 0 | |
| fixSeed | 0 | 0 | 0 | |
| getDiffCase | 0 | 0 | 0 | |
| getDiffMeth | 0.09 | 0.02 | 0.11 | |
| getSim | 0.5 | 0.0 | 0.5 | |
| getSyntheticChr | 0.24 | 0.00 | 0.24 | |
| runOnEachSynCHR | 2.84 | 0.06 | 2.91 | |
| runSim | 5.27 | 0.12 | 5.42 | |
| samplesForChrSynthetic | 10.78 | 0.11 | 10.94 | |
| saveData | 0 | 0 | 0 | |
| simEachGeneration | 0.49 | 0.00 | 0.49 | |
| simInheritance | 0.78 | 0.01 | 0.79 | |
| testIfAlreadyDone | 0 | 0 | 0 | |
| validateRunSimDoubleParameters | 0 | 0 | 0 | |
| validateRunSimIntegerParameters | 0 | 0 | 0 | |
| validateRunSimLogicalParameters | 0.03 | 0.00 | 0.04 | |
| validateRunSimOtherParameters | 0.03 | 0.00 | 0.03 | |
| validateRunSimParameters | 0.02 | 0.00 | 0.01 | |