| Back to Multiple platform build/check report for BioC 3.16 |
|
This page was generated on 2022-05-14 11:06:42 -0400 (Sat, 14 May 2022).
| Hostname | OS | Arch (*) | R version | Installed pkgs |
|---|---|---|---|---|
| nebbiolo2 | Linux (Ubuntu 20.04.4 LTS) | x86_64 | 4.2.0 RC (2022-04-21 r82226) -- "Vigorous Calisthenics" | 4351 |
| palomino4 | Windows Server 2022 Datacenter | x64 | 4.2.0 Patched (2022-04-24 r82246 ucrt) -- "Vigorous Calisthenics" | 4122 |
| lconway | macOS 12.2.1 Monterey | x86_64 | 4.2.0 Patched (2022-04-24 r82246) -- "Vigorous Calisthenics" | 4132 |
| Click on any hostname to see more info about the system (e.g. compilers) (*) as reported by 'uname -p', except on Windows and Mac OS X | ||||
|
To the developers/maintainers of the metavizr package: - Please allow up to 24 hours (and sometimes 48 hours) for your latest push to git@git.bioconductor.org:packages/metavizr.git to reflect on this report. See How and When does the builder pull? When will my changes propagate? for more information. - Make sure to use the following settings in order to reproduce any error or warning you see on this page. |
| Package 1125/2112 | Hostname | OS / Arch | INSTALL | BUILD | CHECK | BUILD BIN | ||||||||
| metavizr 1.21.0 (landing page) Hector Corrada Bravo
| nebbiolo2 | Linux (Ubuntu 20.04.4 LTS) / x86_64 | OK | OK | OK | |||||||||
| palomino4 | Windows Server 2022 Datacenter / x64 | OK | OK | OK | OK | |||||||||
| lconway | macOS 12.2.1 Monterey / x86_64 | OK | OK | OK | OK | |||||||||
| Package: metavizr |
| Version: 1.21.0 |
| Command: F:\biocbuild\bbs-3.16-bioc\R\bin\R.exe CMD check --force-multiarch --install=check:metavizr.install-out.txt --library=F:\biocbuild\bbs-3.16-bioc\R\library --no-vignettes --timings metavizr_1.21.0.tar.gz |
| StartedAt: 2022-05-14 02:09:03 -0400 (Sat, 14 May 2022) |
| EndedAt: 2022-05-14 02:14:57 -0400 (Sat, 14 May 2022) |
| EllapsedTime: 354.3 seconds |
| RetCode: 0 |
| Status: OK |
| CheckDir: metavizr.Rcheck |
| Warnings: 0 |
##############################################################################
##############################################################################
###
### Running command:
###
### F:\biocbuild\bbs-3.16-bioc\R\bin\R.exe CMD check --force-multiarch --install=check:metavizr.install-out.txt --library=F:\biocbuild\bbs-3.16-bioc\R\library --no-vignettes --timings metavizr_1.21.0.tar.gz
###
##############################################################################
##############################################################################
* using log directory 'F:/biocbuild/bbs-3.16-bioc/meat/metavizr.Rcheck'
* using R version 4.2.0 Patched (2022-04-24 r82246 ucrt)
* using platform: x86_64-w64-mingw32 (64-bit)
* using session charset: UTF-8
* using option '--no-vignettes'
* checking for file 'metavizr/DESCRIPTION' ... OK
* checking extension type ... Package
* this is package 'metavizr' version '1.21.0'
* checking package namespace information ... OK
* checking package dependencies ... OK
* checking if this is a source package ... OK
* checking if there is a namespace ... OK
* checking for hidden files and directories ... OK
* checking for portable file names ... OK
* checking whether package 'metavizr' can be installed ... OK
* checking installed package size ... OK
* checking package directory ... OK
* checking 'build' directory ... OK
* checking DESCRIPTION meta-information ... OK
* checking top-level files ... OK
* checking for left-over files ... OK
* checking index information ... OK
* checking package subdirectories ... OK
* checking R files for non-ASCII characters ... OK
* checking R files for syntax errors ... OK
* checking whether the package can be loaded ... OK
* checking whether the package can be loaded with stated dependencies ... OK
* checking whether the package can be unloaded cleanly ... OK
* checking whether the namespace can be loaded with stated dependencies ... OK
* checking whether the namespace can be unloaded cleanly ... OK
* checking dependencies in R code ... OK
* checking S3 generic/method consistency ... OK
* checking replacement functions ... OK
* checking foreign function calls ... OK
* checking R code for possible problems ... OK
* checking Rd files ... OK
* checking Rd metadata ... OK
* checking Rd cross-references ... OK
* checking for missing documentation entries ... OK
* checking for code/documentation mismatches ... OK
* checking Rd \usage sections ... OK
* checking Rd contents ... OK
* checking for unstated dependencies in examples ... OK
* checking files in 'vignettes' ... OK
* checking examples ... OK
Examples with CPU (user + system) or elapsed time > 5s
user system elapsed
replaceNAFeatures 13.67 1.05 14.71
* checking for unstated dependencies in 'tests' ... OK
* checking tests ...
Running 'testthat.R'
OK
* checking for unstated dependencies in vignettes ... OK
* checking package vignettes in 'inst/doc' ... OK
* checking running R code from vignettes ... SKIPPED
* checking re-building of vignette outputs ... SKIPPED
* checking PDF version of manual ... OK
* DONE
Status: OK
metavizr.Rcheck/00install.out
##############################################################################
##############################################################################
###
### Running command:
###
### C:\cygwin\bin\curl.exe -O http://155.52.207.166/BBS/3.16/bioc/src/contrib/metavizr_1.21.0.tar.gz && rm -rf metavizr.buildbin-libdir && mkdir metavizr.buildbin-libdir && F:\biocbuild\bbs-3.16-bioc\R\bin\R.exe CMD INSTALL --merge-multiarch --build --library=metavizr.buildbin-libdir metavizr_1.21.0.tar.gz && F:\biocbuild\bbs-3.16-bioc\R\bin\R.exe CMD INSTALL metavizr_1.21.0.zip && rm metavizr_1.21.0.tar.gz metavizr_1.21.0.zip
###
##############################################################################
##############################################################################
% Total % Received % Xferd Average Speed Time Time Time Current
Dload Upload Total Spent Left Speed
0 0 0 0 0 0 0 0 --:--:-- --:--:-- --:--:-- 0
100 1240k 100 1240k 0 0 7053k 0 --:--:-- --:--:-- --:--:-- 7088k
only one architecture so ignoring '--merge-multiarch'
* installing *source* package 'metavizr' ...
** using staged installation
** R
** inst
** byte-compile and prepare package for lazy loading
Warning: replacing previous import 'GenomicFeatures::proteinToGenome' by 'ensembldb::proteinToGenome' when loading 'epivizrData'
** help
*** installing help indices
** building package indices
** installing vignettes
** testing if installed package can be loaded from temporary location
Warning: replacing previous import 'GenomicFeatures::proteinToGenome' by 'ensembldb::proteinToGenome' when loading 'epivizrData'
** testing if installed package can be loaded from final location
Warning: replacing previous import 'GenomicFeatures::proteinToGenome' by 'ensembldb::proteinToGenome' when loading 'epivizrData'
** testing if installed package keeps a record of temporary installation path
* MD5 sums
packaged installation of 'metavizr' as metavizr_1.21.0.zip
* DONE (metavizr)
* installing to library 'F:/biocbuild/bbs-3.16-bioc/R/library'
package 'metavizr' successfully unpacked and MD5 sums checked
metavizr.Rcheck/tests/testthat.Rout
R version 4.2.0 Patched (2022-04-24 r82246 ucrt) -- "Vigorous Calisthenics"
Copyright (C) 2022 The R Foundation for Statistical Computing
Platform: x86_64-w64-mingw32/x64 (64-bit)
R is free software and comes with ABSOLUTELY NO WARRANTY.
You are welcome to redistribute it under certain conditions.
Type 'license()' or 'licence()' for distribution details.
R is a collaborative project with many contributors.
Type 'contributors()' for more information and
'citation()' on how to cite R or R packages in publications.
Type 'demo()' for some demos, 'help()' for on-line help, or
'help.start()' for an HTML browser interface to help.
Type 'q()' to quit R.
> library(testthat)
> library(metavizr)
Loading required package: metagenomeSeq
Loading required package: Biobase
Loading required package: BiocGenerics
Attaching package: 'BiocGenerics'
The following objects are masked from 'package:stats':
IQR, mad, sd, var, xtabs
The following objects are masked from 'package:base':
Filter, Find, Map, Position, Reduce, anyDuplicated, append,
as.data.frame, basename, cbind, colnames, dirname, do.call,
duplicated, eval, evalq, get, grep, grepl, intersect, is.unsorted,
lapply, mapply, match, mget, order, paste, pmax, pmax.int, pmin,
pmin.int, rank, rbind, rownames, sapply, setdiff, sort, table,
tapply, union, unique, unsplit, which.max, which.min
Welcome to Bioconductor
Vignettes contain introductory material; view with
'browseVignettes()'. To cite Bioconductor, see
'citation("Biobase")', and for packages 'citation("pkgname")'.
Loading required package: limma
Attaching package: 'limma'
The following object is masked from 'package:BiocGenerics':
plotMA
Loading required package: glmnet
Loading required package: Matrix
Loaded glmnet 4.1-4
Loading required package: RColorBrewer
Loading required package: data.table
Loading required package: digest
Warning message:
replacing previous import 'GenomicFeatures::proteinToGenome' by 'ensembldb::proteinToGenome' when loading 'epivizrData'
>
> test_check("metavizr")
[ FAIL 0 | WARN 68 | SKIP 0 | PASS 21 ]
[ FAIL 0 | WARN 68 | SKIP 0 | PASS 21 ]
>
> proc.time()
user system elapsed
38.60 2.45 41.03
metavizr.Rcheck/metavizr-Ex.timings
| name | user | system | elapsed | |
| EpivizMetagenomicsData-class | 0 | 0 | 0 | |
| EpivizMetagenomicsDataInnerNodes-class | 0 | 0 | 0 | |
| EpivizMetagenomicsDataTimeSeries-class | 0 | 0 | 0 | |
| generateSelection | 0 | 0 | 0 | |
| metavizControl | 0 | 0 | 0 | |
| replaceNAFeatures | 13.67 | 1.05 | 14.71 | |
| setMetavizStandalone | 0 | 0 | 0 | |
| startMetaviz | 0.09 | 0.00 | 0.09 | |
| startMetavizStandalone | 0.06 | 0.00 | 0.07 | |
| validateObject | 0.10 | 0.01 | 0.11 | |