| Back to Multiple platform build/check report for BioC 3.16: simplified long |
|
This page was generated on 2023-04-12 11:06:14 -0400 (Wed, 12 Apr 2023).
| Hostname | OS | Arch (*) | R version | Installed pkgs |
|---|---|---|---|---|
| nebbiolo2 | Linux (Ubuntu 20.04.5 LTS) | x86_64 | 4.2.3 (2023-03-15) -- "Shortstop Beagle" | 4502 |
| palomino4 | Windows Server 2022 Datacenter | x64 | 4.2.3 (2023-03-15 ucrt) -- "Shortstop Beagle" | 4282 |
| lconway | macOS 12.5.1 Monterey | x86_64 | 4.2.3 (2023-03-15) -- "Shortstop Beagle" | 4310 |
| Click on any hostname to see more info about the system (e.g. compilers) (*) as reported by 'uname -p', except on Windows and Mac OS X | ||||
|
To the developers/maintainers of the metagenomeSeq package: - Please allow up to 24 hours (and sometimes 48 hours) for your latest push to git@git.bioconductor.org:packages/metagenomeSeq.git to reflect on this report. See How and When does the builder pull? When will my changes propagate? for more information. - Make sure to use the following settings in order to reproduce any error or warning you see on this page. |
| Package 1150/2183 | Hostname | OS / Arch | INSTALL | BUILD | CHECK | BUILD BIN | ||||||||
| metagenomeSeq 1.40.0 (landing page) Joseph N. Paulson
| nebbiolo2 | Linux (Ubuntu 20.04.5 LTS) / x86_64 | OK | OK | OK | |||||||||
| palomino4 | Windows Server 2022 Datacenter / x64 | OK | OK | OK | OK | |||||||||
| lconway | macOS 12.5.1 Monterey / x86_64 | OK | OK | OK | OK | |||||||||
| Package: metagenomeSeq |
| Version: 1.40.0 |
| Command: /Library/Frameworks/R.framework/Resources/bin/R CMD check --install=check:metagenomeSeq.install-out.txt --library=/Library/Frameworks/R.framework/Resources/library --no-vignettes --timings metagenomeSeq_1.40.0.tar.gz |
| StartedAt: 2023-04-10 21:05:59 -0400 (Mon, 10 Apr 2023) |
| EndedAt: 2023-04-10 21:09:36 -0400 (Mon, 10 Apr 2023) |
| EllapsedTime: 217.2 seconds |
| RetCode: 0 |
| Status: OK |
| CheckDir: metagenomeSeq.Rcheck |
| Warnings: 0 |
##############################################################################
##############################################################################
###
### Running command:
###
### /Library/Frameworks/R.framework/Resources/bin/R CMD check --install=check:metagenomeSeq.install-out.txt --library=/Library/Frameworks/R.framework/Resources/library --no-vignettes --timings metagenomeSeq_1.40.0.tar.gz
###
##############################################################################
##############################################################################
* using log directory ‘/Users/biocbuild/bbs-3.16-bioc/meat/metagenomeSeq.Rcheck’
* using R version 4.2.3 (2023-03-15)
* using platform: x86_64-apple-darwin17.0 (64-bit)
* using session charset: UTF-8
* using option ‘--no-vignettes’
* checking for file ‘metagenomeSeq/DESCRIPTION’ ... OK
* this is package ‘metagenomeSeq’ version ‘1.40.0’
* checking package namespace information ... OK
* checking package dependencies ... OK
* checking if this is a source package ... OK
* checking if there is a namespace ... OK
* checking for hidden files and directories ... OK
* checking for portable file names ... OK
* checking for sufficient/correct file permissions ... OK
* checking whether package ‘metagenomeSeq’ can be installed ... OK
* checking installed package size ... OK
* checking package directory ... OK
* checking ‘build’ directory ... OK
* checking DESCRIPTION meta-information ... OK
* checking top-level files ... OK
* checking for left-over files ... OK
* checking index information ... OK
* checking package subdirectories ... OK
* checking R files for non-ASCII characters ... OK
* checking R files for syntax errors ... OK
* checking whether the package can be loaded ... OK
* checking whether the package can be loaded with stated dependencies ... OK
* checking whether the package can be unloaded cleanly ... OK
* checking whether the namespace can be loaded with stated dependencies ... OK
* checking whether the namespace can be unloaded cleanly ... OK
* checking dependencies in R code ... OK
* checking S3 generic/method consistency ... OK
* checking replacement functions ... OK
* checking foreign function calls ... OK
* checking R code for possible problems ... OK
* checking Rd files ... OK
* checking Rd metadata ... OK
* checking Rd cross-references ... OK
* checking for missing documentation entries ... OK
* checking for code/documentation mismatches ... OK
* checking Rd \usage sections ... OK
* checking Rd contents ... OK
* checking for unstated dependencies in examples ... OK
* checking contents of ‘data’ directory ... OK
* checking data for non-ASCII characters ... OK
* checking data for ASCII and uncompressed saves ... OK
* checking sizes of PDF files under ‘inst/doc’ ... OK
* checking files in ‘vignettes’ ... OK
* checking examples ... OK
Examples with CPU (user + system) or elapsed time > 5s
user system elapsed
wrenchNorm 11.969 1.138 13.149
MRfulltable 0.923 0.036 5.787
* checking for unstated dependencies in ‘tests’ ... OK
* checking tests ...
Running ‘testthat.R’
OK
* checking for unstated dependencies in vignettes ... OK
* checking package vignettes in ‘inst/doc’ ... OK
* checking running R code from vignettes ... SKIPPED
* checking re-building of vignette outputs ... SKIPPED
* checking PDF version of manual ... OK
* DONE
Status: OK
metagenomeSeq.Rcheck/00install.out
############################################################################## ############################################################################## ### ### Running command: ### ### /Library/Frameworks/R.framework/Resources/bin/R CMD INSTALL metagenomeSeq ### ############################################################################## ############################################################################## * installing to library ‘/Library/Frameworks/R.framework/Versions/4.2/Resources/library’ * installing *source* package ‘metagenomeSeq’ ... ** using staged installation ** R ** data ** inst ** byte-compile and prepare package for lazy loading in method for ‘MRihw’ with signature ‘"fitFeatureModelResults"’: no definition for class “fitFeatureModelResults” in method for ‘MRihw’ with signature ‘"fitZigResults"’: no definition for class “fitZigResults” ** help *** installing help indices ** building package indices ** installing vignettes ** testing if installed package can be loaded from temporary location ** testing if installed package can be loaded from final location ** testing if installed package keeps a record of temporary installation path * DONE (metagenomeSeq)
metagenomeSeq.Rcheck/tests/testthat.Rout
R version 4.2.3 (2023-03-15) -- "Shortstop Beagle"
Copyright (C) 2023 The R Foundation for Statistical Computing
Platform: x86_64-apple-darwin17.0 (64-bit)
R is free software and comes with ABSOLUTELY NO WARRANTY.
You are welcome to redistribute it under certain conditions.
Type 'license()' or 'licence()' for distribution details.
R is a collaborative project with many contributors.
Type 'contributors()' for more information and
'citation()' on how to cite R or R packages in publications.
Type 'demo()' for some demos, 'help()' for on-line help, or
'help.start()' for an HTML browser interface to help.
Type 'q()' to quit R.
> library("testthat")
> packageVersion("metagenomeSeq")
[1] '1.40.0'
> # As suggested for opt-out option on testing by users,
> # recommended by CRAN: http://adv-r.had.co.nz/Testing.html
> # Previously, best practice was to put all test files in inst/tests
> # and ensure that R CMD check ran them by putting the following code in tests/test-all.R:
> # >library(testthat)
> # >library(yourpackage)
> # >test_package("yourpackage")
> # Now, recommended practice is to put your tests in tests/testthat,
> # and ensure R CMD check runs them by putting the following code in tests/test-all.R:
> # >library(testthat)
> # >test_check("yourpackage")
> # The advantage of this new structure is that the user has control over whether or not tests are installed using the –install-tests parameter to
> # R CMD install, or INSTALL_opts = c(“–install-tests”) argument to install.packages(). I’m not sure why you wouldn’t want to install the tests,
> # but now you have the flexibility as requested by CRAN maintainers.
> test_check("metagenomeSeq")
Loading required package: metagenomeSeq
Loading required package: Biobase
Loading required package: BiocGenerics
Attaching package: 'BiocGenerics'
The following objects are masked from 'package:stats':
IQR, mad, sd, var, xtabs
The following objects are masked from 'package:base':
Filter, Find, Map, Position, Reduce, anyDuplicated, aperm, append,
as.data.frame, basename, cbind, colnames, dirname, do.call,
duplicated, eval, evalq, get, grep, grepl, intersect, is.unsorted,
lapply, mapply, match, mget, order, paste, pmax, pmax.int, pmin,
pmin.int, rank, rbind, rownames, sapply, setdiff, sort, table,
tapply, union, unique, unsplit, which.max, which.min
Welcome to Bioconductor
Vignettes contain introductory material; view with
'browseVignettes()'. To cite Bioconductor, see
'citation("Biobase")', and for packages 'citation("pkgname")'.
Loading required package: limma
Attaching package: 'limma'
The following object is masked from 'package:BiocGenerics':
plotMA
Loading required package: glmnet
Loading required package: Matrix
Loaded glmnet 4.1-7
Loading required package: RColorBrewer
[ FAIL 0 | WARN 6 | SKIP 0 | PASS 15 ]
[ FAIL 0 | WARN 6 | SKIP 0 | PASS 15 ]
>
> proc.time()
user system elapsed
75.571 6.176 82.358
metagenomeSeq.Rcheck/metagenomeSeq-Ex.timings
| name | user | system | elapsed | |
| MRcoefs | 1.068 | 0.073 | 1.146 | |
| MRcounts | 0.480 | 0.019 | 0.500 | |
| MRexperiment-class | 0 | 0 | 0 | |
| MRfulltable | 0.923 | 0.036 | 5.787 | |
| MRtable | 0.993 | 0.029 | 1.031 | |
| aggregateBySample | 0.155 | 0.013 | 0.168 | |
| aggregateByTaxonomy | 0.151 | 0.009 | 0.161 | |
| biom2MRexperiment | 0.210 | 0.011 | 0.224 | |
| calcNormFactors | 0.398 | 0.101 | 0.501 | |
| correctIndices | 0.090 | 0.023 | 0.114 | |
| correlationTest | 0.227 | 0.019 | 0.248 | |
| cumNorm | 0.415 | 0.074 | 0.491 | |
| cumNormMat | 0.412 | 0.098 | 0.512 | |
| cumNormStat | 0.584 | 0.065 | 0.653 | |
| cumNormStatFast | 0.269 | 0.042 | 0.317 | |
| expSummary | 0.083 | 0.007 | 0.089 | |
| exportMat | 1.009 | 2.379 | 3.435 | |
| exportStats | 0.420 | 0.037 | 0.458 | |
| extractMR | 0.881 | 0.959 | 1.861 | |
| filterData | 0.190 | 0.012 | 0.202 | |
| fitDO | 0.589 | 0.037 | 3.146 | |
| fitFeatureModel | 0.829 | 0.036 | 0.867 | |
| fitLogNormal | 1.379 | 0.150 | 1.540 | |
| fitMultipleTimeSeries | 1.703 | 0.192 | 1.899 | |
| fitPA | 0.413 | 0.019 | 2.849 | |
| fitSSTimeSeries | 0.408 | 0.042 | 0.450 | |
| fitTimeSeries | 0.388 | 0.019 | 0.409 | |
| fitZig | 1.508 | 0.227 | 1.740 | |
| libSize-set | 0.320 | 0.013 | 0.334 | |
| libSize | 0.334 | 0.022 | 0.358 | |
| loadBiom | 0.038 | 0.001 | 0.039 | |
| loadMeta | 0.025 | 0.039 | 0.064 | |
| loadMetaQ | 0 | 0 | 0 | |
| loadPhenoData | 0.007 | 0.001 | 0.009 | |
| makeLabels | 0.000 | 0.001 | 0.001 | |
| mergeMRexperiments | 1.500 | 0.149 | 1.652 | |
| newMRexperiment | 0.022 | 0.000 | 0.022 | |
| normFactors-set | 0.496 | 0.060 | 0.556 | |
| normFactors | 0.285 | 0.006 | 0.291 | |
| plotBubble | 0.211 | 0.016 | 2.556 | |
| plotClassTimeSeries | 0.873 | 0.269 | 1.150 | |
| plotCorr | 0.345 | 0.020 | 0.366 | |
| plotFeature | 0.123 | 0.011 | 0.134 | |
| plotGenus | 0.111 | 0.015 | 0.127 | |
| plotMRheatmap | 1.538 | 0.121 | 1.667 | |
| plotOTU | 0.102 | 0.009 | 0.110 | |
| plotOrd | 0.189 | 0.012 | 0.202 | |
| plotRare | 0.109 | 0.009 | 0.118 | |
| plotTimeSeries | 0.913 | 0.112 | 1.030 | |
| posteriorProbs | 1.308 | 0.188 | 1.499 | |
| returnAppropriateObj | 0.316 | 0.015 | 0.332 | |
| ssFit | 0.000 | 0.001 | 0.001 | |
| ssIntervalCandidate | 0 | 0 | 0 | |
| ssPerm | 0 | 0 | 0 | |
| ssPermAnalysis | 0 | 0 | 0 | |
| trapz | 0.000 | 0.000 | 0.001 | |
| ts2MRexperiment | 1.448 | 0.276 | 1.726 | |
| uniqueFeatures | 0.095 | 0.009 | 0.105 | |
| wrenchNorm | 11.969 | 1.138 | 13.149 | |
| zigControl | 0.000 | 0.000 | 0.001 | |