| Back to Multiple platform build/check report for BioC 3.16: simplified long |
|
This page was generated on 2023-04-12 11:06:14 -0400 (Wed, 12 Apr 2023).
| Hostname | OS | Arch (*) | R version | Installed pkgs |
|---|---|---|---|---|
| nebbiolo2 | Linux (Ubuntu 20.04.5 LTS) | x86_64 | 4.2.3 (2023-03-15) -- "Shortstop Beagle" | 4502 |
| palomino4 | Windows Server 2022 Datacenter | x64 | 4.2.3 (2023-03-15 ucrt) -- "Shortstop Beagle" | 4282 |
| lconway | macOS 12.5.1 Monterey | x86_64 | 4.2.3 (2023-03-15) -- "Shortstop Beagle" | 4310 |
| Click on any hostname to see more info about the system (e.g. compilers) (*) as reported by 'uname -p', except on Windows and Mac OS X | ||||
|
To the developers/maintainers of the metaMS package: - Please allow up to 24 hours (and sometimes 48 hours) for your latest push to git@git.bioconductor.org:packages/metaMS.git to reflect on this report. See How and When does the builder pull? When will my changes propagate? for more information. - Make sure to use the following settings in order to reproduce any error or warning you see on this page. |
| Package 1152/2183 | Hostname | OS / Arch | INSTALL | BUILD | CHECK | BUILD BIN | ||||||||
| metaMS 1.34.0 (landing page) Yann Guitton
| nebbiolo2 | Linux (Ubuntu 20.04.5 LTS) / x86_64 | OK | OK | OK | |||||||||
| palomino4 | Windows Server 2022 Datacenter / x64 | OK | OK | OK | OK | |||||||||
| lconway | macOS 12.5.1 Monterey / x86_64 | OK | OK | OK | OK | |||||||||
| Package: metaMS |
| Version: 1.34.0 |
| Command: /Library/Frameworks/R.framework/Resources/bin/R CMD check --install=check:metaMS.install-out.txt --library=/Library/Frameworks/R.framework/Resources/library --no-vignettes --timings metaMS_1.34.0.tar.gz |
| StartedAt: 2023-04-10 21:06:09 -0400 (Mon, 10 Apr 2023) |
| EndedAt: 2023-04-10 21:10:34 -0400 (Mon, 10 Apr 2023) |
| EllapsedTime: 264.8 seconds |
| RetCode: 0 |
| Status: OK |
| CheckDir: metaMS.Rcheck |
| Warnings: 0 |
############################################################################## ############################################################################## ### ### Running command: ### ### /Library/Frameworks/R.framework/Resources/bin/R CMD check --install=check:metaMS.install-out.txt --library=/Library/Frameworks/R.framework/Resources/library --no-vignettes --timings metaMS_1.34.0.tar.gz ### ############################################################################## ############################################################################## * using log directory ‘/Users/biocbuild/bbs-3.16-bioc/meat/metaMS.Rcheck’ * using R version 4.2.3 (2023-03-15) * using platform: x86_64-apple-darwin17.0 (64-bit) * using session charset: UTF-8 * using option ‘--no-vignettes’ * checking for file ‘metaMS/DESCRIPTION’ ... OK * checking extension type ... Package * this is package ‘metaMS’ version ‘1.34.0’ * package encoding: UTF-8 * checking package namespace information ... OK * checking package dependencies ... OK * checking if this is a source package ... OK * checking if there is a namespace ... OK * checking for hidden files and directories ... OK * checking for portable file names ... OK * checking for sufficient/correct file permissions ... OK * checking whether package ‘metaMS’ can be installed ... OK * checking installed package size ... OK * checking package directory ... OK * checking ‘build’ directory ... OK * checking DESCRIPTION meta-information ... OK * checking top-level files ... OK * checking for left-over files ... OK * checking index information ... OK * checking package subdirectories ... OK * checking R files for non-ASCII characters ... OK * checking R files for syntax errors ... OK * checking whether the package can be loaded ... OK * checking whether the package can be loaded with stated dependencies ... OK * checking whether the package can be unloaded cleanly ... OK * checking whether the namespace can be loaded with stated dependencies ... OK * checking whether the namespace can be unloaded cleanly ... OK * checking dependencies in R code ... OK * checking S3 generic/method consistency ... OK * checking replacement functions ... OK * checking foreign function calls ... OK * checking R code for possible problems ... OK * checking Rd files ... OK * checking Rd metadata ... OK * checking Rd cross-references ... OK * checking for missing documentation entries ... OK * checking for code/documentation mismatches ... OK * checking Rd \usage sections ... OK * checking Rd contents ... OK * checking for unstated dependencies in examples ... OK * checking contents of ‘data’ directory ... OK * checking data for non-ASCII characters ... OK * checking data for ASCII and uncompressed saves ... OK * checking sizes of PDF files under ‘inst/doc’ ... OK * checking files in ‘vignettes’ ... OK * checking examples ... OK * checking for unstated dependencies in ‘tests’ ... OK * checking tests ... Running ‘runTests.R’ OK * checking for unstated dependencies in vignettes ... OK * checking package vignettes in ‘inst/doc’ ... OK * checking running R code from vignettes ... SKIPPED * checking re-building of vignette outputs ... SKIPPED * checking PDF version of manual ... OK * DONE Status: OK
metaMS.Rcheck/00install.out
############################################################################## ############################################################################## ### ### Running command: ### ### /Library/Frameworks/R.framework/Resources/bin/R CMD INSTALL metaMS ### ############################################################################## ############################################################################## * installing to library ‘/Library/Frameworks/R.framework/Versions/4.2/Resources/library’ * installing *source* package ‘metaMS’ ... ** using staged installation ** R ** data ** inst ** byte-compile and prepare package for lazy loading ** help *** installing help indices ** building package indices ** installing vignettes ** testing if installed package can be loaded from temporary location ** testing if installed package can be loaded from final location ** testing if installed package keeps a record of temporary installation path * DONE (metaMS)
metaMS.Rcheck/tests/runTests.Rout
R version 4.2.3 (2023-03-15) -- "Shortstop Beagle"
Copyright (C) 2023 The R Foundation for Statistical Computing
Platform: x86_64-apple-darwin17.0 (64-bit)
R is free software and comes with ABSOLUTELY NO WARRANTY.
You are welcome to redistribute it under certain conditions.
Type 'license()' or 'licence()' for distribution details.
R is a collaborative project with many contributors.
Type 'contributors()' for more information and
'citation()' on how to cite R or R packages in publications.
Type 'demo()' for some demos, 'help()' for on-line help, or
'help.start()' for an HTML browser interface to help.
Type 'q()' to quit R.
> BiocGenerics:::testPackage("metaMS")
Attaching package: 'BiocGenerics'
The following objects are masked from 'package:stats':
IQR, mad, sd, var, xtabs
The following objects are masked from 'package:base':
Filter, Find, Map, Position, Reduce, anyDuplicated, aperm, append,
as.data.frame, basename, cbind, colnames, dirname, do.call,
duplicated, eval, evalq, get, grep, grepl, intersect, is.unsorted,
lapply, mapply, match, mget, order, paste, pmax, pmax.int, pmin,
pmin.int, rank, rbind, rownames, sapply, setdiff, sort, table,
tapply, union, unique, unsplit, which.max, which.min
Welcome to Bioconductor
Vignettes contain introductory material; view with
'browseVignettes()'. To cite Bioconductor, see
'citation("Biobase")', and for packages 'citation("pkgname")'.
Attaching package: 'S4Vectors'
The following objects are masked from 'package:base':
I, expand.grid, unname
Attaching package: 'ProtGenerics'
The following object is masked from 'package:stats':
smooth
This is MSnbase version 2.24.2
Visit https://lgatto.github.io/MSnbase/ to get started.
Attaching package: 'MSnbase'
The following object is masked from 'package:base':
trimws
This is xcms version 3.20.0
Attaching package: 'xcms'
The following object is masked from 'package:stats':
sigma
< -------- Experiment of 4 samples ------------------------------------- >
< -------- Instrument: TSQXLS.QQQ.GC ----------------------------------- >
< -------- Annotation using database of 3 spectra ---------------------- >
< -------- Using xcmsSet object - only doing annotation ---------------- >
< -------- Removing artefacts (Bleeding, Plasticizers) ----------------- >
< -------- Matching with database of standards ------------------------- >
< -------- Matching unknowns across samples ---------------------------- >
< -------- Formatting results ------------------------------------------ >
< -------- Done! ------------------------------------------------------- >
< -------- Experiment of 4 samples ------------------------------------- >
< -------- Instrument: Synapt.QTOF.RP - polarity: positive ------------ >
< -------- Database of 4 compounds ------------------------------------- >
< -------- Using xcmsSet object - only doing annotation ---------------- >
< -------- Performing annotation --------------------------------------- >
Fixed mass tolerance 0.005
Feature-wise Annotation ...
< -------- Formatting the output --------------------------------------- >
< -------- Done ! ------------------------------------------------------ >
RUNIT TEST PROTOCOL -- Mon Apr 10 21:10:24 2023
***********************************************
Number of test functions: 2
Number of errors: 0
Number of failures: 0
1 Test Suite :
metaMS RUnit Tests - 2 test functions, 0 errors, 0 failures
Number of test functions: 2
Number of errors: 0
Number of failures: 0
>
> proc.time()
user system elapsed
12.422 0.650 13.172
metaMS.Rcheck/metaMS-Ex.timings
| name | user | system | elapsed | |
| AnnotateTable | 0.038 | 0.005 | 0.043 | |
| FEMsettings | 0.001 | 0.001 | 0.001 | |
| addRI | 0.035 | 0.003 | 0.040 | |
| alignmentLC | 0.094 | 0.120 | 0.214 | |
| constructExpPseudoSpectra | 0.029 | 0.009 | 0.038 | |
| createSTDdbGC | 0.001 | 0.002 | 0.003 | |
| createSTDdbLC | 0.020 | 0.002 | 0.023 | |
| errf | 0.015 | 0.002 | 0.018 | |
| getAnnotationLC | 0.094 | 0.117 | 0.215 | |
| getAnnotationMat | 0.029 | 0.004 | 0.032 | |
| getFeatureInfo | 0.030 | 0.004 | 0.033 | |
| getPeakTable | 0.093 | 0.121 | 0.214 | |
| matchExpSpec | 0.011 | 0.003 | 0.014 | |
| matchSamples2DB | 0.001 | 0.002 | 0.003 | |
| matchSamples2Samples | 0.001 | 0.001 | 0.003 | |
| metaMSsettings-class | 0.001 | 0.001 | 0.002 | |
| metaSetting-methods | 0.000 | 0.001 | 0.001 | |
| msp | 0.001 | 0.001 | 0.002 | |
| peakDetection | 0.002 | 0.002 | 0.002 | |
| plotPseudoSpectrum | 0.010 | 0.002 | 0.012 | |
| processStandards | 0.029 | 0.004 | 0.033 | |
| readStdInfo | 0.018 | 0.001 | 0.019 | |
| runCAMERA | 0.098 | 0.133 | 0.231 | |
| runGC | 0.044 | 0.011 | 0.056 | |
| runLC | 0.021 | 0.002 | 0.023 | |
| threeStdsDB | 0.009 | 0.004 | 0.013 | |
| treat.DB | 0.004 | 0.001 | 0.006 | |