| Back to Multiple platform build/check report for BioC 3.16: simplified long |
|
This page was generated on 2023-04-12 11:06:14 -0400 (Wed, 12 Apr 2023).
| Hostname | OS | Arch (*) | R version | Installed pkgs |
|---|---|---|---|---|
| nebbiolo2 | Linux (Ubuntu 20.04.5 LTS) | x86_64 | 4.2.3 (2023-03-15) -- "Shortstop Beagle" | 4502 |
| palomino4 | Windows Server 2022 Datacenter | x64 | 4.2.3 (2023-03-15 ucrt) -- "Shortstop Beagle" | 4282 |
| lconway | macOS 12.5.1 Monterey | x86_64 | 4.2.3 (2023-03-15) -- "Shortstop Beagle" | 4310 |
| Click on any hostname to see more info about the system (e.g. compilers) (*) as reported by 'uname -p', except on Windows and Mac OS X | ||||
|
To the developers/maintainers of the megadepth package: - Please allow up to 24 hours (and sometimes 48 hours) for your latest push to git@git.bioconductor.org:packages/megadepth.git to reflect on this report. See How and When does the builder pull? When will my changes propagate? for more information. - Make sure to use the following settings in order to reproduce any error or warning you see on this page. |
| Package 1128/2183 | Hostname | OS / Arch | INSTALL | BUILD | CHECK | BUILD BIN | ||||||||
| megadepth 1.8.0 (landing page) David Zhang
| nebbiolo2 | Linux (Ubuntu 20.04.5 LTS) / x86_64 | OK | OK | ERROR | |||||||||
| palomino4 | Windows Server 2022 Datacenter / x64 | OK | OK | ERROR | OK | |||||||||
| lconway | macOS 12.5.1 Monterey / x86_64 | OK | OK | ERROR | OK | |||||||||
| Package: megadepth |
| Version: 1.8.0 |
| Command: /Library/Frameworks/R.framework/Resources/bin/R CMD check --install=check:megadepth.install-out.txt --library=/Library/Frameworks/R.framework/Resources/library --no-vignettes --timings megadepth_1.8.0.tar.gz |
| StartedAt: 2023-04-10 21:03:19 -0400 (Mon, 10 Apr 2023) |
| EndedAt: 2023-04-10 21:05:11 -0400 (Mon, 10 Apr 2023) |
| EllapsedTime: 111.5 seconds |
| RetCode: 1 |
| Status: ERROR |
| CheckDir: megadepth.Rcheck |
| Warnings: NA |
##############################################################################
##############################################################################
###
### Running command:
###
### /Library/Frameworks/R.framework/Resources/bin/R CMD check --install=check:megadepth.install-out.txt --library=/Library/Frameworks/R.framework/Resources/library --no-vignettes --timings megadepth_1.8.0.tar.gz
###
##############################################################################
##############################################################################
* using log directory ‘/Users/biocbuild/bbs-3.16-bioc/meat/megadepth.Rcheck’
* using R version 4.2.3 (2023-03-15)
* using platform: x86_64-apple-darwin17.0 (64-bit)
* using session charset: UTF-8
* using option ‘--no-vignettes’
* checking for file ‘megadepth/DESCRIPTION’ ... OK
* this is package ‘megadepth’ version ‘1.8.0’
* package encoding: UTF-8
* checking package namespace information ... OK
* checking package dependencies ... OK
* checking if this is a source package ... OK
* checking if there is a namespace ... OK
* checking for hidden files and directories ... OK
* checking for portable file names ... OK
* checking for sufficient/correct file permissions ... OK
* checking whether package ‘megadepth’ can be installed ... OK
* checking installed package size ... OK
* checking package directory ... OK
* checking ‘build’ directory ... OK
* checking DESCRIPTION meta-information ... OK
* checking top-level files ... OK
* checking for left-over files ... OK
* checking index information ... OK
* checking package subdirectories ... OK
* checking R files for non-ASCII characters ... OK
* checking R files for syntax errors ... OK
* checking whether the package can be loaded ... OK
* checking whether the package can be loaded with stated dependencies ... OK
* checking whether the package can be unloaded cleanly ... OK
* checking whether the namespace can be loaded with stated dependencies ... OK
* checking whether the namespace can be unloaded cleanly ... OK
* checking dependencies in R code ... OK
* checking S3 generic/method consistency ... OK
* checking replacement functions ... OK
* checking foreign function calls ... OK
* checking R code for possible problems ... OK
* checking Rd files ... OK
* checking Rd metadata ... OK
* checking Rd cross-references ... OK
* checking for missing documentation entries ... OK
* checking for code/documentation mismatches ... OK
* checking Rd \usage sections ... OK
* checking Rd contents ... OK
* checking for unstated dependencies in examples ... OK
* checking files in ‘vignettes’ ... OK
* checking examples ... OK
Examples with CPU (user + system) or elapsed time > 5s
user system elapsed
get_coverage 10.87 0.533 12.052
* checking for unstated dependencies in ‘tests’ ... OK
* checking tests ...
Running ‘testthat.R’
ERROR
Running the tests in ‘tests/testthat.R’ failed.
Last 13 lines of output:
[ FAIL 1 | WARN 1 | SKIP 0 | PASS 130 ]
══ Failed tests ════════════════════════════════════════════════════════════════
── Failure ('test-megadepth_main_tests.R:74:5'): test bigwig2mean on remote bw ──
readLines(file.path(tempdir(), "bw2.remote.mean.annotation.tsv")) (`actual`) not equal to readLines("https://raw.githubusercontent.com/ChristopherWilks/megadepth/master/tests/testbw2.bed.mean") (`expected`).
actual | expected
- "chr10\t0\t10\t0.00" [1]
- "chr10\t8756697\t8756762\t15.85" [2]
- "chr10\t4359156\t4359188\t3.00" [3]
- "GL000219.1\t168500\t168620\t1.26" [4]
[ FAIL 1 | WARN 1 | SKIP 0 | PASS 130 ]
Error: Test failures
Execution halted
* checking for unstated dependencies in vignettes ... OK
* checking package vignettes in ‘inst/doc’ ... OK
* checking running R code from vignettes ... SKIPPED
* checking re-building of vignette outputs ... SKIPPED
* checking PDF version of manual ... OK
* DONE
Status: 1 ERROR
See
‘/Users/biocbuild/bbs-3.16-bioc/meat/megadepth.Rcheck/00check.log’
for details.
megadepth.Rcheck/00install.out
############################################################################## ############################################################################## ### ### Running command: ### ### /Library/Frameworks/R.framework/Resources/bin/R CMD INSTALL megadepth ### ############################################################################## ############################################################################## * installing to library ‘/Library/Frameworks/R.framework/Versions/4.2/Resources/library’ * installing *source* package ‘megadepth’ ... ** using staged installation ** R ** inst ** byte-compile and prepare package for lazy loading ** help *** installing help indices ** building package indices ** installing vignettes ** testing if installed package can be loaded from temporary location ** testing if installed package can be loaded from final location ** testing if installed package keeps a record of temporary installation path * DONE (megadepth)
megadepth.Rcheck/tests/testthat.Rout.fail
R version 4.2.3 (2023-03-15) -- "Shortstop Beagle"
Copyright (C) 2023 The R Foundation for Statistical Computing
Platform: x86_64-apple-darwin17.0 (64-bit)
R is free software and comes with ABSOLUTELY NO WARRANTY.
You are welcome to redistribute it under certain conditions.
Type 'license()' or 'licence()' for distribution details.
R is a collaborative project with many contributors.
Type 'contributors()' for more information and
'citation()' on how to cite R or R packages in publications.
Type 'demo()' for some demos, 'help()' for on-line help, or
'help.start()' for an HTML browser interface to help.
Type 'q()' to quit R.
> library(testthat)
> library(megadepth)
>
> ## Install the latest version if necessary
> install_megadepth(force = TRUE)
The latest megadepth version is 1.2.0
This is not an interactive session, therefore megadepth has been installed temporarily to
/tmp/RtmpW1I5Vi/megadepth
>
> test_check("megadepth")
Processing BAM: "/Library/Frameworks/R.framework/Versions/4.2/Resources/library/megadepth/tests/test.bam"
Read 96 records
# of overlapping pairs: 27
Processing BAM: "/Library/Frameworks/R.framework/Versions/4.2/Resources/library/megadepth/tests/test2.bam"
Read 7 records
# of overlapping pairs: 0
Processing BAM: "/Library/Frameworks/R.framework/Versions/4.2/Resources/library/megadepth/tests/test2.bam"
Read 7 records
# of overlapping pairs: 0
Processing BAM: "/Library/Frameworks/R.framework/Versions/4.2/Resources/library/megadepth/tests/test2.bam"
Read 7 records
# of overlapping pairs: 0
Processing BAM: "/Library/Frameworks/R.framework/Versions/4.2/Resources/library/megadepth/tests/long_reads.bam"
Read 3 records
# of overlapping pairs: 0
Processing BAM: "/Library/Frameworks/R.framework/Versions/4.2/Resources/library/megadepth/tests/long_reads.bam"
Read 3 records
# of overlapping pairs: 0
unsorted interval: chr10 4359156 4359188
, falling back to slower matching (doesn't affect BAM processing)
For potentially faster BigWig reading performance, please sort your argument to --annotations (BED) file via sort -k1,1 -k2,2n and re-run megadepth.
building whole annotation region map done
2 chromosomes for annotated regions read
1 chromosomes for annotated regions read, collapsed
total number of annotations in collapsed: 1
Processing /Library/Frameworks/R.framework/Versions/4.2/Resources/library/megadepth/tests/test.bam.all.bw
unsorted interval: chr10 4359156 4359188
, falling back to slower matching (doesn't affect BAM processing)
For potentially faster BigWig reading performance, please sort your argument to --annotations (BED) file via sort -k1,1 -k2,2n and re-run megadepth.
building whole annotation region map done
2 chromosomes for annotated regions read
1 chromosomes for annotated regions read, collapsed
total number of annotations in collapsed: 1
Processing /Library/Frameworks/R.framework/Versions/4.2/Resources/library/megadepth/tests/test.bam.all.bw
The latest megadepth version is 1.2.0
building whole annotation region map done
2 chromosomes for annotated regions read
0 chromosomes for annotated regions read, collapsed
total number of annotations in collapsed: 0
Processing BAM: "/Library/Frameworks/R.framework/Versions/4.2/Resources/library/megadepth/tests/test.bam"
Read 92 records
# of overlapping pairs: 27
Processing /tmp/RtmpW1I5Vi/test.bam.all.bw
Processing BAM: "/Library/Frameworks/R.framework/Versions/4.2/Resources/library/megadepth/tests/test3.bam"
Read 12 records
# of overlapping pairs: 3
unsorted interval: chr10 4359156 4359188
, falling back to slower matching (doesn't affect BAM processing)
For potentially faster BigWig reading performance, please sort your argument to --annotations (BED) file via sort -k1,1 -k2,2n and re-run megadepth.
building whole annotation region map done
2 chromosomes for annotated regions read
1 chromosomes for annotated regions read, collapsed
total number of annotations in collapsed: 1
Processing http://stingray.cs.jhu.edu/data/temp/megadepth.test.bam.all.bw
[urlOpen] curl_easy_perform received an error: Couldn't resolve host name
[bwOpen] urlOpen is NULL!
Error in opening http://stingray.cs.jhu.edu/data/temp/megadepth.test.bam.all.bw as BigWig file, exiting
unsorted interval: chr10 4359156 4359188
, falling back to slower matching (doesn't affect BAM processing)
For potentially faster BigWig reading performance, please sort your argument to --annotations (BED) file via sort -k1,1 -k2,2n and re-run megadepth.
building whole annotation region map done
2 chromosomes for annotated regions read
1 chromosomes for annotated regions read, collapsed
total number of annotations in collapsed: 1
Processing /tmp/RtmpW1I5Vi/test.bam.all.bw
Processing BAM: "/Library/Frameworks/R.framework/Versions/4.2/Resources/library/megadepth/tests/test2.bam"
Read 7 records
# of overlapping pairs: 0
Processing BAM: "/Library/Frameworks/R.framework/Versions/4.2/Resources/library/megadepth/tests/test2.bam"
Read 7 records
# of overlapping pairs: 0
trying URL 'https://raw.githubusercontent.com/ChristopherWilks/megadepth/master/junctions/process_jx_output.sh'
Content type 'text/plain; charset=utf-8' length 2472 bytes
==================================================
downloaded 2472 bytes
Processing BAM: "/Library/Frameworks/R.framework/Versions/4.2/Resources/library/megadepth/tests/test.bam"
Read 96 records
# of overlapping pairs: 0
+ jx_file=/tmp/RtmpW1I5Vi/test.bam.all_jxs.tsv
+ export LC_ALL=C
+ LC_ALL=C
+ sort -k2,2 -k3,3n -k4,4n -k1,1 -u /tmp/RtmpW1I5Vi/test.bam.all_jxs.tsv
+ cut -f 1,2-4,6,7
+ perl -ne 'chomp; ($qname,$c,$s,$e,$cigar,$is_unique)=split(/\t/,$_); if($pc) { if($s == $ps && $e == $pe) { if($is_unique == 1) { $ucnt++; } else { $cnt++; } next; } else { print "$pc\t$ps\t$pe\t0\t0\t0\t$ucnt\t$cnt\t\n"; }} $ucnt=0; $cnt=0; if($is_unique == 1) { $ucnt=1; } else { $cnt=1; } $pc=$c; $ps=$s; $pe=$e; END { if($pc) { print "$pc\t$ps\t$pe\t0\t0\t0\t$ucnt\t$cnt\t\n"; }}'
Rows: 5 Columns: 9
-- Column specification --------------------------------------------------------
Delimiter: "\t"
chr (1): chr
dbl (7): start, end, strand, intron_motif, annotated, uniquely_mapping_reads...
lgl (1): X9
i Use `spec()` to retrieve the full column specification for this data.
i Specify the column types or set `show_col_types = FALSE` to quiet this message.
+ jx_file=/tmp/RtmpW1I5Vi/test2.bam.all_jxs.tsv
+ export LC_ALL=C
+ LC_ALL=C
+ sort -k2,2 -k3,3n -k4,4n -k1,1 -u /tmp/RtmpW1I5Vi/test2.bam.all_jxs.tsv
+ cut -f 1,2-4,6,7
+ perl -ne 'chomp; ($qname,$c,$s,$e,$cigar,$is_unique)=split(/\t/,$_); if($pc) { if($s == $ps && $e == $pe) { if($is_unique == 1) { $ucnt++; } else { $cnt++; } next; } else { print "$pc\t$ps\t$pe\t0\t0\t0\t$ucnt\t$cnt\t\n"; }} $ucnt=0; $cnt=0; if($is_unique == 1) { $ucnt=1; } else { $cnt=1; } $pc=$c; $ps=$s; $pe=$e; END { if($pc) { print "$pc\t$ps\t$pe\t0\t0\t0\t$ucnt\t$cnt\t\n"; }}'
Rows: 4 Columns: 9
-- Column specification --------------------------------------------------------
Delimiter: "\t"
chr (1): chr
dbl (7): start, end, strand, intron_motif, annotated, uniquely_mapping_reads...
lgl (1): X9
i Use `spec()` to retrieve the full column specification for this data.
i Specify the column types or set `show_col_types = FALSE` to quiet this message.
[ FAIL 1 | WARN 1 | SKIP 0 | PASS 130 ]
══ Failed tests ════════════════════════════════════════════════════════════════
── Failure ('test-megadepth_main_tests.R:74:5'): test bigwig2mean on remote bw ──
readLines(file.path(tempdir(), "bw2.remote.mean.annotation.tsv")) (`actual`) not equal to readLines("https://raw.githubusercontent.com/ChristopherWilks/megadepth/master/tests/testbw2.bed.mean") (`expected`).
actual | expected
- "chr10\t0\t10\t0.00" [1]
- "chr10\t8756697\t8756762\t15.85" [2]
- "chr10\t4359156\t4359188\t3.00" [3]
- "GL000219.1\t168500\t168620\t1.26" [4]
[ FAIL 1 | WARN 1 | SKIP 0 | PASS 130 ]
Error: Test failures
Execution halted
megadepth.Rcheck/megadepth-Ex.timings
| name | user | system | elapsed | |
| bam_to_bigwig | 1.280 | 0.373 | 3.464 | |
| bam_to_junctions | 0.155 | 0.044 | 0.957 | |
| get_coverage | 10.870 | 0.533 | 12.052 | |
| install_megadepth | 0.060 | 0.033 | 0.606 | |
| megadepth_cmd | 0.214 | 0.078 | 1.459 | |
| process_junction_table | 0.275 | 0.054 | 0.971 | |
| read_coverage | 0.261 | 0.072 | 0.893 | |
| read_junction_table | 0.312 | 0.073 | 1.306 | |