| Back to Multiple platform build/check report for BioC 3.16: simplified long |
|
This page was generated on 2023-04-12 11:05:09 -0400 (Wed, 12 Apr 2023).
| Hostname | OS | Arch (*) | R version | Installed pkgs |
|---|---|---|---|---|
| nebbiolo2 | Linux (Ubuntu 20.04.5 LTS) | x86_64 | 4.2.3 (2023-03-15) -- "Shortstop Beagle" | 4502 |
| palomino4 | Windows Server 2022 Datacenter | x64 | 4.2.3 (2023-03-15 ucrt) -- "Shortstop Beagle" | 4282 |
| lconway | macOS 12.5.1 Monterey | x86_64 | 4.2.3 (2023-03-15) -- "Shortstop Beagle" | 4310 |
| Click on any hostname to see more info about the system (e.g. compilers) (*) as reported by 'uname -p', except on Windows and Mac OS X | ||||
|
To the developers/maintainers of the mbOmic package: - Please allow up to 24 hours (and sometimes 48 hours) for your latest push to git@git.bioconductor.org:packages/mbOmic.git to reflect on this report. See How and When does the builder pull? When will my changes propagate? for more information. - Make sure to use the following settings in order to reproduce any error or warning you see on this page. |
| Package 1113/2183 | Hostname | OS / Arch | INSTALL | BUILD | CHECK | BUILD BIN | ||||||||
| mbOmic 1.2.0 (landing page) Congcong Gong
| nebbiolo2 | Linux (Ubuntu 20.04.5 LTS) / x86_64 | OK | OK | OK | |||||||||
| palomino4 | Windows Server 2022 Datacenter / x64 | OK | OK | OK | OK | |||||||||
| lconway | macOS 12.5.1 Monterey / x86_64 | OK | OK | OK | OK | |||||||||
| Package: mbOmic |
| Version: 1.2.0 |
| Command: /home/biocbuild/bbs-3.16-bioc/R/bin/R CMD check --install=check:mbOmic.install-out.txt --library=/home/biocbuild/bbs-3.16-bioc/R/site-library --timings mbOmic_1.2.0.tar.gz |
| StartedAt: 2023-04-10 21:44:07 -0400 (Mon, 10 Apr 2023) |
| EndedAt: 2023-04-10 21:47:29 -0400 (Mon, 10 Apr 2023) |
| EllapsedTime: 202.4 seconds |
| RetCode: 0 |
| Status: OK |
| CheckDir: mbOmic.Rcheck |
| Warnings: 0 |
##############################################################################
##############################################################################
###
### Running command:
###
### /home/biocbuild/bbs-3.16-bioc/R/bin/R CMD check --install=check:mbOmic.install-out.txt --library=/home/biocbuild/bbs-3.16-bioc/R/site-library --timings mbOmic_1.2.0.tar.gz
###
##############################################################################
##############################################################################
* using log directory ‘/home/biocbuild/bbs-3.16-bioc/meat/mbOmic.Rcheck’
* using R version 4.2.3 (2023-03-15)
* using platform: x86_64-pc-linux-gnu (64-bit)
* using session charset: UTF-8
* checking for file ‘mbOmic/DESCRIPTION’ ... OK
* checking extension type ... Package
* this is package ‘mbOmic’ version ‘1.2.0’
* package encoding: UTF-8
* checking package namespace information ... OK
* checking package dependencies ... OK
* checking if this is a source package ... OK
* checking if there is a namespace ... OK
* checking for hidden files and directories ... OK
* checking for portable file names ... OK
* checking for sufficient/correct file permissions ... OK
* checking whether package ‘mbOmic’ can be installed ... OK
* checking installed package size ... OK
* checking package directory ... OK
* checking ‘build’ directory ... OK
* checking DESCRIPTION meta-information ... OK
* checking top-level files ... OK
* checking for left-over files ... OK
* checking index information ... OK
* checking package subdirectories ... OK
* checking R files for non-ASCII characters ... OK
* checking R files for syntax errors ... OK
* checking whether the package can be loaded ... OK
* checking whether the package can be loaded with stated dependencies ... OK
* checking whether the package can be unloaded cleanly ... OK
* checking whether the namespace can be loaded with stated dependencies ... OK
* checking whether the namespace can be unloaded cleanly ... OK
* checking loading without being on the library search path ... OK
* checking dependencies in R code ... OK
* checking S3 generic/method consistency ... OK
* checking replacement functions ... OK
* checking foreign function calls ... OK
* checking R code for possible problems ... OK
* checking Rd files ... OK
* checking Rd metadata ... OK
* checking Rd cross-references ... OK
* checking for missing documentation entries ... OK
* checking for code/documentation mismatches ... OK
* checking Rd \usage sections ... OK
* checking Rd contents ... OK
* checking for unstated dependencies in examples ... OK
* checking files in ‘vignettes’ ... OK
* checking examples ... OK
Examples with CPU (user + system) or elapsed time > 5s
user system elapsed
coExpress 12.245 0.144 12.370
plot_network 10.784 0.216 10.991
plot_coExpress 8.757 0.520 9.277
* checking for unstated dependencies in ‘tests’ ... OK
* checking tests ...
Running ‘testthat.R’
OK
* checking for unstated dependencies in vignettes ... OK
* checking package vignettes in ‘inst/doc’ ... OK
* checking running R code from vignettes ...
‘Integrative_analysis_of_metabolome_and_microbiome.Rmd’ using ‘UTF-8’... OK
‘enterotyping.Rmd’ using ‘UTF-8’... OK
NONE
* checking re-building of vignette outputs ... OK
* checking PDF version of manual ... OK
* DONE
Status: OK
mbOmic.Rcheck/00install.out
############################################################################## ############################################################################## ### ### Running command: ### ### /home/biocbuild/bbs-3.16-bioc/R/bin/R CMD INSTALL mbOmic ### ############################################################################## ############################################################################## * installing to library ‘/home/biocbuild/bbs-3.16-bioc/R/site-library’ * installing *source* package ‘mbOmic’ ... ** using staged installation ** R ** inst ** byte-compile and prepare package for lazy loading Creating a generic function for ‘nrow’ from package ‘base’ in package ‘mbOmic’ Creating a generic function for ‘ncol’ from package ‘base’ in package ‘mbOmic’ ** help *** installing help indices ** building package indices ** installing vignettes ** testing if installed package can be loaded from temporary location ** testing if installed package can be loaded from final location ** testing if installed package keeps a record of temporary installation path * DONE (mbOmic)
mbOmic.Rcheck/tests/testthat.Rout
R version 4.2.3 (2023-03-15) -- "Shortstop Beagle"
Copyright (C) 2023 The R Foundation for Statistical Computing
Platform: x86_64-pc-linux-gnu (64-bit)
R is free software and comes with ABSOLUTELY NO WARRANTY.
You are welcome to redistribute it under certain conditions.
Type 'license()' or 'licence()' for distribution details.
R is a collaborative project with many contributors.
Type 'contributors()' for more information and
'citation()' on how to cite R or R packages in publications.
Type 'demo()' for some demos, 'help()' for on-line help, or
'help.start()' for an HTML browser interface to help.
Type 'q()' to quit R.
> library(testthat)
> library(mbOmic)
>
> test_check("mbOmic")
[ FAIL 0 | WARN 1 | SKIP 0 | PASS 1 ]
[ FAIL 0 | WARN 1 | SKIP 0 | PASS 1 ]
>
> proc.time()
user system elapsed
6.500 0.374 6.859
mbOmic.Rcheck/mbOmic-Ex.timings
| name | user | system | elapsed | |
| Set-class | 0 | 0 | 0 | |
| bSet-class | 0.039 | 0.004 | 0.044 | |
| bSet | 0.003 | 0.000 | 0.002 | |
| clean_analytes | 0.018 | 0.000 | 0.018 | |
| cluster_jsd | 0.009 | 0.000 | 0.009 | |
| coExpress | 12.245 | 0.144 | 12.370 | |
| corr | 2.732 | 0.024 | 2.747 | |
| dist_jsd | 0.003 | 0.000 | 0.003 | |
| enterotyping | 0.055 | 0.016 | 2.625 | |
| estimate_k | 0.140 | 0.030 | 0.169 | |
| features | 0.013 | 0.012 | 0.024 | |
| mSet-class | 0.002 | 0.000 | 0.003 | |
| mSet | 0.004 | 0.000 | 0.004 | |
| plot_coExpress | 8.757 | 0.520 | 9.277 | |
| plot_network | 10.784 | 0.216 | 10.991 | |
| print.verCHI | 0.022 | 0.000 | 0.021 | |
| samples | 0.018 | 0.000 | 0.017 | |
| vmh-class | 0.002 | 0.000 | 0.003 | |