| Back to Multiple platform build/check report for BioC 3.16: simplified long |
|
This page was generated on 2023-04-12 11:05:38 -0400 (Wed, 12 Apr 2023).
| Hostname | OS | Arch (*) | R version | Installed pkgs |
|---|---|---|---|---|
| nebbiolo2 | Linux (Ubuntu 20.04.5 LTS) | x86_64 | 4.2.3 (2023-03-15) -- "Shortstop Beagle" | 4502 |
| palomino4 | Windows Server 2022 Datacenter | x64 | 4.2.3 (2023-03-15 ucrt) -- "Shortstop Beagle" | 4282 |
| lconway | macOS 12.5.1 Monterey | x86_64 | 4.2.3 (2023-03-15) -- "Shortstop Beagle" | 4310 |
| Click on any hostname to see more info about the system (e.g. compilers) (*) as reported by 'uname -p', except on Windows and Mac OS X | ||||
|
To the developers/maintainers of the maanova package: - Please allow up to 24 hours (and sometimes 48 hours) for your latest push to git@git.bioconductor.org:packages/maanova.git to reflect on this report. See How and When does the builder pull? When will my changes propagate? for more information. - Make sure to use the following settings in order to reproduce any error or warning you see on this page. |
| Package 1070/2183 | Hostname | OS / Arch | INSTALL | BUILD | CHECK | BUILD BIN | ||||||||
| maanova 1.68.2 (landing page) Keith Sheppard
| nebbiolo2 | Linux (Ubuntu 20.04.5 LTS) / x86_64 | OK | OK | OK | |||||||||
| palomino4 | Windows Server 2022 Datacenter / x64 | OK | OK | OK | OK | |||||||||
| lconway | macOS 12.5.1 Monterey / x86_64 | OK | OK | WARNINGS | OK | |||||||||
| Package: maanova |
| Version: 1.68.2 |
| Command: rm -rf maanova.buildbin-libdir && mkdir maanova.buildbin-libdir && F:\biocbuild\bbs-3.16-bioc\R\bin\R.exe CMD INSTALL --build --library=maanova.buildbin-libdir maanova_1.68.2.tar.gz |
| StartedAt: 2023-04-11 08:14:20 -0400 (Tue, 11 Apr 2023) |
| EndedAt: 2023-04-11 08:14:47 -0400 (Tue, 11 Apr 2023) |
| EllapsedTime: 26.7 seconds |
| RetCode: 0 |
| Status: OK |
| PackageFile: maanova_1.68.2.zip |
| PackageFileSize: 1.236 MiB |
##############################################################################
##############################################################################
###
### Running command:
###
### rm -rf maanova.buildbin-libdir && mkdir maanova.buildbin-libdir && F:\biocbuild\bbs-3.16-bioc\R\bin\R.exe CMD INSTALL --build --library=maanova.buildbin-libdir maanova_1.68.2.tar.gz
###
##############################################################################
##############################################################################
* installing *source* package 'maanova' ...
** using staged installation
** libs
gcc -I"F:/biocbuild/bbs-3.16-bioc/R/include" -DNDEBUG -I"C:/rtools42/x86_64-w64-mingw32.static.posix/include" -O2 -Wall -std=gnu99 -mfpmath=sse -msse2 -mstackrealign -c makeratio.c -o makeratio.o
gcc -I"F:/biocbuild/bbs-3.16-bioc/R/include" -DNDEBUG -I"C:/rtools42/x86_64-w64-mingw32.static.posix/include" -O2 -Wall -std=gnu99 -mfpmath=sse -msse2 -mstackrealign -c masvd.c -o masvd.o
masvd.c:114:2: warning: "/*" within comment [-Wcomment]
114 | /* work on a copy of x */
|
masvd.c:154:1: warning: "/*" within comment [-Wcomment]
154 | /*#ifndef IEEE_754
|
masvd.c:161:5: warning: "/*" within comment [-Wcomment]
161 | /* work on a copy of x */
|
masvd.c:165:2: warning: "/*" within comment [-Wcomment]
165 | /* ask for optimal size of work array */
|
masvd.c:189:2: warning: "/*" within comment [-Wcomment]
189 | /* ask for optimal size of work array */
|
gcc -I"F:/biocbuild/bbs-3.16-bioc/R/include" -DNDEBUG -I"C:/rtools42/x86_64-w64-mingw32.static.posix/include" -O2 -Wall -std=gnu99 -mfpmath=sse -msse2 -mstackrealign -c shift.c -o shift.o
shift.c: In function 'shift':
shift.c:27:13: warning: unused variable 'k' [-Wunused-variable]
27 | int i, j, k;
| ^
gcc -I"F:/biocbuild/bbs-3.16-bioc/R/include" -DNDEBUG -I"C:/rtools42/x86_64-w64-mingw32.static.posix/include" -O2 -Wall -std=gnu99 -mfpmath=sse -msse2 -mstackrealign -c util.c -o util.o
gcc -shared -s -static-libgcc -o maanova.dll tmp.def makeratio.o masvd.o shift.o util.o -LF:/biocbuild/bbs-3.16-bioc/R/bin/x64 -lRlapack -LC:/rtools42/x86_64-w64-mingw32.static.posix/lib/x64 -LC:/rtools42/x86_64-w64-mingw32.static.posix/lib -LF:/biocbuild/bbs-3.16-bioc/R/bin/x64 -lR
installing to F:/biocbuild/bbs-3.16-bioc/meat/maanova.buildbin-libdir/00LOCK-maanova/00new/maanova/libs/x64
** R
** data
** demo
** inst
** byte-compile and prepare package for lazy loading
** help
*** installing help indices
** building package indices
** installing vignettes
** testing if installed package can be loaded from temporary location
** testing if installed package can be loaded from final location
** testing if installed package keeps a record of temporary installation path
* MD5 sums
packaged installation of 'maanova' as maanova_1.68.2.zip
* DONE (maanova)