| Back to Multiple platform build/check report for BioC 3.16: simplified long |
|
This page was generated on 2023-04-12 11:05:38 -0400 (Wed, 12 Apr 2023).
| Hostname | OS | Arch (*) | R version | Installed pkgs |
|---|---|---|---|---|
| nebbiolo2 | Linux (Ubuntu 20.04.5 LTS) | x86_64 | 4.2.3 (2023-03-15) -- "Shortstop Beagle" | 4502 |
| palomino4 | Windows Server 2022 Datacenter | x64 | 4.2.3 (2023-03-15 ucrt) -- "Shortstop Beagle" | 4282 |
| lconway | macOS 12.5.1 Monterey | x86_64 | 4.2.3 (2023-03-15) -- "Shortstop Beagle" | 4310 |
| Click on any hostname to see more info about the system (e.g. compilers) (*) as reported by 'uname -p', except on Windows and Mac OS X | ||||
|
To the developers/maintainers of the lisaClust package: - Please allow up to 24 hours (and sometimes 48 hours) for your latest push to git@git.bioconductor.org:packages/lisaClust.git to reflect on this report. See How and When does the builder pull? When will my changes propagate? for more information. - Make sure to use the following settings in order to reproduce any error or warning you see on this page. |
| Package 1050/2183 | Hostname | OS / Arch | INSTALL | BUILD | CHECK | BUILD BIN | ||||||||
| lisaClust 1.6.3 (landing page) Ellis Patrick
| nebbiolo2 | Linux (Ubuntu 20.04.5 LTS) / x86_64 | OK | OK | OK | |||||||||
| palomino4 | Windows Server 2022 Datacenter / x64 | OK | OK | OK | OK | |||||||||
| lconway | macOS 12.5.1 Monterey / x86_64 | OK | OK | OK | OK | |||||||||
| Package: lisaClust |
| Version: 1.6.3 |
| Command: F:\biocbuild\bbs-3.16-bioc\R\bin\R.exe CMD check --no-multiarch --install=check:lisaClust.install-out.txt --library=F:\biocbuild\bbs-3.16-bioc\R\library --no-vignettes --timings lisaClust_1.6.3.tar.gz |
| StartedAt: 2023-04-11 02:49:12 -0400 (Tue, 11 Apr 2023) |
| EndedAt: 2023-04-11 02:53:06 -0400 (Tue, 11 Apr 2023) |
| EllapsedTime: 233.6 seconds |
| RetCode: 0 |
| Status: OK |
| CheckDir: lisaClust.Rcheck |
| Warnings: 0 |
##############################################################################
##############################################################################
###
### Running command:
###
### F:\biocbuild\bbs-3.16-bioc\R\bin\R.exe CMD check --no-multiarch --install=check:lisaClust.install-out.txt --library=F:\biocbuild\bbs-3.16-bioc\R\library --no-vignettes --timings lisaClust_1.6.3.tar.gz
###
##############################################################################
##############################################################################
* using log directory 'F:/biocbuild/bbs-3.16-bioc/meat/lisaClust.Rcheck'
* using R version 4.2.3 (2023-03-15 ucrt)
* using platform: x86_64-w64-mingw32 (64-bit)
* using session charset: UTF-8
* using option '--no-vignettes'
* checking for file 'lisaClust/DESCRIPTION' ... OK
* checking extension type ... Package
* this is package 'lisaClust' version '1.6.3'
* package encoding: UTF-8
* checking package namespace information ... OK
* checking package dependencies ... OK
* checking if this is a source package ... OK
* checking if there is a namespace ... OK
* checking for hidden files and directories ... OK
* checking for portable file names ... OK
* checking whether package 'lisaClust' can be installed ... OK
* checking installed package size ... OK
* checking package directory ... OK
* checking 'build' directory ... OK
* checking DESCRIPTION meta-information ... OK
* checking top-level files ... OK
* checking for left-over files ... OK
* checking index information ... OK
* checking package subdirectories ... OK
* checking R files for non-ASCII characters ... OK
* checking R files for syntax errors ... OK
* checking whether the package can be loaded ... OK
* checking whether the package can be loaded with stated dependencies ... OK
* checking whether the package can be unloaded cleanly ... OK
* checking whether the namespace can be loaded with stated dependencies ... OK
* checking whether the namespace can be unloaded cleanly ... OK
* checking dependencies in R code ... OK
* checking S3 generic/method consistency ... OK
* checking replacement functions ... OK
* checking foreign function calls ... OK
* checking R code for possible problems ... NOTE
getK: no visible binding for global variable 'j'
getK: no visible binding for global variable 'cellTypeI'
getK: no visible binding for global variable 'i'
getK: no visible binding for global variable 'd'
getK: no visible binding for global variable 'cellTypeJ'
getK: no visible binding for global variable 'value'
getK: no visible global function definition for '.'
getK: no visible binding for global variable 'wt'
getL: no visible binding for global variable 'j'
getL: no visible binding for global variable 'cellTypeI'
getL: no visible binding for global variable 'i'
getL: no visible binding for global variable 'd'
getL: no visible binding for global variable 'cellTypeJ'
getL: no visible binding for global variable 'value'
getL: no visible global function definition for '.'
getL: no visible binding for global variable 'wt'
inhomLocalK: no visible binding for global variable 'i'
regionMap: no visible binding for global variable 'Var1'
regionMap: no visible binding for global variable 'Var2'
regionMap: no visible binding for global variable 'Freq'
regionMap: no visible binding for global variable 'Freq2'
Undefined global functions or variables:
. Freq Freq2 Var1 Var2 cellTypeI cellTypeJ d i j value wt
* checking Rd files ... OK
* checking Rd metadata ... OK
* checking Rd cross-references ... OK
* checking for missing documentation entries ... OK
* checking for code/documentation mismatches ... OK
* checking Rd \usage sections ... OK
* checking Rd contents ... OK
* checking for unstated dependencies in examples ... OK
* checking files in 'vignettes' ... OK
* checking examples ... OK
Examples with CPU (user + system) or elapsed time > 5s
user system elapsed
lisa 9.42 0.27 9.59
hatchingPlot 8.45 0.27 8.60
lisaClust 7.99 0.16 7.97
scale_region 6.36 0.17 6.35
* checking for unstated dependencies in vignettes ... OK
* checking package vignettes in 'inst/doc' ... OK
* checking running R code from vignettes ... SKIPPED
* checking re-building of vignette outputs ... SKIPPED
* checking PDF version of manual ... OK
* DONE
Status: 1 NOTE
See
'F:/biocbuild/bbs-3.16-bioc/meat/lisaClust.Rcheck/00check.log'
for details.
lisaClust.Rcheck/00install.out
############################################################################## ############################################################################## ### ### Running command: ### ### F:\biocbuild\bbs-3.16-bioc\R\bin\R.exe CMD INSTALL lisaClust ### ############################################################################## ############################################################################## * installing to library 'F:/biocbuild/bbs-3.16-bioc/R/library' * installing *source* package 'lisaClust' ... ** using staged installation ** R ** inst ** byte-compile and prepare package for lazy loading ** help *** installing help indices ** building package indices ** installing vignettes ** testing if installed package can be loaded from temporary location ** testing if installed package can be loaded from final location ** testing if installed package keeps a record of temporary installation path * DONE (lisaClust)
lisaClust.Rcheck/lisaClust-Ex.timings
| name | user | system | elapsed | |
| hatchingPlot | 8.45 | 0.27 | 8.60 | |
| inhomLocalK | 0.44 | 0.00 | 0.44 | |
| lisa | 9.42 | 0.27 | 9.59 | |
| lisaClust | 7.99 | 0.16 | 7.97 | |
| regionMap | 4.64 | 0.12 | 4.72 | |
| scale_region | 6.36 | 0.17 | 6.35 | |