| Back to Multiple platform build/check report for BioC 3.16: simplified long |
|
This page was generated on 2023-04-12 11:05:07 -0400 (Wed, 12 Apr 2023).
| Hostname | OS | Arch (*) | R version | Installed pkgs |
|---|---|---|---|---|
| nebbiolo2 | Linux (Ubuntu 20.04.5 LTS) | x86_64 | 4.2.3 (2023-03-15) -- "Shortstop Beagle" | 4502 |
| palomino4 | Windows Server 2022 Datacenter | x64 | 4.2.3 (2023-03-15 ucrt) -- "Shortstop Beagle" | 4282 |
| lconway | macOS 12.5.1 Monterey | x86_64 | 4.2.3 (2023-03-15) -- "Shortstop Beagle" | 4310 |
| Click on any hostname to see more info about the system (e.g. compilers) (*) as reported by 'uname -p', except on Windows and Mac OS X | ||||
|
To the developers/maintainers of the intansv package: - Please allow up to 24 hours (and sometimes 48 hours) for your latest push to git@git.bioconductor.org:packages/intansv.git to reflect on this report. See How and When does the builder pull? When will my changes propagate? for more information. - Make sure to use the following settings in order to reproduce any error or warning you see on this page. |
| Package 978/2183 | Hostname | OS / Arch | INSTALL | BUILD | CHECK | BUILD BIN | ||||||||
| intansv 1.38.0 (landing page) Wen Yao
| nebbiolo2 | Linux (Ubuntu 20.04.5 LTS) / x86_64 | OK | OK | OK | |||||||||
| palomino4 | Windows Server 2022 Datacenter / x64 | OK | OK | OK | OK | |||||||||
| lconway | macOS 12.5.1 Monterey / x86_64 | OK | OK | OK | OK | |||||||||
| Package: intansv |
| Version: 1.38.0 |
| Command: /home/biocbuild/bbs-3.16-bioc/R/bin/R CMD check --install=check:intansv.install-out.txt --library=/home/biocbuild/bbs-3.16-bioc/R/site-library --timings intansv_1.38.0.tar.gz |
| StartedAt: 2023-04-10 21:25:46 -0400 (Mon, 10 Apr 2023) |
| EndedAt: 2023-04-10 21:33:08 -0400 (Mon, 10 Apr 2023) |
| EllapsedTime: 442.8 seconds |
| RetCode: 0 |
| Status: OK |
| CheckDir: intansv.Rcheck |
| Warnings: 0 |
##############################################################################
##############################################################################
###
### Running command:
###
### /home/biocbuild/bbs-3.16-bioc/R/bin/R CMD check --install=check:intansv.install-out.txt --library=/home/biocbuild/bbs-3.16-bioc/R/site-library --timings intansv_1.38.0.tar.gz
###
##############################################################################
##############################################################################
* using log directory ‘/home/biocbuild/bbs-3.16-bioc/meat/intansv.Rcheck’
* using R version 4.2.3 (2023-03-15)
* using platform: x86_64-pc-linux-gnu (64-bit)
* using session charset: UTF-8
* checking for file ‘intansv/DESCRIPTION’ ... OK
* this is package ‘intansv’ version ‘1.38.0’
* checking package namespace information ... OK
* checking package dependencies ... OK
* checking if this is a source package ... OK
* checking if there is a namespace ... OK
* checking for hidden files and directories ... OK
* checking for portable file names ... OK
* checking for sufficient/correct file permissions ... OK
* checking whether package ‘intansv’ can be installed ... OK
* checking installed package size ... OK
* checking package directory ... OK
* checking ‘build’ directory ... OK
* checking DESCRIPTION meta-information ... OK
* checking top-level files ... OK
* checking for left-over files ... OK
* checking index information ... OK
* checking package subdirectories ... OK
* checking R files for non-ASCII characters ... OK
* checking R files for syntax errors ... OK
* checking whether the package can be loaded ... OK
* checking whether the package can be loaded with stated dependencies ... OK
* checking whether the package can be unloaded cleanly ... OK
* checking whether the namespace can be loaded with stated dependencies ... OK
* checking whether the namespace can be unloaded cleanly ... OK
* checking loading without being on the library search path ... OK
* checking dependencies in R code ... OK
* checking S3 generic/method consistency ... OK
* checking replacement functions ... OK
* checking foreign function calls ... OK
* checking R code for possible problems ... NOTE
DellyCluster: no visible global function definition for 'subjectHits'
LumpyCluster: no visible global function definition for 'subjectHits'
PindelCluster: no visible global function definition for 'subjectHits'
breakDancerCluster: no visible global function definition for
'subjectHits'
mergeOLCNVs: no visible global function definition for 'subjectHits'
methodsMerge: no visible global function definition for 'subjectHits'
plotChromosome: no visible global function definition for 'queryHits'
plotChromosome: no visible global function definition for 'subjectHits'
plotChromosome: no visible global function definition for
'seqlengths<-'
plotChromosome: no visible global function definition for 'seqlengths'
plotChromosome: no visible global function definition for 'aes'
plotRegion: no visible global function definition for 'seqlengths<-'
plotRegion: no visible global function definition for 'subjectHits'
plotRegion: no visible global function definition for 'aes'
plotRegion: no visible binding for global variable 'name'
readCnvnator: no visible global function definition for 'subjectHits'
readDelly: no visible global function definition for 'subjectHits'
readLumpy: no visible global function definition for 'subjectHits'
readPindel: no visible global function definition for 'subjectHits'
readSoftSearch: no visible global function definition for 'subjectHits'
readSvseq: no visible global function definition for 'subjectHits'
readSvseq : <anonymous>: no visible global function definition for
'subjectHits'
softSearchCluster: no visible global function definition for
'subjectHits'
tellOLPercantage: no visible global function definition for 'queryHits'
tellOLPercantage: no visible global function definition for
'subjectHits'
Undefined global functions or variables:
aes name queryHits seqlengths seqlengths<- subjectHits
* checking Rd files ... OK
* checking Rd metadata ... OK
* checking Rd cross-references ... OK
* checking for missing documentation entries ... OK
* checking for code/documentation mismatches ... OK
* checking Rd \usage sections ... OK
* checking Rd contents ... OK
* checking for unstated dependencies in examples ... OK
* checking files in ‘vignettes’ ... OK
* checking examples ... OK
Examples with CPU (user + system) or elapsed time > 5s
user system elapsed
methodsMerge 18.407 0.484 18.894
* checking for unstated dependencies in vignettes ... OK
* checking package vignettes in ‘inst/doc’ ... OK
* checking running R code from vignettes ...
‘intansvOverview.Rnw’... OK
OK
* checking re-building of vignette outputs ... OK
* checking PDF version of manual ... OK
* DONE
Status: 1 NOTE
See
‘/home/biocbuild/bbs-3.16-bioc/meat/intansv.Rcheck/00check.log’
for details.
intansv.Rcheck/00install.out
############################################################################## ############################################################################## ### ### Running command: ### ### /home/biocbuild/bbs-3.16-bioc/R/bin/R CMD INSTALL intansv ### ############################################################################## ############################################################################## * installing to library ‘/home/biocbuild/bbs-3.16-bioc/R/site-library’ * installing *source* package ‘intansv’ ... ** using staged installation ** R ** inst ** byte-compile and prepare package for lazy loading ** help *** installing help indices ** building package indices ** installing vignettes ** testing if installed package can be loaded from temporary location ** testing if installed package can be loaded from final location ** testing if installed package keeps a record of temporary installation path * DONE (intansv)
intansv.Rcheck/intansv-Ex.timings
| name | user | system | elapsed | |
| methodsMerge | 18.407 | 0.484 | 18.894 | |
| plotChromosome | 4.031 | 0.032 | 4.063 | |
| plotRegion | 3.314 | 0.032 | 3.346 | |
| readBreakDancer | 1.016 | 0.048 | 1.063 | |
| readCnvnator | 0.493 | 0.004 | 0.497 | |
| readDelly | 2.508 | 0.064 | 2.572 | |
| readLumpy | 2.897 | 0.004 | 2.901 | |
| readPindel | 2.36 | 0.00 | 2.36 | |
| readSoftSearch | 0.260 | 0.004 | 0.264 | |
| readSvseq | 0.246 | 0.000 | 0.245 | |
| svAnnotation | 1.064 | 0.008 | 1.072 | |