| Back to Multiple platform build/check report for BioC 3.16: simplified long |
|
This page was generated on 2023-04-12 11:06:11 -0400 (Wed, 12 Apr 2023).
| Hostname | OS | Arch (*) | R version | Installed pkgs |
|---|---|---|---|---|
| nebbiolo2 | Linux (Ubuntu 20.04.5 LTS) | x86_64 | 4.2.3 (2023-03-15) -- "Shortstop Beagle" | 4502 |
| palomino4 | Windows Server 2022 Datacenter | x64 | 4.2.3 (2023-03-15 ucrt) -- "Shortstop Beagle" | 4282 |
| lconway | macOS 12.5.1 Monterey | x86_64 | 4.2.3 (2023-03-15) -- "Shortstop Beagle" | 4310 |
| Click on any hostname to see more info about the system (e.g. compilers) (*) as reported by 'uname -p', except on Windows and Mac OS X | ||||
|
To the developers/maintainers of the immunotation package: - Please allow up to 24 hours (and sometimes 48 hours) for your latest push to git@git.bioconductor.org:packages/immunotation.git to reflect on this report. See How and When does the builder pull? When will my changes propagate? for more information. - Make sure to use the following settings in order to reproduce any error or warning you see on this page. |
| Package 967/2183 | Hostname | OS / Arch | INSTALL | BUILD | CHECK | BUILD BIN | ||||||||
| immunotation 1.6.0 (landing page) Katharina Imkeller
| nebbiolo2 | Linux (Ubuntu 20.04.5 LTS) / x86_64 | OK | OK | ERROR | |||||||||
| palomino4 | Windows Server 2022 Datacenter / x64 | OK | OK | ERROR | OK | |||||||||
| lconway | macOS 12.5.1 Monterey / x86_64 | OK | OK | ERROR | OK | |||||||||
| Package: immunotation |
| Version: 1.6.0 |
| Command: /Library/Frameworks/R.framework/Resources/bin/R CMD check --install=check:immunotation.install-out.txt --library=/Library/Frameworks/R.framework/Resources/library --no-vignettes --timings immunotation_1.6.0.tar.gz |
| StartedAt: 2023-04-10 20:45:11 -0400 (Mon, 10 Apr 2023) |
| EndedAt: 2023-04-10 20:47:12 -0400 (Mon, 10 Apr 2023) |
| EllapsedTime: 120.1 seconds |
| RetCode: 1 |
| Status: ERROR |
| CheckDir: immunotation.Rcheck |
| Warnings: NA |
##############################################################################
##############################################################################
###
### Running command:
###
### /Library/Frameworks/R.framework/Resources/bin/R CMD check --install=check:immunotation.install-out.txt --library=/Library/Frameworks/R.framework/Resources/library --no-vignettes --timings immunotation_1.6.0.tar.gz
###
##############################################################################
##############################################################################
* using log directory ‘/Users/biocbuild/bbs-3.16-bioc/meat/immunotation.Rcheck’
* using R version 4.2.3 (2023-03-15)
* using platform: x86_64-apple-darwin17.0 (64-bit)
* using session charset: UTF-8
* using option ‘--no-vignettes’
* checking for file ‘immunotation/DESCRIPTION’ ... OK
* checking extension type ... Package
* this is package ‘immunotation’ version ‘1.6.0’
* package encoding: UTF-8
* checking package namespace information ... OK
* checking package dependencies ... OK
* checking if this is a source package ... OK
* checking if there is a namespace ... OK
* checking for hidden files and directories ... OK
* checking for portable file names ... OK
* checking for sufficient/correct file permissions ... OK
* checking whether package ‘immunotation’ can be installed ... OK
* checking installed package size ... NOTE
installed size is 6.2Mb
sub-directories of 1Mb or more:
R 3.9Mb
extdata 2.2Mb
* checking package directory ... OK
* checking ‘build’ directory ... OK
* checking DESCRIPTION meta-information ... OK
* checking top-level files ... OK
* checking for left-over files ... OK
* checking index information ... OK
* checking package subdirectories ... OK
* checking R files for non-ASCII characters ... OK
* checking R files for syntax errors ... OK
* checking whether the package can be loaded ... OK
* checking whether the package can be loaded with stated dependencies ... OK
* checking whether the package can be unloaded cleanly ... OK
* checking whether the namespace can be loaded with stated dependencies ... OK
* checking whether the namespace can be unloaded cleanly ... OK
* checking dependencies in R code ... OK
* checking S3 generic/method consistency ... OK
* checking replacement functions ... OK
* checking foreign function calls ... OK
* checking R code for possible problems ... OK
* checking Rd files ... OK
* checking Rd metadata ... OK
* checking Rd cross-references ... OK
* checking for missing documentation entries ... OK
* checking for code/documentation mismatches ... OK
* checking Rd \usage sections ... OK
* checking Rd contents ... OK
* checking for unstated dependencies in examples ... OK
* checking files in ‘vignettes’ ... OK
* checking examples ... OK
Examples with CPU (user + system) or elapsed time > 5s
user system elapsed
plot_allele_frequency 1.866 0.193 6.776
query_haplotype_frequencies 0.466 0.049 6.165
* checking for unstated dependencies in ‘tests’ ... OK
* checking tests ...
Running ‘testthat.R’
ERROR
Running the tests in ‘tests/testthat.R’ failed.
Last 13 lines of output:
[ FAIL 1 | WARN 0 | SKIP 0 | PASS 145 ]
Error: Test failures
In addition: Warning messages:
1: In .Internal(lapply(X, FUN)) :
closing unused connection 9 (https://iamnotanurl)
2: In .Internal(lapply(X, FUN)) :
closing unused connection 8 (https://iamnotanurl)
3: In .Internal(lapply(X, FUN)) :
closing unused connection 6 (https://iamnotanurl)
4: In .Internal(lapply(X, FUN)) :
closing unused connection 5 (https://iamnotanurl)
5: In .Internal(lapply(X, FUN)) :
closing unused connection 4 (https://iamnotanurl)
Execution halted
* checking for unstated dependencies in vignettes ... OK
* checking package vignettes in ‘inst/doc’ ... OK
* checking running R code from vignettes ... SKIPPED
* checking re-building of vignette outputs ... SKIPPED
* checking PDF version of manual ... OK
* DONE
Status: 1 ERROR, 1 NOTE
See
‘/Users/biocbuild/bbs-3.16-bioc/meat/immunotation.Rcheck/00check.log’
for details.
immunotation.Rcheck/00install.out
############################################################################## ############################################################################## ### ### Running command: ### ### /Library/Frameworks/R.framework/Resources/bin/R CMD INSTALL immunotation ### ############################################################################## ############################################################################## * installing to library ‘/Library/Frameworks/R.framework/Versions/4.2/Resources/library’ * installing *source* package ‘immunotation’ ... ** using staged installation ** R ** inst ** byte-compile and prepare package for lazy loading ** help *** installing help indices ** building package indices ** installing vignettes ** testing if installed package can be loaded from temporary location ** testing if installed package can be loaded from final location ** testing if installed package keeps a record of temporary installation path * DONE (immunotation)
immunotation.Rcheck/tests/testthat.Rout.fail
R version 4.2.3 (2023-03-15) -- "Shortstop Beagle"
Copyright (C) 2023 The R Foundation for Statistical Computing
Platform: x86_64-apple-darwin17.0 (64-bit)
R is free software and comes with ABSOLUTELY NO WARRANTY.
You are welcome to redistribute it under certain conditions.
Type 'license()' or 'licence()' for distribution details.
R is a collaborative project with many contributors.
Type 'contributors()' for more information and
'citation()' on how to cite R or R packages in publications.
Type 'demo()' for some demos, 'help()' for on-line help, or
'help.start()' for an HTML browser interface to help.
Type 'q()' to quit R.
> library(testthat)
> library(immunotation)
>
> test_check("immunotation")
[ FAIL 1 | WARN 0 | SKIP 0 | PASS 145 ]
══ Failed tests ════════════════════════════════════════════════════════════════
── Failure ('test_3_name_conversions.R:72:5'): encode_MAC() returns error when arguments not adequate ──
encode_MAC("foo") not equal to "A service failures was logged. Contact administrator for more information".
1/1 mismatches
x[1]: "No Locus for allele: foo"
y[1]: "A service failures was logged. Contact administrator for more informatio
y[1]: n"
[ FAIL 1 | WARN 0 | SKIP 0 | PASS 145 ]
Error: Test failures
In addition: Warning messages:
1: In .Internal(lapply(X, FUN)) :
closing unused connection 9 (https://iamnotanurl)
2: In .Internal(lapply(X, FUN)) :
closing unused connection 8 (https://iamnotanurl)
3: In .Internal(lapply(X, FUN)) :
closing unused connection 6 (https://iamnotanurl)
4: In .Internal(lapply(X, FUN)) :
closing unused connection 5 (https://iamnotanurl)
5: In .Internal(lapply(X, FUN)) :
closing unused connection 4 (https://iamnotanurl)
Execution halted
immunotation.Rcheck/immunotation-Ex.timings
| name | user | system | elapsed | |
| assemble_protein_complex | 1.987 | 0.216 | 2.214 | |
| build_allele_group | 1.525 | 0.023 | 1.554 | |
| decode_MAC | 0.021 | 0.005 | 3.525 | |
| encode_MAC | 0.001 | 0.000 | 0.115 | |
| get_G_group | 0.010 | 0.001 | 0.011 | |
| get_P_group | 0.002 | 0.000 | 0.002 | |
| get_mhcpan_input | 0.010 | 0.000 | 0.011 | |
| get_serotypes | 0.021 | 0.001 | 0.022 | |
| get_valid_organisms | 0.002 | 0.000 | 0.003 | |
| human_protein_complex_table | 0.503 | 0.483 | 1.035 | |
| plot_allele_frequency | 1.866 | 0.193 | 6.776 | |
| query_allele_frequencies | 0.075 | 0.004 | 1.367 | |
| query_haplotype_frequencies | 0.466 | 0.049 | 6.165 | |
| query_population_detail | 0.019 | 0.001 | 0.092 | |
| retrieve_chain_lookup_table | 0.769 | 0.009 | 0.781 | |