| Back to Multiple platform build/check report for BioC 3.16: simplified long |
|
This page was generated on 2023-04-12 11:06:11 -0400 (Wed, 12 Apr 2023).
| Hostname | OS | Arch (*) | R version | Installed pkgs |
|---|---|---|---|---|
| nebbiolo2 | Linux (Ubuntu 20.04.5 LTS) | x86_64 | 4.2.3 (2023-03-15) -- "Shortstop Beagle" | 4502 |
| palomino4 | Windows Server 2022 Datacenter | x64 | 4.2.3 (2023-03-15 ucrt) -- "Shortstop Beagle" | 4282 |
| lconway | macOS 12.5.1 Monterey | x86_64 | 4.2.3 (2023-03-15) -- "Shortstop Beagle" | 4310 |
| Click on any hostname to see more info about the system (e.g. compilers) (*) as reported by 'uname -p', except on Windows and Mac OS X | ||||
|
To the developers/maintainers of the imageHTS package: - Please allow up to 24 hours (and sometimes 48 hours) for your latest push to git@git.bioconductor.org:packages/imageHTS.git to reflect on this report. See How and When does the builder pull? When will my changes propagate? for more information. - Make sure to use the following settings in order to reproduce any error or warning you see on this page. |
| Package 961/2183 | Hostname | OS / Arch | INSTALL | BUILD | CHECK | BUILD BIN | ||||||||
| imageHTS 1.48.0 (landing page) Joseph Barry
| nebbiolo2 | Linux (Ubuntu 20.04.5 LTS) / x86_64 | OK | OK | OK | |||||||||
| palomino4 | Windows Server 2022 Datacenter / x64 | OK | OK | OK | OK | |||||||||
| lconway | macOS 12.5.1 Monterey / x86_64 | OK | OK | OK | OK | |||||||||
| Package: imageHTS |
| Version: 1.48.0 |
| Command: /Library/Frameworks/R.framework/Resources/bin/R CMD check --install=check:imageHTS.install-out.txt --library=/Library/Frameworks/R.framework/Resources/library --no-vignettes --timings imageHTS_1.48.0.tar.gz |
| StartedAt: 2023-04-10 20:44:49 -0400 (Mon, 10 Apr 2023) |
| EndedAt: 2023-04-10 20:47:46 -0400 (Mon, 10 Apr 2023) |
| EllapsedTime: 176.9 seconds |
| RetCode: 0 |
| Status: OK |
| CheckDir: imageHTS.Rcheck |
| Warnings: 0 |
##############################################################################
##############################################################################
###
### Running command:
###
### /Library/Frameworks/R.framework/Resources/bin/R CMD check --install=check:imageHTS.install-out.txt --library=/Library/Frameworks/R.framework/Resources/library --no-vignettes --timings imageHTS_1.48.0.tar.gz
###
##############################################################################
##############################################################################
* using log directory ‘/Users/biocbuild/bbs-3.16-bioc/meat/imageHTS.Rcheck’
* using R version 4.2.3 (2023-03-15)
* using platform: x86_64-apple-darwin17.0 (64-bit)
* using session charset: UTF-8
* using option ‘--no-vignettes’
* checking for file ‘imageHTS/DESCRIPTION’ ... OK
* this is package ‘imageHTS’ version ‘1.48.0’
* checking package namespace information ... OK
* checking package dependencies ... OK
* checking if this is a source package ... OK
* checking if there is a namespace ... OK
* checking for hidden files and directories ... OK
* checking for portable file names ... OK
* checking for sufficient/correct file permissions ... OK
* checking whether package ‘imageHTS’ can be installed ... OK
* checking installed package size ... OK
* checking package directory ... OK
* checking ‘build’ directory ... OK
* checking DESCRIPTION meta-information ... OK
* checking top-level files ... OK
* checking for left-over files ... OK
* checking index information ... OK
* checking package subdirectories ... OK
* checking R files for non-ASCII characters ... OK
* checking R files for syntax errors ... OK
* checking whether the package can be loaded ... OK
* checking whether the package can be loaded with stated dependencies ... OK
* checking whether the package can be unloaded cleanly ... OK
* checking whether the namespace can be loaded with stated dependencies ... OK
* checking whether the namespace can be unloaded cleanly ... OK
* checking dependencies in R code ... OK
* checking S3 generic/method consistency ... OK
* checking replacement functions ... OK
* checking foreign function calls ... OK
* checking R code for possible problems ... OK
* checking Rd files ... OK
* checking Rd metadata ... OK
* checking Rd cross-references ... OK
* checking for missing documentation entries ... OK
* checking for code/documentation mismatches ... OK
* checking Rd \usage sections ... OK
* checking Rd contents ... OK
* checking for unstated dependencies in examples ... OK
* checking sizes of PDF files under ‘inst/doc’ ... OK
* checking files in ‘vignettes’ ... OK
* checking examples ... OK
Examples with CPU (user + system) or elapsed time > 5s
user system elapsed
extractFeatures 10.115 0.701 10.923
countObjects 5.530 0.324 5.867
* checking for unstated dependencies in vignettes ... OK
* checking package vignettes in ‘inst/doc’ ... OK
* checking running R code from vignettes ... SKIPPED
* checking re-building of vignette outputs ... SKIPPED
* checking PDF version of manual ... OK
* DONE
Status: OK
imageHTS.Rcheck/00install.out
############################################################################## ############################################################################## ### ### Running command: ### ### /Library/Frameworks/R.framework/Resources/bin/R CMD INSTALL imageHTS ### ############################################################################## ############################################################################## * installing to library ‘/Library/Frameworks/R.framework/Versions/4.2/Resources/library’ * installing *source* package ‘imageHTS’ ... ** using staged installation ** R ** inst ** byte-compile and prepare package for lazy loading ** help *** installing help indices ** building package indices ** installing vignettes ** testing if installed package can be loaded from temporary location ** testing if installed package can be loaded from final location ** testing if installed package keeps a record of temporary installation path * DONE (imageHTS)
imageHTS.Rcheck/imageHTS-Ex.timings
| name | user | system | elapsed | |
| collectCellFeatures | 0.000 | 0.001 | 0.001 | |
| countObjects | 5.530 | 0.324 | 5.867 | |
| extractFeatures | 10.115 | 0.701 | 10.923 | |
| fileHTS | 1.661 | 0.022 | 1.741 | |
| getImageConf | 0.774 | 0.021 | 0.796 | |
| getUnames | 1.893 | 0.006 | 1.902 | |
| getWellFeatures | 2.445 | 0.015 | 2.468 | |
| highlightSegmentation | 0.000 | 0.001 | 0.000 | |
| installCellPicker | 1.276 | 0.020 | 1.300 | |
| makeCellHTS | 0.000 | 0.001 | 0.001 | |
| parseDCF | 0.001 | 0.000 | 0.001 | |
| parseImageConf | 0.775 | 0.003 | 0.780 | |
| popCellPicker | 0.765 | 0.003 | 0.770 | |
| prw2uname | 0.004 | 0.001 | 0.003 | |
| readLearnTS | 0 | 0 | 0 | |
| segmentATH | 0.000 | 0.001 | 0.000 | |
| segmentWells | 3.720 | 0.203 | 3.934 | |
| segmentYeastBF | 0.007 | 0.000 | 0.009 | |
| summarizeWells | 0 | 0 | 0 | |
| zprime | 1.942 | 0.022 | 1.969 | |