| Back to Multiple platform build/check report for BioC 3.16: simplified long |
|
This page was generated on 2023-04-12 11:06:11 -0400 (Wed, 12 Apr 2023).
| Hostname | OS | Arch (*) | R version | Installed pkgs |
|---|---|---|---|---|
| nebbiolo2 | Linux (Ubuntu 20.04.5 LTS) | x86_64 | 4.2.3 (2023-03-15) -- "Shortstop Beagle" | 4502 |
| palomino4 | Windows Server 2022 Datacenter | x64 | 4.2.3 (2023-03-15 ucrt) -- "Shortstop Beagle" | 4282 |
| lconway | macOS 12.5.1 Monterey | x86_64 | 4.2.3 (2023-03-15) -- "Shortstop Beagle" | 4310 |
| Click on any hostname to see more info about the system (e.g. compilers) (*) as reported by 'uname -p', except on Windows and Mac OS X | ||||
|
To the developers/maintainers of the idr2d package: - Please allow up to 24 hours (and sometimes 48 hours) for your latest push to git@git.bioconductor.org:packages/idr2d.git to reflect on this report. See How and When does the builder pull? When will my changes propagate? for more information. - Make sure to use the following settings in order to reproduce any error or warning you see on this page. |
| Package 954/2183 | Hostname | OS / Arch | INSTALL | BUILD | CHECK | BUILD BIN | ||||||||
| idr2d 1.12.0 (landing page) Konstantin Krismer
| nebbiolo2 | Linux (Ubuntu 20.04.5 LTS) / x86_64 | OK | OK | OK | |||||||||
| palomino4 | Windows Server 2022 Datacenter / x64 | OK | OK | OK | OK | |||||||||
| lconway | macOS 12.5.1 Monterey / x86_64 | OK | OK | OK | OK | |||||||||
| Package: idr2d |
| Version: 1.12.0 |
| Command: /Library/Frameworks/R.framework/Resources/bin/R CMD check --install=check:idr2d.install-out.txt --library=/Library/Frameworks/R.framework/Resources/library --no-vignettes --timings idr2d_1.12.0.tar.gz |
| StartedAt: 2023-04-10 20:44:11 -0400 (Mon, 10 Apr 2023) |
| EndedAt: 2023-04-10 20:47:00 -0400 (Mon, 10 Apr 2023) |
| EllapsedTime: 169.0 seconds |
| RetCode: 0 |
| Status: OK |
| CheckDir: idr2d.Rcheck |
| Warnings: 0 |
##############################################################################
##############################################################################
###
### Running command:
###
### /Library/Frameworks/R.framework/Resources/bin/R CMD check --install=check:idr2d.install-out.txt --library=/Library/Frameworks/R.framework/Resources/library --no-vignettes --timings idr2d_1.12.0.tar.gz
###
##############################################################################
##############################################################################
* using log directory ‘/Users/biocbuild/bbs-3.16-bioc/meat/idr2d.Rcheck’
* using R version 4.2.3 (2023-03-15)
* using platform: x86_64-apple-darwin17.0 (64-bit)
* using session charset: UTF-8
* using option ‘--no-vignettes’
* checking for file ‘idr2d/DESCRIPTION’ ... OK
* this is package ‘idr2d’ version ‘1.12.0’
* package encoding: UTF-8
* checking package namespace information ... OK
* checking package dependencies ... OK
* checking if this is a source package ... OK
* checking if there is a namespace ... OK
* checking for hidden files and directories ... OK
* checking for portable file names ... OK
* checking for sufficient/correct file permissions ... OK
* checking whether package ‘idr2d’ can be installed ... OK
* checking installed package size ... OK
* checking package directory ... OK
* checking ‘build’ directory ... OK
* checking DESCRIPTION meta-information ... OK
* checking top-level files ... OK
* checking for left-over files ... OK
* checking index information ... OK
* checking package subdirectories ... OK
* checking R files for non-ASCII characters ... OK
* checking R files for syntax errors ... OK
* checking whether the package can be loaded ... OK
* checking whether the package can be loaded with stated dependencies ... OK
* checking whether the package can be unloaded cleanly ... OK
* checking whether the namespace can be loaded with stated dependencies ... OK
* checking whether the namespace can be unloaded cleanly ... OK
* checking dependencies in R code ... OK
* checking S3 generic/method consistency ... OK
* checking replacement functions ... OK
* checking foreign function calls ... OK
* checking R code for possible problems ... OK
* checking Rd files ... OK
* checking Rd metadata ... OK
* checking Rd cross-references ... OK
* checking for missing documentation entries ... OK
* checking for code/documentation mismatches ... OK
* checking Rd \usage sections ... OK
* checking Rd contents ... OK
* checking for unstated dependencies in examples ... OK
* checking contents of ‘data’ directory ... OK
* checking data for non-ASCII characters ... OK
* checking data for ASCII and uncompressed saves ... OK
* checking files in ‘vignettes’ ... OK
* checking examples ... OK
Examples with CPU (user + system) or elapsed time > 5s
user system elapsed
estimate_idr2d 4.494 0.612 5.119
estimate_idr 4.415 0.615 5.040
* checking for unstated dependencies in ‘tests’ ... OK
* checking tests ...
Running ‘testthat.R’
OK
* checking for unstated dependencies in vignettes ... OK
* checking package vignettes in ‘inst/doc’ ... OK
* checking running R code from vignettes ... SKIPPED
* checking re-building of vignette outputs ... SKIPPED
* checking PDF version of manual ... OK
* DONE
Status: OK
idr2d.Rcheck/00install.out
############################################################################## ############################################################################## ### ### Running command: ### ### /Library/Frameworks/R.framework/Resources/bin/R CMD INSTALL idr2d ### ############################################################################## ############################################################################## * installing to library ‘/Library/Frameworks/R.framework/Versions/4.2/Resources/library’ * installing *source* package ‘idr2d’ ... ** using staged installation ** R ** data ** inst ** byte-compile and prepare package for lazy loading ** help *** installing help indices ** building package indices ** installing vignettes ** testing if installed package can be loaded from temporary location ** testing if installed package can be loaded from final location ** testing if installed package keeps a record of temporary installation path * DONE (idr2d)
idr2d.Rcheck/tests/testthat.Rout
R version 4.2.3 (2023-03-15) -- "Shortstop Beagle"
Copyright (C) 2023 The R Foundation for Statistical Computing
Platform: x86_64-apple-darwin17.0 (64-bit)
R is free software and comes with ABSOLUTELY NO WARRANTY.
You are welcome to redistribute it under certain conditions.
Type 'license()' or 'licence()' for distribution details.
R is a collaborative project with many contributors.
Type 'contributors()' for more information and
'citation()' on how to cite R or R packages in publications.
Type 'demo()' for some demos, 'help()' for on-line help, or
'help.start()' for an HTML browser interface to help.
Type 'q()' to quit R.
> library(testthat)
> library(idr2d)
>
> test_check("idr2d")
[ FAIL 0 | WARN 1 | SKIP 0 | PASS 132 ]
[ FAIL 0 | WARN 1 | SKIP 0 | PASS 132 ]
>
> proc.time()
user system elapsed
40.237 5.016 45.112
idr2d.Rcheck/idr2d-Ex.timings
| name | user | system | elapsed | |
| calculate_midpoint_distance1d | 0.000 | 0.000 | 0.001 | |
| calculate_midpoint_distance2d | 0.001 | 0.000 | 0.001 | |
| calculate_relative_overlap1d | 0.001 | 0.000 | 0.001 | |
| calculate_relative_overlap2d | 0.001 | 0.000 | 0.002 | |
| determine_anchor_overlap | 0.164 | 0.004 | 0.169 | |
| draw_hic_contact_map | 3.002 | 0.436 | 3.466 | |
| draw_idr_distribution_histogram | 1.436 | 0.121 | 1.560 | |
| draw_rank_idr_scatterplot | 0.983 | 0.116 | 1.103 | |
| draw_value_idr_scatterplot | 0.962 | 0.079 | 1.043 | |
| establish_bijection | 0.204 | 0.009 | 0.215 | |
| establish_bijection1d | 0.211 | 0.006 | 0.217 | |
| establish_bijection2d | 1.047 | 0.012 | 1.061 | |
| establish_overlap1d | 0.095 | 0.006 | 0.101 | |
| establish_overlap2d | 0.263 | 0.012 | 0.274 | |
| estimate_idr | 4.415 | 0.615 | 5.040 | |
| estimate_idr1d | 0.844 | 0.073 | 0.922 | |
| estimate_idr2d | 4.494 | 0.612 | 5.119 | |
| estimate_idr2d_hic | 2.189 | 0.356 | 2.552 | |
| preprocess | 0.002 | 0.000 | 0.002 | |
| remove_nonstandard_chromosomes1d | 0.111 | 0.012 | 0.122 | |
| remove_nonstandard_chromosomes2d | 0.236 | 0.033 | 0.269 | |