| Back to Multiple platform build/check report for BioC 3.16: simplified long |
|
This page was generated on 2023-04-12 11:05:06 -0400 (Wed, 12 Apr 2023).
| Hostname | OS | Arch (*) | R version | Installed pkgs |
|---|---|---|---|---|
| nebbiolo2 | Linux (Ubuntu 20.04.5 LTS) | x86_64 | 4.2.3 (2023-03-15) -- "Shortstop Beagle" | 4502 |
| palomino4 | Windows Server 2022 Datacenter | x64 | 4.2.3 (2023-03-15 ucrt) -- "Shortstop Beagle" | 4282 |
| lconway | macOS 12.5.1 Monterey | x86_64 | 4.2.3 (2023-03-15) -- "Shortstop Beagle" | 4310 |
| Click on any hostname to see more info about the system (e.g. compilers) (*) as reported by 'uname -p', except on Windows and Mac OS X | ||||
|
To the developers/maintainers of the heatmaps package: - Please allow up to 24 hours (and sometimes 48 hours) for your latest push to git@git.bioconductor.org:packages/heatmaps.git to reflect on this report. See How and When does the builder pull? When will my changes propagate? for more information. - Make sure to use the following settings in order to reproduce any error or warning you see on this page. |
| Package 894/2183 | Hostname | OS / Arch | INSTALL | BUILD | CHECK | BUILD BIN | ||||||||
| heatmaps 1.22.0 (landing page) Malcolm Perry
| nebbiolo2 | Linux (Ubuntu 20.04.5 LTS) / x86_64 | OK | OK | OK | |||||||||
| palomino4 | Windows Server 2022 Datacenter / x64 | OK | OK | OK | OK | |||||||||
| lconway | macOS 12.5.1 Monterey / x86_64 | OK | OK | OK | OK | |||||||||
| Package: heatmaps |
| Version: 1.22.0 |
| Command: /home/biocbuild/bbs-3.16-bioc/R/bin/R CMD check --install=check:heatmaps.install-out.txt --library=/home/biocbuild/bbs-3.16-bioc/R/site-library --timings heatmaps_1.22.0.tar.gz |
| StartedAt: 2023-04-10 21:14:32 -0400 (Mon, 10 Apr 2023) |
| EndedAt: 2023-04-10 21:17:33 -0400 (Mon, 10 Apr 2023) |
| EllapsedTime: 181.3 seconds |
| RetCode: 0 |
| Status: OK |
| CheckDir: heatmaps.Rcheck |
| Warnings: 0 |
##############################################################################
##############################################################################
###
### Running command:
###
### /home/biocbuild/bbs-3.16-bioc/R/bin/R CMD check --install=check:heatmaps.install-out.txt --library=/home/biocbuild/bbs-3.16-bioc/R/site-library --timings heatmaps_1.22.0.tar.gz
###
##############################################################################
##############################################################################
* using log directory ‘/home/biocbuild/bbs-3.16-bioc/meat/heatmaps.Rcheck’
* using R version 4.2.3 (2023-03-15)
* using platform: x86_64-pc-linux-gnu (64-bit)
* using session charset: UTF-8
* checking for file ‘heatmaps/DESCRIPTION’ ... OK
* this is package ‘heatmaps’ version ‘1.22.0’
* checking package namespace information ... OK
* checking package dependencies ... OK
* checking if this is a source package ... OK
* checking if there is a namespace ... OK
* checking for hidden files and directories ... OK
* checking for portable file names ... OK
* checking for sufficient/correct file permissions ... OK
* checking whether package ‘heatmaps’ can be installed ... OK
* checking installed package size ... NOTE
installed size is 7.4Mb
sub-directories of 1Mb or more:
extdata 6.9Mb
* checking package directory ... OK
* checking ‘build’ directory ... OK
* checking DESCRIPTION meta-information ... OK
* checking top-level files ... OK
* checking for left-over files ... OK
* checking index information ... OK
* checking package subdirectories ... OK
* checking R files for non-ASCII characters ... OK
* checking R files for syntax errors ... OK
* checking whether the package can be loaded ... OK
* checking whether the package can be loaded with stated dependencies ... OK
* checking whether the package can be unloaded cleanly ... OK
* checking whether the namespace can be loaded with stated dependencies ... OK
* checking whether the namespace can be unloaded cleanly ... OK
* checking loading without being on the library search path ... OK
* checking dependencies in R code ... OK
* checking S3 generic/method consistency ... OK
* checking replacement functions ... OK
* checking foreign function calls ... OK
* checking R code for possible problems ... NOTE
makeGaussian2D: no visible binding for global variable ‘dnorm’
Undefined global functions or variables:
dnorm
Consider adding
importFrom("stats", "dnorm")
to your NAMESPACE file.
* checking Rd files ... OK
* checking Rd metadata ... OK
* checking Rd cross-references ... OK
* checking for missing documentation entries ... OK
* checking for code/documentation mismatches ... OK
* checking Rd \usage sections ... OK
* checking Rd contents ... OK
* checking for unstated dependencies in examples ... OK
* checking contents of ‘data’ directory ... OK
* checking data for non-ASCII characters ... OK
* checking data for ASCII and uncompressed saves ... OK
* checking files in ‘vignettes’ ... OK
* checking examples ... OK
* checking for unstated dependencies in ‘tests’ ... OK
* checking tests ...
Running ‘testthat.R’
OK
* checking for unstated dependencies in vignettes ... OK
* checking package vignettes in ‘inst/doc’ ... OK
* checking running R code from vignettes ...
‘heatmaps.Rmd’ using ‘UTF-8’... OK
NONE
* checking re-building of vignette outputs ... OK
* checking PDF version of manual ... OK
* DONE
Status: 2 NOTEs
See
‘/home/biocbuild/bbs-3.16-bioc/meat/heatmaps.Rcheck/00check.log’
for details.
heatmaps.Rcheck/00install.out
############################################################################## ############################################################################## ### ### Running command: ### ### /home/biocbuild/bbs-3.16-bioc/R/bin/R CMD INSTALL heatmaps ### ############################################################################## ############################################################################## * installing to library ‘/home/biocbuild/bbs-3.16-bioc/R/site-library’ * installing *source* package ‘heatmaps’ ... ** using staged installation ** R ** data ** inst ** byte-compile and prepare package for lazy loading Creating a new generic function for ‘scale’ in package ‘heatmaps’ ** help *** installing help indices ** building package indices ** installing vignettes ** testing if installed package can be loaded from temporary location ** testing if installed package can be loaded from final location ** testing if installed package keeps a record of temporary installation path * DONE (heatmaps)
heatmaps.Rcheck/tests/testthat.Rout
R version 4.2.3 (2023-03-15) -- "Shortstop Beagle"
Copyright (C) 2023 The R Foundation for Statistical Computing
Platform: x86_64-pc-linux-gnu (64-bit)
R is free software and comes with ABSOLUTELY NO WARRANTY.
You are welcome to redistribute it under certain conditions.
Type 'license()' or 'licence()' for distribution details.
R is a collaborative project with many contributors.
Type 'contributors()' for more information and
'citation()' on how to cite R or R packages in publications.
Type 'demo()' for some demos, 'help()' for on-line help, or
'help.start()' for an HTML browser interface to help.
Type 'q()' to quit R.
> library(testthat)
> library(heatmaps)
Attaching package: 'heatmaps'
The following object is masked from 'package:base':
scale
>
> test_check("heatmaps")
[ FAIL 0 | WARN 0 | SKIP 0 | PASS 22 ]
>
> proc.time()
user system elapsed
5.859 0.320 6.164
heatmaps.Rcheck/heatmaps-Ex.timings
| name | user | system | elapsed | |
| CoverageHeatmap | 0.148 | 0.004 | 0.152 | |
| Heatmap-class | 0.004 | 0.008 | 0.012 | |
| Heatmap | 0.010 | 0.004 | 0.013 | |
| PWMScanHeatmap | 0.044 | 0.000 | 0.044 | |
| PatternHeatmap | 0.153 | 0.015 | 0.169 | |
| coords | 0.011 | 0.000 | 0.011 | |
| default_color | 0.005 | 0.000 | 0.005 | |
| getScale | 0.001 | 0.000 | 0.001 | |
| heatmapOptions | 0.000 | 0.000 | 0.001 | |
| image | 0.013 | 0.004 | 0.017 | |
| label | 0.016 | 0.000 | 0.016 | |
| metadata | 0.015 | 0.000 | 0.015 | |
| nseq | 0.016 | 0.000 | 0.016 | |
| plotHeatmap | 0.059 | 0.008 | 0.067 | |
| plotHeatmapList | 0.621 | 0.044 | 0.665 | |
| plotHeatmapMeta | 0.034 | 0.000 | 0.034 | |
| plotPatternDensityMap | 0.233 | 0.016 | 0.249 | |
| plot_clusters | 0.064 | 0.000 | 0.064 | |
| plot_legend | 0.016 | 0.000 | 0.016 | |
| scale | 0.011 | 0.000 | 0.011 | |
| smoothHeatmap | 0.040 | 0.003 | 0.044 | |
| xm | 0.007 | 0.005 | 0.011 | |
| ym | 0.012 | 0.000 | 0.012 | |