| Back to Multiple platform build/check report for BioC 3.16: simplified long |
|
This page was generated on 2023-04-12 11:05:35 -0400 (Wed, 12 Apr 2023).
| Hostname | OS | Arch (*) | R version | Installed pkgs |
|---|---|---|---|---|
| nebbiolo2 | Linux (Ubuntu 20.04.5 LTS) | x86_64 | 4.2.3 (2023-03-15) -- "Shortstop Beagle" | 4502 |
| palomino4 | Windows Server 2022 Datacenter | x64 | 4.2.3 (2023-03-15 ucrt) -- "Shortstop Beagle" | 4282 |
| lconway | macOS 12.5.1 Monterey | x86_64 | 4.2.3 (2023-03-15) -- "Shortstop Beagle" | 4310 |
| Click on any hostname to see more info about the system (e.g. compilers) (*) as reported by 'uname -p', except on Windows and Mac OS X | ||||
|
To the developers/maintainers of the gpuMagic package: - Please allow up to 24 hours (and sometimes 48 hours) for your latest push to git@git.bioconductor.org:packages/gpuMagic.git to reflect on this report. See How and When does the builder pull? When will my changes propagate? for more information. - Make sure to use the following settings in order to reproduce any error or warning you see on this page. |
| Package 851/2183 | Hostname | OS / Arch | INSTALL | BUILD | CHECK | BUILD BIN | ||||||||
| gpuMagic 1.14.0 (landing page) Jiefei Wang
| nebbiolo2 | Linux (Ubuntu 20.04.5 LTS) / x86_64 | OK | OK | OK | |||||||||
| palomino4 | Windows Server 2022 Datacenter / x64 | OK | OK | OK | OK | |||||||||
| lconway | macOS 12.5.1 Monterey / x86_64 | OK | OK | OK | OK | |||||||||
| Package: gpuMagic |
| Version: 1.14.0 |
| Command: F:\biocbuild\bbs-3.16-bioc\R\bin\R.exe CMD check --no-multiarch --install=check:gpuMagic.install-out.txt --library=F:\biocbuild\bbs-3.16-bioc\R\library --no-vignettes --timings gpuMagic_1.14.0.tar.gz |
| StartedAt: 2023-04-11 02:06:17 -0400 (Tue, 11 Apr 2023) |
| EndedAt: 2023-04-11 02:07:52 -0400 (Tue, 11 Apr 2023) |
| EllapsedTime: 95.0 seconds |
| RetCode: 0 |
| Status: OK |
| CheckDir: gpuMagic.Rcheck |
| Warnings: 0 |
############################################################################## ############################################################################## ### ### Running command: ### ### F:\biocbuild\bbs-3.16-bioc\R\bin\R.exe CMD check --no-multiarch --install=check:gpuMagic.install-out.txt --library=F:\biocbuild\bbs-3.16-bioc\R\library --no-vignettes --timings gpuMagic_1.14.0.tar.gz ### ############################################################################## ############################################################################## * using log directory 'F:/biocbuild/bbs-3.16-bioc/meat/gpuMagic.Rcheck' * using R version 4.2.3 (2023-03-15 ucrt) * using platform: x86_64-w64-mingw32 (64-bit) * using session charset: UTF-8 * using option '--no-vignettes' * checking for file 'gpuMagic/DESCRIPTION' ... OK * checking extension type ... Package * this is package 'gpuMagic' version '1.14.0' * package encoding: UTF-8 * checking package namespace information ... OK * checking package dependencies ... OK * checking if this is a source package ... OK * checking if there is a namespace ... OK * checking for hidden files and directories ... OK * checking for portable file names ... OK * checking whether package 'gpuMagic' can be installed ... OK * checking installed package size ... OK * checking package directory ... OK * checking 'build' directory ... OK * checking DESCRIPTION meta-information ... OK * checking top-level files ... OK * checking for left-over files ... OK * checking index information ... OK * checking package subdirectories ... OK * checking R files for non-ASCII characters ... OK * checking R files for syntax errors ... OK * checking whether the package can be loaded ... OK * checking whether the package can be loaded with stated dependencies ... OK * checking whether the package can be unloaded cleanly ... OK * checking whether the namespace can be loaded with stated dependencies ... OK * checking whether the namespace can be unloaded cleanly ... OK * checking dependencies in R code ... OK * checking S3 generic/method consistency ... OK * checking replacement functions ... OK * checking foreign function calls ... OK * checking R code for possible problems ... OK * checking Rd files ... OK * checking Rd metadata ... OK * checking Rd cross-references ... OK * checking for missing documentation entries ... OK * checking for code/documentation mismatches ... OK * checking Rd \usage sections ... OK * checking Rd contents ... OK * checking for unstated dependencies in examples ... OK * checking line endings in C/C++/Fortran sources/headers ... OK * checking line endings in Makefiles ... OK * checking compilation flags in Makevars ... OK * checking for GNU extensions in Makefiles ... OK * checking for portable use of $(BLAS_LIBS) and $(LAPACK_LIBS) ... OK * checking use of PKG_*FLAGS in Makefiles ... OK * checking include directives in Makefiles ... OK * checking compiled code ... NOTE Note: information on .o files for x64 is not available File 'F:/biocbuild/bbs-3.16-bioc/R/library/gpuMagic/libs/x64/gpuMagic.dll': Found 'abort', possibly from 'abort' (C), 'runtime' (Fortran) Found 'exit', possibly from 'exit' (C), 'stop' (Fortran) Compiled code should not call entry points which might terminate R nor write to stdout/stderr instead of to the console, nor use Fortran I/O nor system RNGs. The detected symbols are linked into the code but might come from libraries and not actually be called. See 'Writing portable packages' in the 'Writing R Extensions' manual. * checking files in 'vignettes' ... OK * checking examples ... OK * checking for unstated dependencies in 'tests' ... OK * checking tests ... Running 'testthat.R' OK * checking for unstated dependencies in vignettes ... OK * checking package vignettes in 'inst/doc' ... OK * checking running R code from vignettes ... SKIPPED * checking re-building of vignette outputs ... SKIPPED * checking PDF version of manual ... OK * DONE Status: 1 NOTE See 'F:/biocbuild/bbs-3.16-bioc/meat/gpuMagic.Rcheck/00check.log' for details.
gpuMagic.Rcheck/00install.out
##############################################################################
##############################################################################
###
### Running command:
###
### F:\biocbuild\bbs-3.16-bioc\R\bin\R.exe CMD INSTALL gpuMagic
###
##############################################################################
##############################################################################
* installing to library 'F:/biocbuild/bbs-3.16-bioc/R/library'
* installing *source* package 'gpuMagic' ...
** using staged installation
** libs
g++ -std=gnu++11 -I"F:/biocbuild/bbs-3.16-bioc/R/include" -DNDEBUG -IF:/biocbuild/bbs-3.16-bioc/R/include -I../inst/include/OpenCL_header -DCL_TARGET_OPENCL_VERSION=220 -DCL_USE_DEPRECATED_OPENCL_1_2_APIS -I'F:/biocbuild/bbs-3.16-bioc/R/library/Rcpp/include' -I"C:/rtools42/x86_64-w64-mingw32.static.posix/include" -O2 -Wall -mfpmath=sse -msse2 -mstackrealign -c C_Interface.cpp -o C_Interface.o
C_Interface.cpp: In function 'SEXPREC* download(SEXP)':
C_Interface.cpp:142:12: warning: 'res' may be used uninitialized in this function [-Wmaybe-uninitialized]
142 | return(res);
| ^
g++ -std=gnu++11 -I"F:/biocbuild/bbs-3.16-bioc/R/include" -DNDEBUG -IF:/biocbuild/bbs-3.16-bioc/R/include -I../inst/include/OpenCL_header -DCL_TARGET_OPENCL_VERSION=220 -DCL_USE_DEPRECATED_OPENCL_1_2_APIS -I'F:/biocbuild/bbs-3.16-bioc/R/library/Rcpp/include' -I"C:/rtools42/x86_64-w64-mingw32.static.posix/include" -O2 -Wall -mfpmath=sse -msse2 -mstackrealign -c R_functionRegistration.cpp -o R_functionRegistration.o
g++ -std=gnu++11 -I"F:/biocbuild/bbs-3.16-bioc/R/include" -DNDEBUG -IF:/biocbuild/bbs-3.16-bioc/R/include -I../inst/include/OpenCL_header -DCL_TARGET_OPENCL_VERSION=220 -DCL_USE_DEPRECATED_OPENCL_1_2_APIS -I'F:/biocbuild/bbs-3.16-bioc/R/library/Rcpp/include' -I"C:/rtools42/x86_64-w64-mingw32.static.posix/include" -O2 -Wall -mfpmath=sse -msse2 -mstackrealign -c Tools.cpp -o Tools.o
g++ -std=gnu++11 -I"F:/biocbuild/bbs-3.16-bioc/R/include" -DNDEBUG -IF:/biocbuild/bbs-3.16-bioc/R/include -I../inst/include/OpenCL_header -DCL_TARGET_OPENCL_VERSION=220 -DCL_USE_DEPRECATED_OPENCL_1_2_APIS -I'F:/biocbuild/bbs-3.16-bioc/R/library/Rcpp/include' -I"C:/rtools42/x86_64-w64-mingw32.static.posix/include" -O2 -Wall -mfpmath=sse -msse2 -mstackrealign -c kernelManager.cpp -o kernelManager.o
g++ -std=gnu++11 -I"F:/biocbuild/bbs-3.16-bioc/R/include" -DNDEBUG -IF:/biocbuild/bbs-3.16-bioc/R/include -I../inst/include/OpenCL_header -DCL_TARGET_OPENCL_VERSION=220 -DCL_USE_DEPRECATED_OPENCL_1_2_APIS -I'F:/biocbuild/bbs-3.16-bioc/R/library/Rcpp/include' -I"C:/rtools42/x86_64-w64-mingw32.static.posix/include" -O2 -Wall -mfpmath=sse -msse2 -mstackrealign -c openArray.cpp -o openArray.o
g++ -shared -s -static-libgcc -o gpuMagic.dll tmp.def C_Interface.o R_functionRegistration.o Tools.o kernelManager.o openArray.o C:/Windows/system32/OpenCL.dll -LC:/rtools42/x86_64-w64-mingw32.static.posix/lib/x64 -LC:/rtools42/x86_64-w64-mingw32.static.posix/lib -LF:/biocbuild/bbs-3.16-bioc/R/bin/x64 -lR
installing to F:/biocbuild/bbs-3.16-bioc/R/library/00LOCK-gpuMagic/00new/gpuMagic/libs/x64
** R
** inst
** byte-compile and prepare package for lazy loading
** help
*** installing help indices
** building package indices
** installing vignettes
** testing if installed package can be loaded from temporary location
No device has been found, please make sure the computer has a graphic card or the driver has been properly installed.
Hint:
For CPU, you can install the intel's / ATI's graphic driver for the intel's / AMD's CPU respectively.
For GPU, you need to download the graphic driver from your vendor's website.
** testing if installed package can be loaded from final location
No device has been found, please make sure the computer has a graphic card or the driver has been properly installed.
Hint:
For CPU, you can install the intel's / ATI's graphic driver for the intel's / AMD's CPU respectively.
For GPU, you need to download the graphic driver from your vendor's website.
** testing if installed package keeps a record of temporary installation path
* DONE (gpuMagic)
gpuMagic.Rcheck/tests/testthat.Rout
R version 4.2.3 (2023-03-15 ucrt) -- "Shortstop Beagle"
Copyright (C) 2023 The R Foundation for Statistical Computing
Platform: x86_64-w64-mingw32/x64 (64-bit)
R is free software and comes with ABSOLUTELY NO WARRANTY.
You are welcome to redistribute it under certain conditions.
Type 'license()' or 'licence()' for distribution details.
R is a collaborative project with many contributors.
Type 'contributors()' for more information and
'citation()' on how to cite R or R packages in publications.
Type 'demo()' for some demos, 'help()' for on-line help, or
'help.start()' for an HTML browser interface to help.
Type 'q()' to quit R.
> library(testthat)
> library(gpuMagic)
No device has been found, please make sure the computer has a graphic card or the driver has been properly installed.
Hint:
For CPU, you can install the intel's / ATI's graphic driver for the intel's / AMD's CPU respectively.
For GPU, you need to download the graphic driver from your vendor's website.
>
> test_check("gpuMagic")
[ FAIL 0 | WARN 0 | SKIP 7 | PASS 0 ]
══ Skipped tests ═══════════════════════════════════════════════════════════════
• gpuMagic:::getTotalDeviceNum() == 0 is TRUE (7)
[ FAIL 0 | WARN 0 | SKIP 7 | PASS 0 ]
>
> proc.time()
user system elapsed
2.37 0.28 3.18
gpuMagic.Rcheck/gpuMagic-Ex.timings
| name | user | system | elapsed | |
| DeviceInfo | 0.02 | 0.00 | 0.01 | |
| Matrix | 0 | 0 | 0 | |
| Scalar | 0 | 0 | 0 | |
| compileGPUCode | 0.40 | 0.00 | 0.39 | |
| dot-kernel | 0 | 0 | 0 | |
| gpuMagic.getAvailableType | 0 | 0 | 0 | |
| gpuMagic.getMemUsage | 0 | 0 | 0 | |
| gpuMagic.getOptions | 0 | 0 | 0 | |
| gpuMagic.setOptions | 0 | 0 | 0 | |
| gpuMatrix | 0 | 0 | 0 | |
| gpuSapply | 0.01 | 0.00 | 0.02 | |
| gpuSapply.getOption | 0 | 0 | 0 | |
| internalFunctions | 0 | 0 | 0 | |
| kernel.getOption | 0 | 0 | 0 | |
| ncol-gpuMatrix-method | 0 | 0 | 0 | |
| no_copy_method | 0 | 0 | 0 | |
| printFunctions | 0 | 0 | 0 | |
| subRef | 0 | 0 | 0 | |