| Back to Multiple platform build/check report for BioC 3.16: simplified long |
|
This page was generated on 2023-04-12 11:05:35 -0400 (Wed, 12 Apr 2023).
| Hostname | OS | Arch (*) | R version | Installed pkgs |
|---|---|---|---|---|
| nebbiolo2 | Linux (Ubuntu 20.04.5 LTS) | x86_64 | 4.2.3 (2023-03-15) -- "Shortstop Beagle" | 4502 |
| palomino4 | Windows Server 2022 Datacenter | x64 | 4.2.3 (2023-03-15 ucrt) -- "Shortstop Beagle" | 4282 |
| lconway | macOS 12.5.1 Monterey | x86_64 | 4.2.3 (2023-03-15) -- "Shortstop Beagle" | 4310 |
| Click on any hostname to see more info about the system (e.g. compilers) (*) as reported by 'uname -p', except on Windows and Mac OS X | ||||
|
To the developers/maintainers of the goProfiles package: - Please allow up to 24 hours (and sometimes 48 hours) for your latest push to git@git.bioconductor.org:packages/goProfiles.git to reflect on this report. See How and When does the builder pull? When will my changes propagate? for more information. - Make sure to use the following settings in order to reproduce any error or warning you see on this page. |
| Package 838/2183 | Hostname | OS / Arch | INSTALL | BUILD | CHECK | BUILD BIN | ||||||||
| goProfiles 1.60.0 (landing page) Alex Sanchez
| nebbiolo2 | Linux (Ubuntu 20.04.5 LTS) / x86_64 | OK | OK | OK | |||||||||
| palomino4 | Windows Server 2022 Datacenter / x64 | OK | OK | OK | OK | |||||||||
| lconway | macOS 12.5.1 Monterey / x86_64 | OK | OK | OK | OK | |||||||||
| Package: goProfiles |
| Version: 1.60.0 |
| Command: F:\biocbuild\bbs-3.16-bioc\R\bin\R.exe CMD check --no-multiarch --install=check:goProfiles.install-out.txt --library=F:\biocbuild\bbs-3.16-bioc\R\library --no-vignettes --timings goProfiles_1.60.0.tar.gz |
| StartedAt: 2023-04-11 02:03:34 -0400 (Tue, 11 Apr 2023) |
| EndedAt: 2023-04-11 02:06:16 -0400 (Tue, 11 Apr 2023) |
| EllapsedTime: 162.2 seconds |
| RetCode: 0 |
| Status: OK |
| CheckDir: goProfiles.Rcheck |
| Warnings: 0 |
##############################################################################
##############################################################################
###
### Running command:
###
### F:\biocbuild\bbs-3.16-bioc\R\bin\R.exe CMD check --no-multiarch --install=check:goProfiles.install-out.txt --library=F:\biocbuild\bbs-3.16-bioc\R\library --no-vignettes --timings goProfiles_1.60.0.tar.gz
###
##############################################################################
##############################################################################
* using log directory 'F:/biocbuild/bbs-3.16-bioc/meat/goProfiles.Rcheck'
* using R version 4.2.3 (2023-03-15 ucrt)
* using platform: x86_64-w64-mingw32 (64-bit)
* using session charset: UTF-8
* using option '--no-vignettes'
* checking for file 'goProfiles/DESCRIPTION' ... OK
* checking extension type ... Package
* this is package 'goProfiles' version '1.60.0'
* checking package namespace information ... OK
* checking package dependencies ... OK
* checking if this is a source package ... OK
* checking if there is a namespace ... OK
* checking for hidden files and directories ... OK
* checking for portable file names ... OK
* checking whether package 'goProfiles' can be installed ... OK
* checking installed package size ... OK
* checking package directory ... OK
* checking 'build' directory ... OK
* checking DESCRIPTION meta-information ... OK
* checking top-level files ... OK
* checking for left-over files ... OK
* checking index information ... OK
* checking package subdirectories ... OK
* checking R files for non-ASCII characters ... OK
* checking R files for syntax errors ... OK
* checking whether the package can be loaded ... OK
* checking whether the package can be loaded with stated dependencies ... OK
* checking whether the package can be unloaded cleanly ... OK
* checking whether the namespace can be loaded with stated dependencies ... OK
* checking whether the namespace can be unloaded cleanly ... OK
* checking dependencies in R code ... OK
* checking S3 generic/method consistency ... OK
* checking replacement functions ... OK
* checking foreign function calls ... OK
* checking R code for possible problems ... OK
* checking Rd files ... OK
* checking Rd metadata ... OK
* checking Rd cross-references ... OK
* checking for missing documentation entries ... OK
* checking for code/documentation mismatches ... OK
* checking Rd \usage sections ... OK
* checking Rd contents ... OK
* checking for unstated dependencies in examples ... OK
* checking contents of 'data' directory ... OK
* checking data for non-ASCII characters ... OK
* checking data for ASCII and uncompressed saves ... OK
* checking sizes of PDF files under 'inst/doc' ... OK
* checking installed files from 'inst/doc' ... OK
* checking files in 'vignettes' ... OK
* checking examples ... OK
Examples with CPU (user + system) or elapsed time > 5s
user system elapsed
compareGeneLists 14.10 0.51 14.67
equivalentGOProfiles 10.58 0.30 11.00
fisherGOProfiles 4.95 0.14 5.09
* checking for unstated dependencies in vignettes ... OK
* checking package vignettes in 'inst/doc' ... OK
* checking running R code from vignettes ... SKIPPED
* checking re-building of vignette outputs ... SKIPPED
* checking PDF version of manual ... OK
* DONE
Status: OK
goProfiles.Rcheck/00install.out
############################################################################## ############################################################################## ### ### Running command: ### ### F:\biocbuild\bbs-3.16-bioc\R\bin\R.exe CMD INSTALL goProfiles ### ############################################################################## ############################################################################## * installing to library 'F:/biocbuild/bbs-3.16-bioc/R/library' * installing *source* package 'goProfiles' ... ** using staged installation ** R ** data ** inst ** byte-compile and prepare package for lazy loading ** help *** installing help indices ** building package indices ** installing vignettes ** testing if installed package can be loaded from temporary location ** testing if installed package can be loaded from final location ** testing if installed package keeps a record of temporary installation path * DONE (goProfiles)
goProfiles.Rcheck/goProfiles-Ex.timings
| name | user | system | elapsed | |
| CD4ids | 0 | 0 | 0 | |
| GOTermsList | 0 | 0 | 0 | |
| basicProfile | 2.88 | 0.13 | 3.08 | |
| compSummary | 0 | 0 | 0 | |
| compareGOProfiles | 3.51 | 0.05 | 3.57 | |
| compareGeneLists | 14.10 | 0.51 | 14.67 | |
| compareProfilesLists | 0 | 0 | 0 | |
| contractedProfile | 1.27 | 0.03 | 1.30 | |
| conversionFunctions | 0.03 | 0.02 | 0.05 | |
| drosophila | 0 | 0 | 0 | |
| equivClust | 0 | 0 | 0 | |
| equivClust2pdf | 0.11 | 0.02 | 0.13 | |
| equivSummary | 0 | 0 | 0 | |
| equivalentGOProfiles | 10.58 | 0.30 | 11.00 | |
| expandedLevel | 0.72 | 0.04 | 0.77 | |
| expandedProfile | 0.72 | 0.00 | 0.72 | |
| fisherGOProfiles | 4.95 | 0.14 | 5.09 | |
| fitGOProfile | 0 | 0 | 0 | |
| hugoIds | 0.02 | 0.00 | 0.01 | |
| iterEquivClust | 0 | 0 | 0 | |
| mergeProfilesLists | 3.95 | 0.05 | 4.02 | |
| ngenes | 1.38 | 0.06 | 1.44 | |
| omimIds | 0.00 | 0.01 | 0.01 | |
| plotProfiles | 4.20 | 0.05 | 4.27 | |
| printProfiles | 3.91 | 0.03 | 3.93 | |
| prostateIds | 0.00 | 0.02 | 0.02 | |