| Back to Multiple platform build/check report for BioC 3.16: simplified long |
|
This page was generated on 2023-04-12 11:05:35 -0400 (Wed, 12 Apr 2023).
| Hostname | OS | Arch (*) | R version | Installed pkgs |
|---|---|---|---|---|
| nebbiolo2 | Linux (Ubuntu 20.04.5 LTS) | x86_64 | 4.2.3 (2023-03-15) -- "Shortstop Beagle" | 4502 |
| palomino4 | Windows Server 2022 Datacenter | x64 | 4.2.3 (2023-03-15 ucrt) -- "Shortstop Beagle" | 4282 |
| lconway | macOS 12.5.1 Monterey | x86_64 | 4.2.3 (2023-03-15) -- "Shortstop Beagle" | 4310 |
| Click on any hostname to see more info about the system (e.g. compilers) (*) as reported by 'uname -p', except on Windows and Mac OS X | ||||
|
To the developers/maintainers of the glmGamPoi package: - Please allow up to 24 hours (and sometimes 48 hours) for your latest push to git@git.bioconductor.org:packages/glmGamPoi.git to reflect on this report. See How and When does the builder pull? When will my changes propagate? for more information. - Make sure to use the following settings in order to reproduce any error or warning you see on this page. |
| Package 825/2183 | Hostname | OS / Arch | INSTALL | BUILD | CHECK | BUILD BIN | ||||||||
| glmGamPoi 1.10.2 (landing page) Constantin Ahlmann-Eltze
| nebbiolo2 | Linux (Ubuntu 20.04.5 LTS) / x86_64 | OK | OK | OK | |||||||||
| palomino4 | Windows Server 2022 Datacenter / x64 | OK | OK | OK | OK | |||||||||
| lconway | macOS 12.5.1 Monterey / x86_64 | OK | ERROR | skipped | skipped | |||||||||
| Package: glmGamPoi |
| Version: 1.10.2 |
| Command: F:\biocbuild\bbs-3.16-bioc\R\bin\R.exe CMD check --no-multiarch --install=check:glmGamPoi.install-out.txt --library=F:\biocbuild\bbs-3.16-bioc\R\library --no-vignettes --timings glmGamPoi_1.10.2.tar.gz |
| StartedAt: 2023-04-11 02:01:13 -0400 (Tue, 11 Apr 2023) |
| EndedAt: 2023-04-11 02:04:36 -0400 (Tue, 11 Apr 2023) |
| EllapsedTime: 203.3 seconds |
| RetCode: 0 |
| Status: OK |
| CheckDir: glmGamPoi.Rcheck |
| Warnings: 0 |
############################################################################## ############################################################################## ### ### Running command: ### ### F:\biocbuild\bbs-3.16-bioc\R\bin\R.exe CMD check --no-multiarch --install=check:glmGamPoi.install-out.txt --library=F:\biocbuild\bbs-3.16-bioc\R\library --no-vignettes --timings glmGamPoi_1.10.2.tar.gz ### ############################################################################## ############################################################################## * using log directory 'F:/biocbuild/bbs-3.16-bioc/meat/glmGamPoi.Rcheck' * using R version 4.2.3 (2023-03-15 ucrt) * using platform: x86_64-w64-mingw32 (64-bit) * using session charset: UTF-8 * using option '--no-vignettes' * checking for file 'glmGamPoi/DESCRIPTION' ... OK * checking extension type ... Package * this is package 'glmGamPoi' version '1.10.2' * package encoding: UTF-8 * checking package namespace information ... OK * checking package dependencies ... OK * checking if this is a source package ... OK * checking if there is a namespace ... OK * checking for hidden files and directories ... OK * checking for portable file names ... OK * checking whether package 'glmGamPoi' can be installed ... OK * checking installed package size ... OK * checking package directory ... OK * checking 'build' directory ... OK * checking DESCRIPTION meta-information ... OK * checking top-level files ... OK * checking for left-over files ... OK * checking index information ... OK * checking package subdirectories ... OK * checking R files for non-ASCII characters ... OK * checking R files for syntax errors ... OK * checking whether the package can be loaded ... OK * checking whether the package can be loaded with stated dependencies ... OK * checking whether the package can be unloaded cleanly ... OK * checking whether the namespace can be loaded with stated dependencies ... OK * checking whether the namespace can be unloaded cleanly ... OK * checking dependencies in R code ... OK * checking S3 generic/method consistency ... OK * checking replacement functions ... OK * checking foreign function calls ... OK * checking R code for possible problems ... OK * checking Rd files ... OK * checking Rd metadata ... OK * checking Rd cross-references ... OK * checking for missing documentation entries ... OK * checking for code/documentation mismatches ... OK * checking Rd \usage sections ... OK * checking Rd contents ... OK * checking for unstated dependencies in examples ... OK * checking line endings in C/C++/Fortran sources/headers ... OK * checking line endings in Makefiles ... OK * checking compilation flags in Makevars ... OK * checking for GNU extensions in Makefiles ... OK * checking for portable use of $(BLAS_LIBS) and $(LAPACK_LIBS) ... OK * checking use of PKG_*FLAGS in Makefiles ... OK * checking compiled code ... NOTE Note: information on .o files for x64 is not available File 'F:/biocbuild/bbs-3.16-bioc/R/library/glmGamPoi/libs/x64/glmGamPoi.dll': Found 'abort', possibly from 'abort' (C), 'runtime' (Fortran) Found 'exit', possibly from 'exit' (C), 'stop' (Fortran) Compiled code should not call entry points which might terminate R nor write to stdout/stderr instead of to the console, nor use Fortran I/O nor system RNGs. The detected symbols are linked into the code but might come from libraries and not actually be called. See 'Writing portable packages' in the 'Writing R Extensions' manual. * checking files in 'vignettes' ... OK * checking examples ... OK * checking for unstated dependencies in 'tests' ... OK * checking tests ... Running 'testthat.R' OK * checking for unstated dependencies in vignettes ... OK * checking package vignettes in 'inst/doc' ... OK * checking running R code from vignettes ... SKIPPED * checking re-building of vignette outputs ... SKIPPED * checking PDF version of manual ... OK * DONE Status: 1 NOTE See 'F:/biocbuild/bbs-3.16-bioc/meat/glmGamPoi.Rcheck/00check.log' for details.
glmGamPoi.Rcheck/00install.out
##############################################################################
##############################################################################
###
### Running command:
###
### F:\biocbuild\bbs-3.16-bioc\R\bin\R.exe CMD INSTALL glmGamPoi
###
##############################################################################
##############################################################################
* installing to library 'F:/biocbuild/bbs-3.16-bioc/R/library'
* installing *source* package 'glmGamPoi' ...
** using staged installation
** libs
g++ -std=gnu++11 -I"F:/biocbuild/bbs-3.16-bioc/R/include" -DNDEBUG -I../inst/include/ -I'F:/biocbuild/bbs-3.16-bioc/R/library/Rcpp/include' -I'F:/biocbuild/bbs-3.16-bioc/R/library/RcppArmadillo/include' -I'F:/biocbuild/bbs-3.16-bioc/R/library/beachmat/include' -I"C:/rtools42/x86_64-w64-mingw32.static.posix/include" -O2 -Wall -mfpmath=sse -msse2 -mstackrealign -c RcppExports.cpp -o RcppExports.o
g++ -std=gnu++11 -I"F:/biocbuild/bbs-3.16-bioc/R/include" -DNDEBUG -I../inst/include/ -I'F:/biocbuild/bbs-3.16-bioc/R/library/Rcpp/include' -I'F:/biocbuild/bbs-3.16-bioc/R/library/RcppArmadillo/include' -I'F:/biocbuild/bbs-3.16-bioc/R/library/beachmat/include' -I"C:/rtools42/x86_64-w64-mingw32.static.posix/include" -O2 -Wall -mfpmath=sse -msse2 -mstackrealign -c beta_estimation.cpp -o beta_estimation.o
beta_estimation.cpp: In function 'bool lte_n_equal_rows(const NumericMatrix&, int, double)':
beta_estimation.cpp:32:35: warning: comparison of integer expressions of different signedness: 'size_t' {aka 'long long unsigned int'} and 'int' [-Wsign-compare]
32 | for(size_t row_idx = 0; row_idx < matrix.nrow(); row_idx++){
| ~~~~~~~~^~~~~~~~~~~~~~~
beta_estimation.cpp:44:20: warning: comparison of integer expressions of different signedness: 'size_t' {aka 'long long unsigned int'} and 'int' [-Wsign-compare]
44 | if(n_matches > n){
| ~~~~~~~~~~^~~
beta_estimation.cpp: In function 'Rcpp::IntegerVector get_row_groups(const NumericMatrix&, int, double)':
beta_estimation.cpp:58:35: warning: comparison of integer expressions of different signedness: 'size_t' {aka 'long long unsigned int'} and 'int' [-Wsign-compare]
58 | for(size_t row_idx = 0; row_idx < matrix.nrow(); row_idx++){
| ~~~~~~~~^~~~~~~~~~~~~~~
In file included from beta_estimation.cpp:6:
../inst/include/deviance.h: In instantiation of 'arma::Mat<double> compute_gp_deviance_residuals_matrix_impl(arma::Mat<eT>, arma::Mat<double>, Rcpp::NumericVector) [with NumericType = int; Rcpp::NumericVector = Rcpp::Vector<14, Rcpp::PreserveStorage>]':
../inst/include/deviance.h:88:72: required from here
../inst/include/deviance.h:76:20: warning: comparison of integer expressions of different signedness: 'int' and 'const uword' {aka 'const unsigned int'} [-Wsign-compare]
76 | for(int i = 0; i < Y.n_elem; i++){
| ~~^~~~~~~~~~
../inst/include/deviance.h: In instantiation of 'arma::Mat<double> compute_gp_deviance_residuals_matrix_impl(arma::Mat<eT>, arma::Mat<double>, Rcpp::NumericVector) [with NumericType = double; Rcpp::NumericVector = Rcpp::Vector<14, Rcpp::PreserveStorage>]':
../inst/include/deviance.h:91:75: required from here
../inst/include/deviance.h:76:20: warning: comparison of integer expressions of different signedness: 'int' and 'const uword' {aka 'const unsigned int'} [-Wsign-compare]
beta_estimation.cpp: In instantiation of 'void clamp_inplace(arma::Mat<eT>&, double, double) [with NumericType = double]':
beta_estimation.cpp:81:36: required from here
beta_estimation.cpp:15:20: warning: comparison of integer expressions of different signedness: 'int' and 'const uword' {aka 'const unsigned int'} [-Wsign-compare]
15 | for(int i = 0; i < v.n_elem; i++){
| ~~^~~~~~~~~~
In file included from beta_estimation.cpp:6:
../inst/include/deviance.h: In instantiation of 'double compute_gp_deviance_sum(const arma::Mat<eT>&, const arma::Mat<double>&, double) [with NumericType = int]':
beta_estimation.cpp:246:40: required from 'Rcpp::List fitBeta_fisher_scoring_impl(Rcpp::RObject, const mat&, Rcpp::RObject, Rcpp::NumericVector, SEXP, Rcpp::Nullable<Rcpp::Matrix<14> >, double, double, int, bool) [with NumericType = int; BMNumericType = beachmat::lin_matrix<int, Rcpp::Vector<13> >; Rcpp::List = Rcpp::Vector<19>; Rcpp::RObject = Rcpp::RObject_Impl<Rcpp::PreserveStorage>; arma::mat = arma::Mat<double>; Rcpp::NumericVector = Rcpp::Vector<14, Rcpp::PreserveStorage>; SEXP = SEXPREC*]'
beta_estimation.cpp:305:101: required from here
../inst/include/deviance.h:53:21: warning: comparison of integer expressions of different signedness: 'int' and 'const uword' {aka 'const unsigned int'} [-Wsign-compare]
53 | for (int i = 0; i < Y.n_elem; i++) {
| ~~^~~~~~~~~~
../inst/include/deviance.h: In instantiation of 'double compute_gp_deviance_sum(const arma::Mat<eT>&, const arma::Mat<double>&, double) [with NumericType = double]':
beta_estimation.cpp:246:40: required from 'Rcpp::List fitBeta_fisher_scoring_impl(Rcpp::RObject, const mat&, Rcpp::RObject, Rcpp::NumericVector, SEXP, Rcpp::Nullable<Rcpp::Matrix<14> >, double, double, int, bool) [with NumericType = double; BMNumericType = beachmat::lin_matrix<double, Rcpp::Vector<14, Rcpp::PreserveStorage> >; Rcpp::List = Rcpp::Vector<19>; Rcpp::RObject = Rcpp::RObject_Impl<Rcpp::PreserveStorage>; arma::mat = arma::Mat<double>; Rcpp::NumericVector = Rcpp::Vector<14, Rcpp::PreserveStorage>; SEXP = SEXPREC*]'
beta_estimation.cpp:311:104: required from here
../inst/include/deviance.h:53:21: warning: comparison of integer expressions of different signedness: 'int' and 'const uword' {aka 'const unsigned int'} [-Wsign-compare]
g++ -std=gnu++11 -I"F:/biocbuild/bbs-3.16-bioc/R/include" -DNDEBUG -I../inst/include/ -I'F:/biocbuild/bbs-3.16-bioc/R/library/Rcpp/include' -I'F:/biocbuild/bbs-3.16-bioc/R/library/RcppArmadillo/include' -I'F:/biocbuild/bbs-3.16-bioc/R/library/beachmat/include' -I"C:/rtools42/x86_64-w64-mingw32.static.posix/include" -O2 -Wall -mfpmath=sse -msse2 -mstackrealign -c deviance.cpp -o deviance.o
In file included from deviance.cpp:3:
../inst/include/deviance.h: In instantiation of 'arma::Mat<double> compute_gp_deviance_residuals_matrix_impl(arma::Mat<eT>, arma::Mat<double>, Rcpp::NumericVector) [with NumericType = int; Rcpp::NumericVector = Rcpp::Vector<14, Rcpp::PreserveStorage>]':
../inst/include/deviance.h:88:72: required from here
../inst/include/deviance.h:76:20: warning: comparison of integer expressions of different signedness: 'int' and 'const uword' {aka 'const unsigned int'} [-Wsign-compare]
76 | for(int i = 0; i < Y.n_elem; i++){
| ~~^~~~~~~~~~
../inst/include/deviance.h: In instantiation of 'arma::Mat<double> compute_gp_deviance_residuals_matrix_impl(arma::Mat<eT>, arma::Mat<double>, Rcpp::NumericVector) [with NumericType = double; Rcpp::NumericVector = Rcpp::Vector<14, Rcpp::PreserveStorage>]':
../inst/include/deviance.h:91:75: required from here
../inst/include/deviance.h:76:20: warning: comparison of integer expressions of different signedness: 'int' and 'const uword' {aka 'const unsigned int'} [-Wsign-compare]
g++ -std=gnu++11 -I"F:/biocbuild/bbs-3.16-bioc/R/include" -DNDEBUG -I../inst/include/ -I'F:/biocbuild/bbs-3.16-bioc/R/library/Rcpp/include' -I'F:/biocbuild/bbs-3.16-bioc/R/library/RcppArmadillo/include' -I'F:/biocbuild/bbs-3.16-bioc/R/library/beachmat/include' -I"C:/rtools42/x86_64-w64-mingw32.static.posix/include" -O2 -Wall -mfpmath=sse -msse2 -mstackrealign -c overdispersion.cpp -o overdispersion.o
overdispersion.cpp: In function 'Rcpp::List make_table_if_small(const NumericVector&, int)':
overdispersion.cpp:26:22: warning: comparison of integer expressions of different signedness: 'std::unordered_map<long int, long long unsigned int>::size_type' {aka 'long long unsigned int'} and 'int' [-Wsign-compare]
26 | if(counts.size() > stop_if_larger){
| ~~~~~~~~~~~~~~^~~~~~~~~~~~~~~~
overdispersion.cpp: In function 'double conventional_loglikelihood_fast(Rcpp::NumericVector, Rcpp::NumericVector, double, const mat&, bool, Rcpp::NumericVector, Rcpp::NumericVector)':
overdispersion.cpp:93:31: warning: comparison of integer expressions of different signedness: 'size_t' {aka 'long long unsigned int'} and 'R_xlen_t' {aka 'long long int'} [-Wsign-compare]
93 | for(size_t iter = 0; iter < count_frequencies.size(); ++iter){
| ~~~~~^~~~~~~~~~~~~~~~~~~~~~~~~~
overdispersion.cpp:101:23: warning: comparison of integer expressions of different signedness: 'size_t' {aka 'long long unsigned int'} and 'R_xlen_t' {aka 'long long int'} [-Wsign-compare]
101 | for(size_t i = 0; i < y.size(); ++i){
| ~~^~~~~~~~~~
overdispersion.cpp: In function 'double conventional_score_function_fast(Rcpp::NumericVector, Rcpp::NumericVector, double, const mat&, bool, Rcpp::NumericVector, Rcpp::NumericVector)':
overdispersion.cpp:137:31: warning: comparison of integer expressions of different signedness: 'size_t' {aka 'long long unsigned int'} and 'R_xlen_t' {aka 'long long int'} [-Wsign-compare]
137 | for(size_t iter = 0; iter < count_frequencies.size(); ++iter){
| ~~~~~^~~~~~~~~~~~~~~~~~~~~~~~~~
overdispersion.cpp:160:31: warning: comparison of integer expressions of different signedness: 'size_t' {aka 'long long unsigned int'} and 'R_xlen_t' {aka 'long long int'} [-Wsign-compare]
160 | for(size_t iter = 0; iter < y.size(); ++iter){
| ~~~~~^~~~~~~~~~
overdispersion.cpp:178:23: warning: comparison of integer expressions of different signedness: 'size_t' {aka 'long long unsigned int'} and 'R_xlen_t' {aka 'long long int'} [-Wsign-compare]
178 | for(size_t i = 0; i < y.size(); ++i){
| ~~^~~~~~~~~~
overdispersion.cpp: In function 'double conventional_deriv_score_function_fast(Rcpp::NumericVector, Rcpp::NumericVector, double, const mat&, bool, Rcpp::NumericVector, Rcpp::NumericVector)':
overdispersion.cpp:234:31: warning: comparison of integer expressions of different signedness: 'size_t' {aka 'long long unsigned int'} and 'R_xlen_t' {aka 'long long int'} [-Wsign-compare]
234 | for(size_t iter = 0; iter < count_frequencies.size(); ++iter){
| ~~~~~^~~~~~~~~~~~~~~~~~~~~~~~~~
overdispersion.cpp:252:23: warning: comparison of integer expressions of different signedness: 'size_t' {aka 'long long unsigned int'} and 'R_xlen_t' {aka 'long long int'} [-Wsign-compare]
252 | for(size_t i = 0; i < y.size(); ++i){
| ~~^~~~~~~~~~
overdispersion.cpp: In instantiation of 'Rcpp::List estimate_overdispersions_fast_internal(Rcpp::RObject, Rcpp::RObject, Rcpp::NumericMatrix, bool, double, int) [with NumericType = beachmat::lin_matrix<int, Rcpp::Vector<13> >; Rcpp::List = Rcpp::Vector<19>; Rcpp::RObject = Rcpp::RObject_Impl<Rcpp::PreserveStorage>; Rcpp::NumericMatrix = Rcpp::Matrix<14>]':
overdispersion.cpp:313:153: required from here
overdispersion.cpp:275:14: warning: comparison of integer expressions of different signedness: 'int' and 'size_t' {aka 'long long unsigned int'} [-Wsign-compare]
275 | if(n_genes != mean_mat_bm->get_nrow() || n_samples != mean_mat_bm->get_ncol()){
| ~~~~~~~~^~~~~~~~~~~~~~~~~~~~~~~~~~
overdispersion.cpp:275:54: warning: comparison of integer expressions of different signedness: 'int' and 'size_t' {aka 'long long unsigned int'} [-Wsign-compare]
275 | if(n_genes != mean_mat_bm->get_nrow() || n_samples != mean_mat_bm->get_ncol()){
| ~~~~~~~~~~^~~~~~~~~~~~~~~~~~~~~~~~~~
overdispersion.cpp: In instantiation of 'Rcpp::List estimate_overdispersions_fast_internal(Rcpp::RObject, Rcpp::RObject, Rcpp::NumericMatrix, bool, double, int) [with NumericType = beachmat::lin_matrix<double, Rcpp::Vector<14, Rcpp::PreserveStorage> >; Rcpp::List = Rcpp::Vector<19>; Rcpp::RObject = Rcpp::RObject_Impl<Rcpp::PreserveStorage>; Rcpp::NumericMatrix = Rcpp::Matrix<14>]':
overdispersion.cpp:315:153: required from here
overdispersion.cpp:275:14: warning: comparison of integer expressions of different signedness: 'int' and 'size_t' {aka 'long long unsigned int'} [-Wsign-compare]
275 | if(n_genes != mean_mat_bm->get_nrow() || n_samples != mean_mat_bm->get_ncol()){
| ~~~~~~~~^~~~~~~~~~~~~~~~~~~~~~~~~~
overdispersion.cpp:275:54: warning: comparison of integer expressions of different signedness: 'int' and 'size_t' {aka 'long long unsigned int'} [-Wsign-compare]
275 | if(n_genes != mean_mat_bm->get_nrow() || n_samples != mean_mat_bm->get_ncol()){
| ~~~~~~~~~~^~~~~~~~~~~~~~~~~~~~~~~~~~
g++ -std=gnu++11 -I"F:/biocbuild/bbs-3.16-bioc/R/include" -DNDEBUG -I../inst/include/ -I'F:/biocbuild/bbs-3.16-bioc/R/library/Rcpp/include' -I'F:/biocbuild/bbs-3.16-bioc/R/library/RcppArmadillo/include' -I'F:/biocbuild/bbs-3.16-bioc/R/library/beachmat/include' -I"C:/rtools42/x86_64-w64-mingw32.static.posix/include" -O2 -Wall -mfpmath=sse -msse2 -mstackrealign -c utils.cpp -o utils.o
g++ -shared -s -static-libgcc -o glmGamPoi.dll tmp.def RcppExports.o beta_estimation.o deviance.o overdispersion.o utils.o -LF:/biocbuild/bbs-3.16-bioc/R/bin/x64 -lRlapack -LF:/biocbuild/bbs-3.16-bioc/R/bin/x64 -lRblas -lgfortran -lm -lquadmath -LC:/rtools42/x86_64-w64-mingw32.static.posix/lib/x64 -LC:/rtools42/x86_64-w64-mingw32.static.posix/lib -LF:/biocbuild/bbs-3.16-bioc/R/bin/x64 -lR
installing to F:/biocbuild/bbs-3.16-bioc/R/library/00LOCK-glmGamPoi/00new/glmGamPoi/libs/x64
** R
** inst
** byte-compile and prepare package for lazy loading
** help
*** installing help indices
*** copying figures
** building package indices
** installing vignettes
** testing if installed package can be loaded from temporary location
** testing if installed package can be loaded from final location
** testing if installed package keeps a record of temporary installation path
* DONE (glmGamPoi)
glmGamPoi.Rcheck/tests/testthat.Rout
R version 4.2.3 (2023-03-15 ucrt) -- "Shortstop Beagle"
Copyright (C) 2023 The R Foundation for Statistical Computing
Platform: x86_64-w64-mingw32/x64 (64-bit)
R is free software and comes with ABSOLUTELY NO WARRANTY.
You are welcome to redistribute it under certain conditions.
Type 'license()' or 'licence()' for distribution details.
R is a collaborative project with many contributors.
Type 'contributors()' for more information and
'citation()' on how to cite R or R packages in publications.
Type 'demo()' for some demos, 'help()' for on-line help, or
'help.start()' for an HTML browser interface to help.
Type 'q()' to quit R.
> library(testthat)
> library(glmGamPoi)
>
> test_check("glmGamPoi")
[ FAIL 0 | WARN 0 | SKIP 5 | PASS 403 ]
══ Skipped tests ═══════════════════════════════════════════════════════════════
• Beta estimation is unprecise on Non-MacOS architectures (1)
• Printing tests should be run interactively (1)
• empty test (2)
• isNamespaceLoaded("devtools") is not TRUE (1)
[ FAIL 0 | WARN 0 | SKIP 5 | PASS 403 ]
>
> proc.time()
user system elapsed
39.62 3.53 48.10
glmGamPoi.Rcheck/glmGamPoi-Ex.timings
| name | user | system | elapsed | |
| glm_gp | 1.18 | 0.08 | 1.27 | |
| loc_median_fit | 0.04 | 0.00 | 0.03 | |
| overdispersion_mle | 0.02 | 0.00 | 0.01 | |
| overdispersion_shrinkage | 0.06 | 0.00 | 0.06 | |
| predict.glmGamPoi | 0.09 | 0.00 | 0.10 | |
| pseudobulk_sce | 1.19 | 0.10 | 1.28 | |
| test_de | 0.59 | 0.03 | 0.62 | |