| Back to Multiple platform build/check report for BioC 3.16 |
|
This page was generated on 2023-01-13 11:07:43 -0500 (Fri, 13 Jan 2023).
| Hostname | OS | Arch (*) | R version | Installed pkgs |
|---|---|---|---|---|
| nebbiolo2 | Linux (Ubuntu 20.04.5 LTS) | x86_64 | 4.2.2 (2022-10-31) -- "Innocent and Trusting" | 4508 |
| palomino4 | Windows Server 2022 Datacenter | x64 | 4.2.2 (2022-10-31 ucrt) -- "Innocent and Trusting" | 4286 |
| lconway | macOS 12.5.1 Monterey | x86_64 | 4.2.2 (2022-10-31) -- "Innocent and Trusting" | 4315 |
| Click on any hostname to see more info about the system (e.g. compilers) (*) as reported by 'uname -p', except on Windows and Mac OS X | ||||
|
To the developers/maintainers of the ggspavis package: - Please allow up to 24 hours (and sometimes 48 hours) for your latest push to git@git.bioconductor.org:packages/ggspavis.git to reflect on this report. See How and When does the builder pull? When will my changes propagate? for more information. - Make sure to use the following settings in order to reproduce any error or warning you see on this page. |
| Package 815/2183 | Hostname | OS / Arch | INSTALL | BUILD | CHECK | BUILD BIN | ||||||||
| ggspavis 1.4.0 (landing page) Lukas M. Weber
| nebbiolo2 | Linux (Ubuntu 20.04.5 LTS) / x86_64 | OK | OK | OK | |||||||||
| palomino4 | Windows Server 2022 Datacenter / x64 | OK | OK | OK | OK | |||||||||
| lconway | macOS 12.5.1 Monterey / x86_64 | OK | OK | OK | OK | |||||||||
| Package: ggspavis |
| Version: 1.4.0 |
| Command: rm -rf ggspavis.buildbin-libdir && mkdir ggspavis.buildbin-libdir && F:\biocbuild\bbs-3.16-bioc\R\bin\R.exe CMD INSTALL --build --library=ggspavis.buildbin-libdir ggspavis_1.4.0.tar.gz |
| StartedAt: 2023-01-13 07:57:02 -0500 (Fri, 13 Jan 2023) |
| EndedAt: 2023-01-13 07:57:40 -0500 (Fri, 13 Jan 2023) |
| EllapsedTime: 38.6 seconds |
| RetCode: 0 |
| Status: OK |
| PackageFile: ggspavis_1.4.0.zip |
| PackageFileSize: 2.103 MiB |
############################################################################## ############################################################################## ### ### Running command: ### ### rm -rf ggspavis.buildbin-libdir && mkdir ggspavis.buildbin-libdir && F:\biocbuild\bbs-3.16-bioc\R\bin\R.exe CMD INSTALL --build --library=ggspavis.buildbin-libdir ggspavis_1.4.0.tar.gz ### ############################################################################## ############################################################################## * installing *source* package 'ggspavis' ... ** using staged installation ** R ** inst ** byte-compile and prepare package for lazy loading ** help *** installing help indices ** building package indices ** installing vignettes ** testing if installed package can be loaded from temporary location ** testing if installed package can be loaded from final location ** testing if installed package keeps a record of temporary installation path * MD5 sums packaged installation of 'ggspavis' as ggspavis_1.4.0.zip * DONE (ggspavis)