| Back to Multiple platform build/check report for BioC 3.16: simplified long |
|
This page was generated on 2023-04-12 11:06:08 -0400 (Wed, 12 Apr 2023).
| Hostname | OS | Arch (*) | R version | Installed pkgs |
|---|---|---|---|---|
| nebbiolo2 | Linux (Ubuntu 20.04.5 LTS) | x86_64 | 4.2.3 (2023-03-15) -- "Shortstop Beagle" | 4502 |
| palomino4 | Windows Server 2022 Datacenter | x64 | 4.2.3 (2023-03-15 ucrt) -- "Shortstop Beagle" | 4282 |
| lconway | macOS 12.5.1 Monterey | x86_64 | 4.2.3 (2023-03-15) -- "Shortstop Beagle" | 4310 |
| Click on any hostname to see more info about the system (e.g. compilers) (*) as reported by 'uname -p', except on Windows and Mac OS X | ||||
|
To the developers/maintainers of the genefu package: - Please allow up to 24 hours (and sometimes 48 hours) for your latest push to git@git.bioconductor.org:packages/genefu.git to reflect on this report. See How and When does the builder pull? When will my changes propagate? for more information. - Make sure to use the following settings in order to reproduce any error or warning you see on this page. |
| Package 757/2183 | Hostname | OS / Arch | INSTALL | BUILD | CHECK | BUILD BIN | ||||||||
| genefu 2.30.0 (landing page) Benjamin Haibe-Kains
| nebbiolo2 | Linux (Ubuntu 20.04.5 LTS) / x86_64 | OK | OK | OK | |||||||||
| palomino4 | Windows Server 2022 Datacenter / x64 | OK | OK | OK | OK | |||||||||
| lconway | macOS 12.5.1 Monterey / x86_64 | OK | OK | OK | OK | |||||||||
| Package: genefu |
| Version: 2.30.0 |
| Command: /Library/Frameworks/R.framework/Resources/bin/R CMD check --install=check:genefu.install-out.txt --library=/Library/Frameworks/R.framework/Resources/library --no-vignettes --timings genefu_2.30.0.tar.gz |
| StartedAt: 2023-04-10 20:20:20 -0400 (Mon, 10 Apr 2023) |
| EndedAt: 2023-04-10 20:23:05 -0400 (Mon, 10 Apr 2023) |
| EllapsedTime: 164.8 seconds |
| RetCode: 0 |
| Status: OK |
| CheckDir: genefu.Rcheck |
| Warnings: 0 |
##############################################################################
##############################################################################
###
### Running command:
###
### /Library/Frameworks/R.framework/Resources/bin/R CMD check --install=check:genefu.install-out.txt --library=/Library/Frameworks/R.framework/Resources/library --no-vignettes --timings genefu_2.30.0.tar.gz
###
##############################################################################
##############################################################################
* using log directory ‘/Users/biocbuild/bbs-3.16-bioc/meat/genefu.Rcheck’
* using R version 4.2.3 (2023-03-15)
* using platform: x86_64-apple-darwin17.0 (64-bit)
* using session charset: UTF-8
* using option ‘--no-vignettes’
* checking for file ‘genefu/DESCRIPTION’ ... OK
* checking extension type ... Package
* this is package ‘genefu’ version ‘2.30.0’
* package encoding: UTF-8
* checking package namespace information ... OK
* checking package dependencies ... OK
* checking if this is a source package ... OK
* checking if there is a namespace ... OK
* checking for hidden files and directories ... OK
* checking for portable file names ... OK
* checking for sufficient/correct file permissions ... OK
* checking whether package ‘genefu’ can be installed ... OK
* checking installed package size ... NOTE
installed size is 5.2Mb
sub-directories of 1Mb or more:
data 4.0Mb
* checking package directory ... OK
* checking ‘build’ directory ... OK
* checking DESCRIPTION meta-information ... OK
* checking top-level files ... OK
* checking for left-over files ... OK
* checking index information ... OK
* checking package subdirectories ... OK
* checking R files for non-ASCII characters ... OK
* checking R files for syntax errors ... OK
* checking whether the package can be loaded ... OK
* checking whether the package can be loaded with stated dependencies ... OK
* checking whether the package can be unloaded cleanly ... OK
* checking whether the namespace can be loaded with stated dependencies ... OK
* checking whether the namespace can be unloaded cleanly ... OK
* checking dependencies in R code ... NOTE
Packages in Depends field not imported from:
‘AIMS’ ‘biomaRt’ ‘iC10’
These packages need to be imported from (in the NAMESPACE file)
for when this namespace is loaded but not attached.
Unexported objects imported by ':::' calls:
‘mclust:::grid1’ ‘mclust:::grid2’
See the note in ?`:::` about the use of this operator.
* checking S3 generic/method consistency ... OK
* checking replacement functions ... OK
* checking foreign function calls ... OK
* checking R code for possible problems ... OK
* checking Rd files ... OK
* checking Rd metadata ... OK
* checking Rd cross-references ... OK
* checking for missing documentation entries ... OK
* checking for code/documentation mismatches ... OK
* checking Rd \usage sections ... OK
* checking Rd contents ... OK
* checking for unstated dependencies in examples ... OK
* checking contents of ‘data’ directory ... OK
* checking data for non-ASCII characters ... OK
* checking data for ASCII and uncompressed saves ... OK
* checking files in ‘vignettes’ ... OK
* checking examples ... OK
* checking for unstated dependencies in vignettes ... OK
* checking package vignettes in ‘inst/doc’ ... OK
* checking running R code from vignettes ... SKIPPED
* checking re-building of vignette outputs ... SKIPPED
* checking PDF version of manual ... OK
* DONE
Status: 2 NOTEs
See
‘/Users/biocbuild/bbs-3.16-bioc/meat/genefu.Rcheck/00check.log’
for details.
genefu.Rcheck/00install.out
############################################################################## ############################################################################## ### ### Running command: ### ### /Library/Frameworks/R.framework/Resources/bin/R CMD INSTALL genefu ### ############################################################################## ############################################################################## * installing to library ‘/Library/Frameworks/R.framework/Versions/4.2/Resources/library’ * installing *source* package ‘genefu’ ... ** using staged installation ** R ** data ** inst ** byte-compile and prepare package for lazy loading ** help *** installing help indices ** building package indices ** installing vignettes ** testing if installed package can be loaded from temporary location ** testing if installed package can be loaded from final location ** testing if installed package keeps a record of temporary installation path * DONE (genefu)
genefu.Rcheck/genefu-Ex.timings
| name | user | system | elapsed | |
| bimod | 0.208 | 0.010 | 0.220 | |
| boxplotplus2 | 0.006 | 0.001 | 0.007 | |
| claudinLow | 0.941 | 0.022 | 0.965 | |
| compareProtoCor | 1.190 | 0.022 | 1.216 | |
| compute.pairw.cor.meta | 1.305 | 0.023 | 1.333 | |
| compute.proto.cor.meta | 1.122 | 0.024 | 1.149 | |
| cordiff.dep | 0.111 | 0.003 | 0.115 | |
| endoPredict | 0.115 | 0.005 | 0.121 | |
| fuzzy.ttest | 0.093 | 0.010 | 0.104 | |
| gene70 | 0.234 | 0.008 | 0.243 | |
| gene76 | 0.108 | 0.005 | 0.113 | |
| geneid.map | 0.147 | 0.016 | 0.164 | |
| genius | 0.187 | 0.016 | 0.203 | |
| ggi | 0.109 | 0.006 | 0.116 | |
| ihc4 | 0.129 | 0.015 | 0.145 | |
| intrinsic.cluster | 0.347 | 0.012 | 0.343 | |
| intrinsic.cluster.predict | 0.175 | 0.007 | 0.182 | |
| map.datasets | 1.206 | 0.023 | 1.242 | |
| molecular.subtyping | 1.934 | 0.115 | 2.063 | |
| npi | 0.108 | 0.006 | 0.114 | |
| oncotypedx | 0.112 | 0.005 | 0.117 | |
| ovcAngiogenic | 0.130 | 0.007 | 0.138 | |
| ovcCrijns | 0.125 | 0.006 | 0.131 | |
| ovcTCGA | 0.240 | 0.008 | 0.250 | |
| ovcYoshihara | 0.120 | 0.003 | 0.124 | |
| pik3cags | 0.117 | 0.004 | 0.122 | |
| power.cor | 0.000 | 0.000 | 0.001 | |
| ps.cluster | 0.404 | 0.020 | 0.415 | |
| read.m.file | 0.023 | 0.003 | 0.087 | |
| rename.duplicate | 0.001 | 0.001 | 0.002 | |
| rescale | 0.261 | 0.007 | 0.270 | |
| rorS | 0.173 | 0.006 | 0.180 | |
| setcolclass.df | 0.002 | 0.000 | 0.002 | |
| sig.score | 0.128 | 0.006 | 0.133 | |
| spearmanCI | 0.000 | 0.000 | 0.001 | |
| st.gallen | 0.106 | 0.004 | 0.112 | |
| stab.fs | 0.081 | 0.003 | 0.084 | |
| stab.fs.ranking | 0.547 | 0.051 | 0.601 | |
| strescR | 0.001 | 0.000 | 0.001 | |
| subtype.cluster | 0.637 | 0.037 | 0.681 | |
| subtype.cluster.predict | 0.259 | 0.012 | 0.272 | |
| tamr13 | 0.135 | 0.006 | 0.141 | |
| tbrm | 0.001 | 0.000 | 0.000 | |
| weighted.meanvar | 0 | 0 | 0 | |
| write.m.file | 0.004 | 0.002 | 0.005 | |