| Back to Multiple platform build/check report for BioC 3.16: simplified long |
|
This page was generated on 2023-04-12 11:05:34 -0400 (Wed, 12 Apr 2023).
| Hostname | OS | Arch (*) | R version | Installed pkgs |
|---|---|---|---|---|
| nebbiolo2 | Linux (Ubuntu 20.04.5 LTS) | x86_64 | 4.2.3 (2023-03-15) -- "Shortstop Beagle" | 4502 |
| palomino4 | Windows Server 2022 Datacenter | x64 | 4.2.3 (2023-03-15 ucrt) -- "Shortstop Beagle" | 4282 |
| lconway | macOS 12.5.1 Monterey | x86_64 | 4.2.3 (2023-03-15) -- "Shortstop Beagle" | 4310 |
| Click on any hostname to see more info about the system (e.g. compilers) (*) as reported by 'uname -p', except on Windows and Mac OS X | ||||
|
To the developers/maintainers of the genefilter package: - Please allow up to 24 hours (and sometimes 48 hours) for your latest push to git@git.bioconductor.org:packages/genefilter.git to reflect on this report. See How and When does the builder pull? When will my changes propagate? for more information. - Make sure to use the following settings in order to reproduce any error or warning you see on this page. |
| Package 756/2183 | Hostname | OS / Arch | INSTALL | BUILD | CHECK | BUILD BIN | ||||||||
| genefilter 1.80.3 (landing page) Bioconductor Package Maintainer
| nebbiolo2 | Linux (Ubuntu 20.04.5 LTS) / x86_64 | OK | OK | WARNINGS | |||||||||
| palomino4 | Windows Server 2022 Datacenter / x64 | OK | OK | WARNINGS | OK | |||||||||
| lconway | macOS 12.5.1 Monterey / x86_64 | OK | OK | OK | OK | |||||||||
| Package: genefilter |
| Version: 1.80.3 |
| Command: rm -rf genefilter.buildbin-libdir && mkdir genefilter.buildbin-libdir && F:\biocbuild\bbs-3.16-bioc\R\bin\R.exe CMD INSTALL --build --library=genefilter.buildbin-libdir genefilter_1.80.3.tar.gz |
| StartedAt: 2023-04-11 08:02:18 -0400 (Tue, 11 Apr 2023) |
| EndedAt: 2023-04-11 08:02:58 -0400 (Tue, 11 Apr 2023) |
| EllapsedTime: 40.1 seconds |
| RetCode: 0 |
| Status: OK |
| PackageFile: genefilter_1.80.3.zip |
| PackageFileSize: 1019 KiB |
##############################################################################
##############################################################################
###
### Running command:
###
### rm -rf genefilter.buildbin-libdir && mkdir genefilter.buildbin-libdir && F:\biocbuild\bbs-3.16-bioc\R\bin\R.exe CMD INSTALL --build --library=genefilter.buildbin-libdir genefilter_1.80.3.tar.gz
###
##############################################################################
##############################################################################
* installing *source* package 'genefilter' ...
** using staged installation
** libs
g++ -std=gnu++14 -I"F:/biocbuild/bbs-3.16-bioc/R/include" -DNDEBUG -I"C:/rtools42/x86_64-w64-mingw32.static.posix/include" -O2 -Wall -mfpmath=sse -msse2 -mstackrealign -c half_range_mode.cpp -o half_range_mode.o
gcc -I"F:/biocbuild/bbs-3.16-bioc/R/include" -DNDEBUG -I"C:/rtools42/x86_64-w64-mingw32.static.posix/include" -O2 -Wall -std=gnu99 -mfpmath=sse -msse2 -mstackrealign -c init.c -o init.o
gcc -I"F:/biocbuild/bbs-3.16-bioc/R/include" -DNDEBUG -I"C:/rtools42/x86_64-w64-mingw32.static.posix/include" -O2 -Wall -std=gnu99 -mfpmath=sse -msse2 -mstackrealign -c nd.c -o nd.o
gcc -I"F:/biocbuild/bbs-3.16-bioc/R/include" -DNDEBUG -I"C:/rtools42/x86_64-w64-mingw32.static.posix/include" -O2 -Wall -std=gnu99 -mfpmath=sse -msse2 -mstackrealign -c pAUC.c -o pAUC.o
pAUC.c: In function 'pAUC':
pAUC.c:140:13: warning: suggest parentheses around comparison in operand of '|' [-Wparentheses]
140 | if(rows != INTEGER(dimSens)[1] | columns != INTEGER(dimSens)[0])
| ~~~~~^~~~~~~~~~~~~~~~~~~~~~
gcc -I"F:/biocbuild/bbs-3.16-bioc/R/include" -DNDEBUG -I"C:/rtools42/x86_64-w64-mingw32.static.posix/include" -O2 -Wall -std=gnu99 -mfpmath=sse -msse2 -mstackrealign -c rowPAUCs.c -o rowPAUCs.o
gcc -I"F:/biocbuild/bbs-3.16-bioc/R/include" -DNDEBUG -I"C:/rtools42/x86_64-w64-mingw32.static.posix/include" -O2 -Wall -std=gnu99 -mfpmath=sse -msse2 -mstackrealign -c rowttests.c -o rowttests.o
gfortran -fno-optimize-sibling-calls -O2 -mfpmath=sse -msse2 -mstackrealign -c ttest.f -o ttest.o
g++ -std=gnu++14 -shared -s -static-libgcc -o genefilter.dll tmp.def half_range_mode.o init.o nd.o pAUC.o rowPAUCs.o rowttests.o ttest.o -LC:/rtools42/x86_64-w64-mingw32.static.posix/lib/x64 -LC:/rtools42/x86_64-w64-mingw32.static.posix/lib -lgfortran -lm -lquadmath -LF:/biocbuild/bbs-3.16-bioc/R/bin/x64 -lR
installing to F:/biocbuild/bbs-3.16-bioc/meat/genefilter.buildbin-libdir/00LOCK-genefilter/00new/genefilter/libs/x64
** R
** data
*** moving datasets to lazyload DB
** inst
** byte-compile and prepare package for lazy loading
** help
*** installing help indices
** building package indices
** installing vignettes
** testing if installed package can be loaded from temporary location
** testing if installed package can be loaded from final location
** testing if installed package keeps a record of temporary installation path
* MD5 sums
packaged installation of 'genefilter' as genefilter_1.80.3.zip
* DONE (genefilter)