| Back to Multiple platform build/check report for BioC 3.16: simplified long |
|
This page was generated on 2023-04-12 11:06:08 -0400 (Wed, 12 Apr 2023).
| Hostname | OS | Arch (*) | R version | Installed pkgs |
|---|---|---|---|---|
| nebbiolo2 | Linux (Ubuntu 20.04.5 LTS) | x86_64 | 4.2.3 (2023-03-15) -- "Shortstop Beagle" | 4502 |
| palomino4 | Windows Server 2022 Datacenter | x64 | 4.2.3 (2023-03-15 ucrt) -- "Shortstop Beagle" | 4282 |
| lconway | macOS 12.5.1 Monterey | x86_64 | 4.2.3 (2023-03-15) -- "Shortstop Beagle" | 4310 |
| Click on any hostname to see more info about the system (e.g. compilers) (*) as reported by 'uname -p', except on Windows and Mac OS X | ||||
|
To the developers/maintainers of the gemma.R package: - Please allow up to 24 hours (and sometimes 48 hours) for your latest push to git@git.bioconductor.org:packages/gemma.R.git to reflect on this report. See How and When does the builder pull? When will my changes propagate? for more information. - Make sure to use the following settings in order to reproduce any error or warning you see on this page. |
| Package 748/2183 | Hostname | OS / Arch | INSTALL | BUILD | CHECK | BUILD BIN | ||||||||
| gemma.R 1.0.1 (landing page) Ogan Mancarci
| nebbiolo2 | Linux (Ubuntu 20.04.5 LTS) / x86_64 | OK | OK | OK | |||||||||
| palomino4 | Windows Server 2022 Datacenter / x64 | OK | OK | OK | OK | |||||||||
| lconway | macOS 12.5.1 Monterey / x86_64 | OK | OK | OK | OK | |||||||||
| Package: gemma.R |
| Version: 1.0.1 |
| Command: /Library/Frameworks/R.framework/Resources/bin/R CMD check --install=check:gemma.R.install-out.txt --library=/Library/Frameworks/R.framework/Resources/library --no-vignettes --timings gemma.R_1.0.1.tar.gz |
| StartedAt: 2023-04-10 20:19:21 -0400 (Mon, 10 Apr 2023) |
| EndedAt: 2023-04-10 20:23:08 -0400 (Mon, 10 Apr 2023) |
| EllapsedTime: 227.1 seconds |
| RetCode: 0 |
| Status: OK |
| CheckDir: gemma.R.Rcheck |
| Warnings: 0 |
##############################################################################
##############################################################################
###
### Running command:
###
### /Library/Frameworks/R.framework/Resources/bin/R CMD check --install=check:gemma.R.install-out.txt --library=/Library/Frameworks/R.framework/Resources/library --no-vignettes --timings gemma.R_1.0.1.tar.gz
###
##############################################################################
##############################################################################
* using log directory ‘/Users/biocbuild/bbs-3.16-bioc/meat/gemma.R.Rcheck’
* using R version 4.2.3 (2023-03-15)
* using platform: x86_64-apple-darwin17.0 (64-bit)
* using session charset: UTF-8
* using option ‘--no-vignettes’
* checking for file ‘gemma.R/DESCRIPTION’ ... OK
* this is package ‘gemma.R’ version ‘1.0.1’
* package encoding: UTF-8
* checking package namespace information ... OK
* checking package dependencies ... OK
* checking if this is a source package ... OK
* checking if there is a namespace ... OK
* checking for hidden files and directories ... OK
* checking for portable file names ... OK
* checking for sufficient/correct file permissions ... OK
* checking whether package ‘gemma.R’ can be installed ... OK
* checking installed package size ... OK
* checking package directory ... OK
* checking ‘build’ directory ... OK
* checking DESCRIPTION meta-information ... OK
* checking top-level files ... OK
* checking for left-over files ... OK
* checking index information ... OK
* checking package subdirectories ... OK
* checking R files for non-ASCII characters ... OK
* checking R files for syntax errors ... OK
* checking whether the package can be loaded ... OK
* checking whether the package can be loaded with stated dependencies ... OK
* checking whether the package can be unloaded cleanly ... OK
* checking whether the namespace can be loaded with stated dependencies ... OK
* checking whether the namespace can be unloaded cleanly ... OK
* checking dependencies in R code ... NOTE
Unexported object imported by a ':::' call: ‘jsonlite:::simplify’
See the note in ?`:::` about the use of this operator.
* checking S3 generic/method consistency ... OK
* checking replacement functions ... OK
* checking foreign function calls ... OK
* checking R code for possible problems ... NOTE
processDEA : <anonymous> : <anonymous>: no visible binding for global
variable ‘experimental.factorValue’
Undefined global functions or variables:
experimental.factorValue
* checking Rd files ... OK
* checking Rd metadata ... OK
* checking Rd cross-references ... OK
* checking for missing documentation entries ... OK
* checking for code/documentation mismatches ... OK
* checking Rd \usage sections ... OK
* checking Rd contents ... OK
* checking for unstated dependencies in examples ... OK
* checking files in ‘vignettes’ ... OK
* checking examples ... OK
Examples with CPU (user + system) or elapsed time > 5s
user system elapsed
get_dataset_object 5.652 0.346 13.438
get_dataset_expression 0.712 0.139 10.183
search_annotations 0.007 0.001 5.184
* checking for unstated dependencies in ‘tests’ ... OK
* checking tests ...
Running ‘testthat.R’
OK
* checking for unstated dependencies in vignettes ... OK
* checking package vignettes in ‘inst/doc’ ... OK
* checking running R code from vignettes ... SKIPPED
* checking re-building of vignette outputs ... SKIPPED
* checking PDF version of manual ... OK
* DONE
Status: 2 NOTEs
See
‘/Users/biocbuild/bbs-3.16-bioc/meat/gemma.R.Rcheck/00check.log’
for details.
gemma.R.Rcheck/00install.out
############################################################################## ############################################################################## ### ### Running command: ### ### /Library/Frameworks/R.framework/Resources/bin/R CMD INSTALL gemma.R ### ############################################################################## ############################################################################## * installing to library ‘/Library/Frameworks/R.framework/Versions/4.2/Resources/library’ * installing *source* package ‘gemma.R’ ... ** using staged installation ** R ** inst ** byte-compile and prepare package for lazy loading ** help *** installing help indices *** copying figures ** building package indices ** installing vignettes ** testing if installed package can be loaded from temporary location ** testing if installed package can be loaded from final location ** testing if installed package keeps a record of temporary installation path * DONE (gemma.R)
gemma.R.Rcheck/tests/testthat.Rout
R version 4.2.3 (2023-03-15) -- "Shortstop Beagle"
Copyright (C) 2023 The R Foundation for Statistical Computing
Platform: x86_64-apple-darwin17.0 (64-bit)
R is free software and comes with ABSOLUTELY NO WARRANTY.
You are welcome to redistribute it under certain conditions.
Type 'license()' or 'licence()' for distribution details.
R is a collaborative project with many contributors.
Type 'contributors()' for more information and
'citation()' on how to cite R or R packages in publications.
Type 'demo()' for some demos, 'help()' for on-line help, or
'help.start()' for an HTML browser interface to help.
Type 'q()' to quit R.
> library(testthat)
> library(dplyr)
Attaching package: 'dplyr'
The following object is masked from 'package:testthat':
matches
The following objects are masked from 'package:stats':
filter, lag
The following objects are masked from 'package:base':
intersect, setdiff, setequal, union
>
> # Prevent certificate issues for GitHub actions
> options(gemma.SSL = FALSE)
> # get gemma api path if it's set in the environment
> options(gemma.API = Sys.getenv('API_PATH','https://gemma.msl.ubc.ca/rest/v2/'))
> print(gemma.R:::gemmaPath())
[1] "https://gemma.msl.ubc.ca/rest/v2/"
> test_check("gemma.R")
Loading required package: gemma.R
[ FAIL 0 | WARN 7 | SKIP 4 | PASS 111 ]
══ Skipped tests ═══════════════════════════════════════════════════════════════
• On Bioconductor (4)
[ FAIL 0 | WARN 7 | SKIP 4 | PASS 111 ]
>
>
>
> proc.time()
user system elapsed
21.675 1.789 126.016
gemma.R.Rcheck/gemma.R-Ex.timings
| name | user | system | elapsed | |
| forget_gemma_memoised | 0.018 | 0.011 | 0.054 | |
| gemma_call | 0.113 | 0.026 | 1.605 | |
| get_dataset_annotations | 0.016 | 0.001 | 0.104 | |
| get_dataset_design | 0.445 | 0.031 | 0.606 | |
| get_dataset_differential_expression_analyses | 0.212 | 0.042 | 4.498 | |
| get_dataset_expression | 0.712 | 0.139 | 10.183 | |
| get_dataset_object | 5.652 | 0.346 | 13.438 | |
| get_dataset_platforms | 0.008 | 0.001 | 0.096 | |
| get_dataset_samples | 0.065 | 0.004 | 0.488 | |
| get_datasets_by_ids | 0.698 | 0.019 | 0.893 | |
| get_differential_expression_values | 0.169 | 0.036 | 2.847 | |
| get_gene_go_terms | 0.014 | 0.001 | 0.119 | |
| get_gene_locations | 0.007 | 0.001 | 0.232 | |
| get_gene_probes | 0.017 | 0.003 | 0.117 | |
| get_genes | 0.016 | 0.002 | 0.182 | |
| get_platform_annotations | 0.783 | 0.074 | 3.567 | |
| get_platform_datasets | 0.026 | 0.002 | 2.376 | |
| get_platform_element_genes | 0.008 | 0.000 | 0.096 | |
| get_platforms_by_ids | 0.016 | 0.001 | 0.190 | |
| get_result_sets | 0.809 | 0.041 | 3.284 | |
| get_taxa | 0.008 | 0.001 | 0.097 | |
| get_taxa_by_ids | 0.007 | 0.000 | 0.088 | |
| get_taxon_datasets | 0.032 | 0.004 | 0.695 | |
| search_annotations | 0.007 | 0.001 | 5.184 | |
| search_datasets | 0.033 | 0.006 | 1.341 | |
| search_gemma | 0.028 | 0.005 | 1.155 | |