| Back to Multiple platform build/check report for BioC 3.16: simplified long |
|
This page was generated on 2023-04-12 11:06:08 -0400 (Wed, 12 Apr 2023).
| Hostname | OS | Arch (*) | R version | Installed pkgs |
|---|---|---|---|---|
| nebbiolo2 | Linux (Ubuntu 20.04.5 LTS) | x86_64 | 4.2.3 (2023-03-15) -- "Shortstop Beagle" | 4502 |
| palomino4 | Windows Server 2022 Datacenter | x64 | 4.2.3 (2023-03-15 ucrt) -- "Shortstop Beagle" | 4282 |
| lconway | macOS 12.5.1 Monterey | x86_64 | 4.2.3 (2023-03-15) -- "Shortstop Beagle" | 4310 |
| Click on any hostname to see more info about the system (e.g. compilers) (*) as reported by 'uname -p', except on Windows and Mac OS X | ||||
|
To the developers/maintainers of the gaggle package: - Please allow up to 24 hours (and sometimes 48 hours) for your latest push to git@git.bioconductor.org:packages/gaggle.git to reflect on this report. See How and When does the builder pull? When will my changes propagate? for more information. - Make sure to use the following settings in order to reproduce any error or warning you see on this page. |
| Package 730/2183 | Hostname | OS / Arch | INSTALL | BUILD | CHECK | BUILD BIN | ||||||||
| gaggle 1.66.0 (landing page) Christopher Bare
| nebbiolo2 | Linux (Ubuntu 20.04.5 LTS) / x86_64 | OK | OK | OK | |||||||||
| palomino4 | Windows Server 2022 Datacenter / x64 | OK | OK | OK | OK | |||||||||
| lconway | macOS 12.5.1 Monterey / x86_64 | OK | OK | OK | OK | |||||||||
| Package: gaggle |
| Version: 1.66.0 |
| Command: rm -rf gaggle.buildbin-libdir && mkdir gaggle.buildbin-libdir && /Users/biocbuild/BBS/utils/build-universal.sh gaggle_1.66.0.tar.gz /Library/Frameworks/R.framework/Resources/bin/R gaggle.buildbin-libdir |
| StartedAt: 2023-04-10 23:44:21 -0400 (Mon, 10 Apr 2023) |
| EndedAt: 2023-04-10 23:44:28 -0400 (Mon, 10 Apr 2023) |
| EllapsedTime: 6.9 seconds |
| RetCode: 0 |
| Status: OK |
| PackageFile: gaggle_1.66.0.tgz |
| PackageFileSize: 302.3 KiB |
##############################################################################
##############################################################################
###
### Running command:
###
### rm -rf gaggle.buildbin-libdir && mkdir gaggle.buildbin-libdir && /Users/biocbuild/BBS/utils/build-universal.sh gaggle_1.66.0.tar.gz /Library/Frameworks/R.framework/Resources/bin/R gaggle.buildbin-libdir
###
##############################################################################
##############################################################################
>>>>>>>
>>>>>>> INSTALLATION WITH 'R CMD INSTALL --preclean --no-multiarch --library=gaggle.buildbin-libdir gaggle_1.66.0.tar.gz'
>>>>>>>
* installing *source* package ‘gaggle’ ...
** using staged installation
** R
** inst
** byte-compile and prepare package for lazy loading
** help
*** installing help indices
** building package indices
** installing vignettes
** testing if installed package can be loaded from temporary location
onLoad -- libname: /Users/biocbuild/bbs-3.16-bioc/meat/gaggle.buildbin-libdir/00LOCK-gaggle/00new pkgname: gaggle
path to jar: /Users/biocbuild/bbs-3.16-bioc/meat/gaggle.buildbin-libdir/00LOCK-gaggle/00new/gaggle/jars/gaggleRShell.jar
script: gaggle.R $Revision: 4499 $ $Date: 2010-08-10 17:15:03 -0700 (Tue, 10 Aug 2010) $
os version: Mac OS X
jvm version: 18
You are using the wrong version of Java.
Please see http://gaggle.systemsbiology.org/docs/html/java
** testing if installed package can be loaded from final location
onLoad -- libname: /Users/biocbuild/bbs-3.16-bioc/meat/gaggle.buildbin-libdir pkgname: gaggle
path to jar: /Users/biocbuild/bbs-3.16-bioc/meat/gaggle.buildbin-libdir/gaggle/jars/gaggleRShell.jar
script: gaggle.R $Revision: 4499 $ $Date: 2010-08-10 17:15:03 -0700 (Tue, 10 Aug 2010) $
os version: Mac OS X
jvm version: 18
You are using the wrong version of Java.
Please see http://gaggle.systemsbiology.org/docs/html/java
** testing if installed package keeps a record of temporary installation path
* DONE (gaggle)