| Back to Multiple platform build/check report for BioC 3.16: simplified long |
|
This page was generated on 2023-04-12 11:05:05 -0400 (Wed, 12 Apr 2023).
| Hostname | OS | Arch (*) | R version | Installed pkgs |
|---|---|---|---|---|
| nebbiolo2 | Linux (Ubuntu 20.04.5 LTS) | x86_64 | 4.2.3 (2023-03-15) -- "Shortstop Beagle" | 4502 |
| palomino4 | Windows Server 2022 Datacenter | x64 | 4.2.3 (2023-03-15 ucrt) -- "Shortstop Beagle" | 4282 |
| lconway | macOS 12.5.1 Monterey | x86_64 | 4.2.3 (2023-03-15) -- "Shortstop Beagle" | 4310 |
| Click on any hostname to see more info about the system (e.g. compilers) (*) as reported by 'uname -p', except on Windows and Mac OS X | ||||
|
To the developers/maintainers of the gaga package: - Please allow up to 24 hours (and sometimes 48 hours) for your latest push to git@git.bioconductor.org:packages/gaga.git to reflect on this report. See How and When does the builder pull? When will my changes propagate? for more information. - Make sure to use the following settings in order to reproduce any error or warning you see on this page. |
| Package 728/2183 | Hostname | OS / Arch | INSTALL | BUILD | CHECK | BUILD BIN | ||||||||
| gaga 2.44.0 (landing page) David Rossell
| nebbiolo2 | Linux (Ubuntu 20.04.5 LTS) / x86_64 | OK | OK | OK | |||||||||
| palomino4 | Windows Server 2022 Datacenter / x64 | OK | OK | OK | OK | |||||||||
| lconway | macOS 12.5.1 Monterey / x86_64 | OK | OK | WARNINGS | OK | |||||||||
| Package: gaga |
| Version: 2.44.0 |
| Command: /home/biocbuild/bbs-3.16-bioc/R/bin/R CMD INSTALL gaga |
| StartedAt: 2023-04-10 15:10:14 -0400 (Mon, 10 Apr 2023) |
| EndedAt: 2023-04-10 15:10:27 -0400 (Mon, 10 Apr 2023) |
| EllapsedTime: 13.8 seconds |
| RetCode: 0 |
| Status: OK |
##############################################################################
##############################################################################
###
### Running command:
###
### /home/biocbuild/bbs-3.16-bioc/R/bin/R CMD INSTALL gaga
###
##############################################################################
##############################################################################
* installing to library ‘/home/biocbuild/bbs-3.16-bioc/R/site-library’
* installing *source* package ‘gaga’ ...
** using staged installation
** libs
gcc -I"/home/biocbuild/bbs-3.16-bioc/R/include" -DNDEBUG -I/usr/local/include -fpic -g -O2 -Wall -c cseqdesma.c -o cseqdesma.o
gcc -I"/home/biocbuild/bbs-3.16-bioc/R/include" -DNDEBUG -I/usr/local/include -fpic -g -O2 -Wall -c cstat.c -o cstat.o
cstat.c:22:19: warning: ‘css_c_sccs_id’ defined but not used [-Wunused-const-variable=]
22 | static const char css_c_sccs_id[] = "@(#)$Workfile: rand.c$ $Revision: 5$";
| ^~~~~~~~~~~~~
cstat.c:21:19: warning: ‘vector_c_sccs_id’ defined but not used [-Wunused-const-variable=]
21 | static const char vector_c_sccs_id[] = "%W%";
| ^~~~~~~~~~~~~~~~
cstat.c:20:19: warning: ‘nrutil_c_sccs_id’ defined but not used [-Wunused-const-variable=]
20 | static const char nrutil_c_sccs_id[] = "%W%";
| ^~~~~~~~~~~~~~~~
cstat.c:19:19: warning: ‘mess_c_sccs_id’ defined but not used [-Wunused-const-variable=]
19 | static const char mess_c_sccs_id[] = "%W%";
| ^~~~~~~~~~~~~~
cstat.c:18:19: warning: ‘interface_c_sccs_id’ defined but not used [-Wunused-const-variable=]
18 | static const char interface_c_sccs_id[] = "%W%";
| ^~~~~~~~~~~~~~~~~~~
gcc -shared -L/home/biocbuild/bbs-3.16-bioc/R/lib -L/usr/local/lib -o gaga.so cseqdesma.o cstat.o -L/home/biocbuild/bbs-3.16-bioc/R/lib -lR
installing to /home/biocbuild/bbs-3.16-bioc/R/site-library/00LOCK-gaga/00new/gaga/libs
** R
** inst
** byte-compile and prepare package for lazy loading
** help
*** installing help indices
** building package indices
** installing vignettes
** testing if installed package can be loaded from temporary location
** checking absolute paths in shared objects and dynamic libraries
** testing if installed package can be loaded from final location
** testing if installed package keeps a record of temporary installation path
* DONE (gaga)